BEGIN:VCALENDAR
VERSION:2.0
PRODID:-//Emmanuel Presbyterian Church - ECPv6.15.20//NONSGML v1.0//EN
CALSCALE:GREGORIAN
METHOD:PUBLISH
X-WR-CALNAME:Emmanuel Presbyterian Church
X-ORIGINAL-URL:https://emmanuelthousandoaks.org
X-WR-CALDESC:Events for Emmanuel Presbyterian Church
REFRESH-INTERVAL;VALUE=DURATION:PT1H
X-Robots-Tag:noindex
X-PUBLISHED-TTL:PT1H
BEGIN:VTIMEZONE
TZID:America/Los_Angeles
BEGIN:DAYLIGHT
TZOFFSETFROM:-0800
TZOFFSETTO:-0700
TZNAME:PDT
DTSTART:20220313T100000
END:DAYLIGHT
BEGIN:STANDARD
TZOFFSETFROM:-0700
TZOFFSETTO:-0800
TZNAME:PST
DTSTART:20221106T090000
END:STANDARD
BEGIN:DAYLIGHT
TZOFFSETFROM:-0800
TZOFFSETTO:-0700
TZNAME:PDT
DTSTART:20230312T100000
END:DAYLIGHT
BEGIN:STANDARD
TZOFFSETFROM:-0700
TZOFFSETTO:-0800
TZNAME:PST
DTSTART:20231105T090000
END:STANDARD
BEGIN:DAYLIGHT
TZOFFSETFROM:-0800
TZOFFSETTO:-0700
TZNAME:PDT
DTSTART:20240310T100000
END:DAYLIGHT
BEGIN:STANDARD
TZOFFSETFROM:-0700
TZOFFSETTO:-0800
TZNAME:PST
DTSTART:20241103T090000
END:STANDARD
END:VTIMEZONE
BEGIN:VEVENT
DTSTART;TZID=America/Los_Angeles:20230604T100000
DTEND;TZID=America/Los_Angeles:20230604T110000
DTSTAMP:20260425T105433
CREATED:20230212T061321Z
LAST-MODIFIED:20250722T204006Z
UID:10003263-1685872800-1685876400@emmanuelthousandoaks.org
SUMMARY:Worship
DESCRIPTION:Worship in the Sanctuary begins at 10am. \nLivestream available here: Emmanuel Live Stream\nNEW! Access the Online Church Bulletin \nLink to our Online Giving Page
URL:https://emmanuelthousandoaks.org/event/worship/2023-06-04/
LOCATION:Sanctuary\, 538 Camino Manzanas\, Thousand Oaks\, CA\, 91360
CATEGORIES:Adult
ATTACH;FMTTYPE=image/jpeg:https://emmanuelthousandoaks.org/wp-content/uploads/2023/02/Emmanuel-line-drawing-1280-x-720.jpg
ORGANIZER;CN="David Anderson":MAILTO:david@emmanuelto.org
GEO:34.199062;-118.8898478
X-APPLE-STRUCTURED-LOCATION;VALUE=URI;X-ADDRESS=Sanctuary 538 Camino Manzanas Thousand Oaks CA 91360;X-APPLE-RADIUS=500;X-TITLE=538 Camino Manzanas:geo:-118.8898478,34.199062
END:VEVENT
BEGIN:VEVENT
DTSTART;TZID=America/Los_Angeles:20230609T183000
DTEND;TZID=America/Los_Angeles:20230609T210000
DTSTAMP:20260425T105433
CREATED:20230605T011343Z
LAST-MODIFIED:20230605T011343Z
UID:10003322-1686335400-1686344400@emmanuelthousandoaks.org
SUMMARY:Picnic and Men's Softball
DESCRIPTION:Our Men’s Softball team plays on Friday nights. We play at Borchard Park in Newbury Park\, sometimes we win. \nThis Friday Come out and watch\, bring the kids\, bring some dinner – yell\, laugh\, taunt – all those things you love about softball.
URL:https://emmanuelthousandoaks.org/event/picnic-and-mens-softball/
LOCATION:Borchard Park\, 190 Reino Road\, Newbury Park\, CA\, 91320\, United States
CATEGORIES:Adult
GEO:34.1808736;-118.9516915
X-APPLE-STRUCTURED-LOCATION;VALUE=URI;X-ADDRESS=Borchard Park 190 Reino Road Newbury Park CA 91320 United States;X-APPLE-RADIUS=500;X-TITLE=190 Reino Road:geo:-118.9516915,34.1808736
END:VEVENT
BEGIN:VEVENT
DTSTART;TZID=America/Los_Angeles:20230611T100000
DTEND;TZID=America/Los_Angeles:20230611T110000
DTSTAMP:20260425T105433
CREATED:20230212T061321Z
LAST-MODIFIED:20250722T204006Z
UID:10003264-1686477600-1686481200@emmanuelthousandoaks.org
SUMMARY:Worship
DESCRIPTION:Worship in the Sanctuary begins at 10am. \nLivestream available here: Emmanuel Live Stream\nNEW! Access the Online Church Bulletin \nLink to our Online Giving Page
URL:https://emmanuelthousandoaks.org/event/worship/2023-06-11/
LOCATION:Sanctuary\, 538 Camino Manzanas\, Thousand Oaks\, CA\, 91360
CATEGORIES:Adult
ATTACH;FMTTYPE=image/jpeg:https://emmanuelthousandoaks.org/wp-content/uploads/2023/02/Emmanuel-line-drawing-1280-x-720.jpg
ORGANIZER;CN="David Anderson":MAILTO:david@emmanuelto.org
GEO:34.199062;-118.8898478
X-APPLE-STRUCTURED-LOCATION;VALUE=URI;X-ADDRESS=Sanctuary 538 Camino Manzanas Thousand Oaks CA 91360;X-APPLE-RADIUS=500;X-TITLE=538 Camino Manzanas:geo:-118.8898478,34.199062
END:VEVENT
BEGIN:VEVENT
DTSTART;TZID=America/Los_Angeles:20230617T170000
DTEND;TZID=America/Los_Angeles:20230617T200000
DTSTAMP:20260425T105433
CREATED:20230611T062300Z
LAST-MODIFIED:20230611T062432Z
UID:10003325-1687021200-1687032000@emmanuelthousandoaks.org
SUMMARY:Family Picnic
DESCRIPTION:This Saturday at Oakbrook Park 2787 Erbes Road\, Thousand Oaks\, CA 91362. \nThis is a bring your own picnic\, supplies\, chairs\, etc.
URL:https://emmanuelthousandoaks.org/event/family-picnic/
LOCATION:Oakbrook Park\, 2787 Erbes Road\, 91362\, Thousand Oaks\, CA\, 91362\, United States
CATEGORIES:Adult
GEO:34.2166704;-118.8428135
X-APPLE-STRUCTURED-LOCATION;VALUE=URI;X-ADDRESS=Oakbrook Park 2787 Erbes Road 91362 Thousand Oaks CA 91362 United States;X-APPLE-RADIUS=500;X-TITLE=2787 Erbes Road\, 91362:geo:-118.8428135,34.2166704
END:VEVENT
BEGIN:VEVENT
DTSTART;TZID=America/Los_Angeles:20230618T100000
DTEND;TZID=America/Los_Angeles:20230618T110000
DTSTAMP:20260425T105433
CREATED:20230212T061321Z
LAST-MODIFIED:20250722T204006Z
UID:10003265-1687082400-1687086000@emmanuelthousandoaks.org
SUMMARY:Worship
DESCRIPTION:Worship in the Sanctuary begins at 10am. \nLivestream available here: Emmanuel Live Stream\nNEW! Access the Online Church Bulletin \nLink to our Online Giving Page
URL:https://emmanuelthousandoaks.org/event/worship/2023-06-18/
LOCATION:Sanctuary\, 538 Camino Manzanas\, Thousand Oaks\, CA\, 91360
CATEGORIES:Adult
ATTACH;FMTTYPE=image/jpeg:https://emmanuelthousandoaks.org/wp-content/uploads/2023/02/Emmanuel-line-drawing-1280-x-720.jpg
ORGANIZER;CN="David Anderson":MAILTO:david@emmanuelto.org
GEO:34.199062;-118.8898478
X-APPLE-STRUCTURED-LOCATION;VALUE=URI;X-ADDRESS=Sanctuary 538 Camino Manzanas Thousand Oaks CA 91360;X-APPLE-RADIUS=500;X-TITLE=538 Camino Manzanas:geo:-118.8898478,34.199062
END:VEVENT
BEGIN:VEVENT
DTSTART;TZID=America/Los_Angeles:20230625T100000
DTEND;TZID=America/Los_Angeles:20230625T110000
DTSTAMP:20260425T105433
CREATED:20230212T061321Z
LAST-MODIFIED:20250722T204006Z
UID:10003266-1687687200-1687690800@emmanuelthousandoaks.org
SUMMARY:Worship
DESCRIPTION:Worship in the Sanctuary begins at 10am. \nLivestream available here: Emmanuel Live Stream\nNEW! Access the Online Church Bulletin \nLink to our Online Giving Page
URL:https://emmanuelthousandoaks.org/event/worship/2023-06-25/
LOCATION:Sanctuary\, 538 Camino Manzanas\, Thousand Oaks\, CA\, 91360
CATEGORIES:Adult
ATTACH;FMTTYPE=image/jpeg:https://emmanuelthousandoaks.org/wp-content/uploads/2023/02/Emmanuel-line-drawing-1280-x-720.jpg
ORGANIZER;CN="David Anderson":MAILTO:david@emmanuelto.org
GEO:34.199062;-118.8898478
X-APPLE-STRUCTURED-LOCATION;VALUE=URI;X-ADDRESS=Sanctuary 538 Camino Manzanas Thousand Oaks CA 91360;X-APPLE-RADIUS=500;X-TITLE=538 Camino Manzanas:geo:-118.8898478,34.199062
END:VEVENT
END:VCALENDAR