BEGIN:VCALENDAR
VERSION:2.0
PRODID:-//Emmanuel Presbyterian Church - ECPv6.15.20//NONSGML v1.0//EN
CALSCALE:GREGORIAN
METHOD:PUBLISH
X-ORIGINAL-URL:https://emmanuelthousandoaks.org
X-WR-CALDESC:Events for Emmanuel Presbyterian Church
REFRESH-INTERVAL;VALUE=DURATION:PT1H
X-Robots-Tag:noindex
X-PUBLISHED-TTL:PT1H
BEGIN:VTIMEZONE
TZID:America/Los_Angeles
BEGIN:DAYLIGHT
TZOFFSETFROM:-0800
TZOFFSETTO:-0700
TZNAME:PDT
DTSTART:20230312T100000
END:DAYLIGHT
BEGIN:STANDARD
TZOFFSETFROM:-0700
TZOFFSETTO:-0800
TZNAME:PST
DTSTART:20231105T090000
END:STANDARD
BEGIN:DAYLIGHT
TZOFFSETFROM:-0800
TZOFFSETTO:-0700
TZNAME:PDT
DTSTART:20240310T100000
END:DAYLIGHT
BEGIN:STANDARD
TZOFFSETFROM:-0700
TZOFFSETTO:-0800
TZNAME:PST
DTSTART:20241103T090000
END:STANDARD
BEGIN:DAYLIGHT
TZOFFSETFROM:-0800
TZOFFSETTO:-0700
TZNAME:PDT
DTSTART:20250309T100000
END:DAYLIGHT
BEGIN:STANDARD
TZOFFSETFROM:-0700
TZOFFSETTO:-0800
TZNAME:PST
DTSTART:20251102T090000
END:STANDARD
END:VTIMEZONE
BEGIN:VEVENT
DTSTART;TZID=America/Los_Angeles:20240303T100000
DTEND;TZID=America/Los_Angeles:20240303T110000
DTSTAMP:20260424T184218
CREATED:20230212T061321Z
LAST-MODIFIED:20250722T204006Z
UID:10003302-1709460000-1709463600@emmanuelthousandoaks.org
SUMMARY:Worship
DESCRIPTION:Worship in the Sanctuary begins at 10am. \nLivestream available here: Emmanuel Live Stream\nNEW! Access the Online Church Bulletin \nLink to our Online Giving Page
URL:https://emmanuelthousandoaks.org/event/worship/2024-03-03/
LOCATION:Sanctuary\, 538 Camino Manzanas\, Thousand Oaks\, CA\, 91360
CATEGORIES:Adult
ATTACH;FMTTYPE=image/jpeg:https://emmanuelthousandoaks.org/wp-content/uploads/2023/02/Emmanuel-line-drawing-1280-x-720.jpg
ORGANIZER;CN="David Anderson":MAILTO:david@emmanuelto.org
GEO:34.199062;-118.8898478
X-APPLE-STRUCTURED-LOCATION;VALUE=URI;X-ADDRESS=Sanctuary 538 Camino Manzanas Thousand Oaks CA 91360;X-APPLE-RADIUS=500;X-TITLE=538 Camino Manzanas:geo:-118.8898478,34.199062
END:VEVENT
BEGIN:VEVENT
DTSTART;TZID=America/Los_Angeles:20240303T180000
DTEND;TZID=America/Los_Angeles:20240303T190000
DTSTAMP:20260424T184218
CREATED:20240201T213659Z
LAST-MODIFIED:20240201T213659Z
UID:10003983-1709488800-1709492400@emmanuelthousandoaks.org
SUMMARY:Lenten Pilgrimage
DESCRIPTION:Feb 18 – March 24  – 6:00pm Sanctuary \nIt is a startling idea that the disciples\, upon being invited to follow this completely unknown stranger\, walked away from their lives with reckless abandon. Imagine if someone asked that of you today. \nDavid will be leading a 6 week class each Sunday night starting on February 18th and ending March 24th. Classes begin at 6pm in the sanctuary. There is no fee and no registration required. Our time together will include watching short videos from various theologians who reveal aspects of Jesus that shake us up\, invite us to journey\, and enliven our faith. We will then discuss\, asks questions\, and share with one another. \nTheologians we will hear from: Father Gregory Boyle\, Nadia-Bolz Weber\, Thomas Merton\, Emmanuel Katongole\, Brene Brown\, Rowan Williams\, Richard Rohr\, and Rachel Held Evans
URL:https://emmanuelthousandoaks.org/event/lenten-pilgrimage/2024-03-03/
LOCATION:Sanctuary\, 538 Camino Manzanas\, Thousand Oaks\, CA\, 91360
CATEGORIES:Adult
ATTACH;FMTTYPE=image/png:https://emmanuelthousandoaks.org/wp-content/uploads/2024/02/Lenten-Pilgrimage.png
ORGANIZER;CN="David Anderson":MAILTO:david@emmanuelto.org
GEO:34.199062;-118.8898478
X-APPLE-STRUCTURED-LOCATION;VALUE=URI;X-ADDRESS=Sanctuary 538 Camino Manzanas Thousand Oaks CA 91360;X-APPLE-RADIUS=500;X-TITLE=538 Camino Manzanas:geo:-118.8898478,34.199062
END:VEVENT
BEGIN:VEVENT
DTSTART;TZID=America/Los_Angeles:20240310T100000
DTEND;TZID=America/Los_Angeles:20240310T110000
DTSTAMP:20260424T184218
CREATED:20230212T061321Z
LAST-MODIFIED:20250722T204006Z
UID:10003303-1710064800-1710068400@emmanuelthousandoaks.org
SUMMARY:Worship
DESCRIPTION:Worship in the Sanctuary begins at 10am. \nLivestream available here: Emmanuel Live Stream\nNEW! Access the Online Church Bulletin \nLink to our Online Giving Page
URL:https://emmanuelthousandoaks.org/event/worship/2024-03-10/
LOCATION:Sanctuary\, 538 Camino Manzanas\, Thousand Oaks\, CA\, 91360
CATEGORIES:Adult
ATTACH;FMTTYPE=image/jpeg:https://emmanuelthousandoaks.org/wp-content/uploads/2023/02/Emmanuel-line-drawing-1280-x-720.jpg
ORGANIZER;CN="David Anderson":MAILTO:david@emmanuelto.org
GEO:34.199062;-118.8898478
X-APPLE-STRUCTURED-LOCATION;VALUE=URI;X-ADDRESS=Sanctuary 538 Camino Manzanas Thousand Oaks CA 91360;X-APPLE-RADIUS=500;X-TITLE=538 Camino Manzanas:geo:-118.8898478,34.199062
END:VEVENT
BEGIN:VEVENT
DTSTART;TZID=America/Los_Angeles:20240310T180000
DTEND;TZID=America/Los_Angeles:20240310T190000
DTSTAMP:20260424T184218
CREATED:20240201T213659Z
LAST-MODIFIED:20240201T213659Z
UID:10003984-1710093600-1710097200@emmanuelthousandoaks.org
SUMMARY:Lenten Pilgrimage
DESCRIPTION:Feb 18 – March 24  – 6:00pm Sanctuary \nIt is a startling idea that the disciples\, upon being invited to follow this completely unknown stranger\, walked away from their lives with reckless abandon. Imagine if someone asked that of you today. \nDavid will be leading a 6 week class each Sunday night starting on February 18th and ending March 24th. Classes begin at 6pm in the sanctuary. There is no fee and no registration required. Our time together will include watching short videos from various theologians who reveal aspects of Jesus that shake us up\, invite us to journey\, and enliven our faith. We will then discuss\, asks questions\, and share with one another. \nTheologians we will hear from: Father Gregory Boyle\, Nadia-Bolz Weber\, Thomas Merton\, Emmanuel Katongole\, Brene Brown\, Rowan Williams\, Richard Rohr\, and Rachel Held Evans
URL:https://emmanuelthousandoaks.org/event/lenten-pilgrimage/2024-03-10/
LOCATION:Sanctuary\, 538 Camino Manzanas\, Thousand Oaks\, CA\, 91360
CATEGORIES:Adult
ATTACH;FMTTYPE=image/png:https://emmanuelthousandoaks.org/wp-content/uploads/2024/02/Lenten-Pilgrimage.png
ORGANIZER;CN="David Anderson":MAILTO:david@emmanuelto.org
GEO:34.199062;-118.8898478
X-APPLE-STRUCTURED-LOCATION;VALUE=URI;X-ADDRESS=Sanctuary 538 Camino Manzanas Thousand Oaks CA 91360;X-APPLE-RADIUS=500;X-TITLE=538 Camino Manzanas:geo:-118.8898478,34.199062
END:VEVENT
BEGIN:VEVENT
DTSTART;TZID=America/Los_Angeles:20240317T100000
DTEND;TZID=America/Los_Angeles:20240317T110000
DTSTAMP:20260424T184218
CREATED:20230212T061321Z
LAST-MODIFIED:20250722T204006Z
UID:10003726-1710669600-1710673200@emmanuelthousandoaks.org
SUMMARY:Worship
DESCRIPTION:Worship in the Sanctuary begins at 10am. \nLivestream available here: Emmanuel Live Stream\nNEW! Access the Online Church Bulletin \nLink to our Online Giving Page
URL:https://emmanuelthousandoaks.org/event/worship/2024-03-17/
LOCATION:Sanctuary\, 538 Camino Manzanas\, Thousand Oaks\, CA\, 91360
CATEGORIES:Adult
ATTACH;FMTTYPE=image/jpeg:https://emmanuelthousandoaks.org/wp-content/uploads/2023/02/Emmanuel-line-drawing-1280-x-720.jpg
ORGANIZER;CN="David Anderson":MAILTO:david@emmanuelto.org
GEO:34.199062;-118.8898478
X-APPLE-STRUCTURED-LOCATION;VALUE=URI;X-ADDRESS=Sanctuary 538 Camino Manzanas Thousand Oaks CA 91360;X-APPLE-RADIUS=500;X-TITLE=538 Camino Manzanas:geo:-118.8898478,34.199062
END:VEVENT
BEGIN:VEVENT
DTSTART;TZID=America/Los_Angeles:20240317T180000
DTEND;TZID=America/Los_Angeles:20240317T190000
DTSTAMP:20260424T184218
CREATED:20240201T213659Z
LAST-MODIFIED:20240201T213659Z
UID:10003985-1710698400-1710702000@emmanuelthousandoaks.org
SUMMARY:Lenten Pilgrimage
DESCRIPTION:Feb 18 – March 24  – 6:00pm Sanctuary \nIt is a startling idea that the disciples\, upon being invited to follow this completely unknown stranger\, walked away from their lives with reckless abandon. Imagine if someone asked that of you today. \nDavid will be leading a 6 week class each Sunday night starting on February 18th and ending March 24th. Classes begin at 6pm in the sanctuary. There is no fee and no registration required. Our time together will include watching short videos from various theologians who reveal aspects of Jesus that shake us up\, invite us to journey\, and enliven our faith. We will then discuss\, asks questions\, and share with one another. \nTheologians we will hear from: Father Gregory Boyle\, Nadia-Bolz Weber\, Thomas Merton\, Emmanuel Katongole\, Brene Brown\, Rowan Williams\, Richard Rohr\, and Rachel Held Evans
URL:https://emmanuelthousandoaks.org/event/lenten-pilgrimage/2024-03-17/
LOCATION:Sanctuary\, 538 Camino Manzanas\, Thousand Oaks\, CA\, 91360
CATEGORIES:Adult
ATTACH;FMTTYPE=image/png:https://emmanuelthousandoaks.org/wp-content/uploads/2024/02/Lenten-Pilgrimage.png
ORGANIZER;CN="David Anderson":MAILTO:david@emmanuelto.org
GEO:34.199062;-118.8898478
X-APPLE-STRUCTURED-LOCATION;VALUE=URI;X-ADDRESS=Sanctuary 538 Camino Manzanas Thousand Oaks CA 91360;X-APPLE-RADIUS=500;X-TITLE=538 Camino Manzanas:geo:-118.8898478,34.199062
END:VEVENT
BEGIN:VEVENT
DTSTART;TZID=America/Los_Angeles:20240320T083000
DTEND;TZID=America/Los_Angeles:20240320T123000
DTSTAMP:20260424T184218
CREATED:20240314T204556Z
LAST-MODIFIED:20240314T204556Z
UID:10003990-1710923400-1710937800@emmanuelthousandoaks.org
SUMMARY:Play Days!
DESCRIPTION:Play Days!\nGet together with other parents for coffee and conversation while your kids play. \n  \nWednesday Mornings from 8:30am to Noon the Nursery and Play Area are available to hang out. We have a lovely brand new couch and Nespresso machine  for your enjoyment. Best of all are the people! Come and hang out.
URL:https://emmanuelthousandoaks.org/event/play-days/2024-03-20/
LOCATION:Nursery & Playground Area\, 583 Camino Manzanas\, Thousand Oaks\, CA\, 93160\, United States
CATEGORIES:Adult,Early Childhood
ATTACH;FMTTYPE=image/png:https://emmanuelthousandoaks.org/wp-content/uploads/2024/03/Play-Days-1.png
ORGANIZER;CN="Debbie Barber":MAILTO:debbie@emmanuelto.org
GEO:34.1992874;-118.8908597
X-APPLE-STRUCTURED-LOCATION;VALUE=URI;X-ADDRESS=Nursery & Playground Area 583 Camino Manzanas Thousand Oaks CA 93160 United States;X-APPLE-RADIUS=500;X-TITLE=583 Camino Manzanas:geo:-118.8908597,34.1992874
END:VEVENT
BEGIN:VEVENT
DTSTART;TZID=America/Los_Angeles:20240324T100000
DTEND;TZID=America/Los_Angeles:20240324T110000
DTSTAMP:20260424T184218
CREATED:20230212T061321Z
LAST-MODIFIED:20250722T204006Z
UID:10003727-1711274400-1711278000@emmanuelthousandoaks.org
SUMMARY:Worship
DESCRIPTION:Worship in the Sanctuary begins at 10am. \nLivestream available here: Emmanuel Live Stream\nNEW! Access the Online Church Bulletin \nLink to our Online Giving Page
URL:https://emmanuelthousandoaks.org/event/worship/2024-03-24/
LOCATION:Sanctuary\, 538 Camino Manzanas\, Thousand Oaks\, CA\, 91360
CATEGORIES:Adult
ATTACH;FMTTYPE=image/jpeg:https://emmanuelthousandoaks.org/wp-content/uploads/2023/02/Emmanuel-line-drawing-1280-x-720.jpg
ORGANIZER;CN="David Anderson":MAILTO:david@emmanuelto.org
GEO:34.199062;-118.8898478
X-APPLE-STRUCTURED-LOCATION;VALUE=URI;X-ADDRESS=Sanctuary 538 Camino Manzanas Thousand Oaks CA 91360;X-APPLE-RADIUS=500;X-TITLE=538 Camino Manzanas:geo:-118.8898478,34.199062
END:VEVENT
BEGIN:VEVENT
DTSTART;TZID=America/Los_Angeles:20240324T180000
DTEND;TZID=America/Los_Angeles:20240324T190000
DTSTAMP:20260424T184218
CREATED:20240201T213659Z
LAST-MODIFIED:20240201T213659Z
UID:10003986-1711303200-1711306800@emmanuelthousandoaks.org
SUMMARY:Lenten Pilgrimage
DESCRIPTION:Feb 18 – March 24  – 6:00pm Sanctuary \nIt is a startling idea that the disciples\, upon being invited to follow this completely unknown stranger\, walked away from their lives with reckless abandon. Imagine if someone asked that of you today. \nDavid will be leading a 6 week class each Sunday night starting on February 18th and ending March 24th. Classes begin at 6pm in the sanctuary. There is no fee and no registration required. Our time together will include watching short videos from various theologians who reveal aspects of Jesus that shake us up\, invite us to journey\, and enliven our faith. We will then discuss\, asks questions\, and share with one another. \nTheologians we will hear from: Father Gregory Boyle\, Nadia-Bolz Weber\, Thomas Merton\, Emmanuel Katongole\, Brene Brown\, Rowan Williams\, Richard Rohr\, and Rachel Held Evans
URL:https://emmanuelthousandoaks.org/event/lenten-pilgrimage/2024-03-24/
LOCATION:Sanctuary\, 538 Camino Manzanas\, Thousand Oaks\, CA\, 91360
CATEGORIES:Adult
ATTACH;FMTTYPE=image/png:https://emmanuelthousandoaks.org/wp-content/uploads/2024/02/Lenten-Pilgrimage.png
ORGANIZER;CN="David Anderson":MAILTO:david@emmanuelto.org
GEO:34.199062;-118.8898478
X-APPLE-STRUCTURED-LOCATION;VALUE=URI;X-ADDRESS=Sanctuary 538 Camino Manzanas Thousand Oaks CA 91360;X-APPLE-RADIUS=500;X-TITLE=538 Camino Manzanas:geo:-118.8898478,34.199062
END:VEVENT
BEGIN:VEVENT
DTSTART;TZID=America/Los_Angeles:20240327T083000
DTEND;TZID=America/Los_Angeles:20240327T123000
DTSTAMP:20260424T184218
CREATED:20240314T204556Z
LAST-MODIFIED:20240314T204556Z
UID:10003991-1711528200-1711542600@emmanuelthousandoaks.org
SUMMARY:Play Days!
DESCRIPTION:Play Days!\nGet together with other parents for coffee and conversation while your kids play. \n  \nWednesday Mornings from 8:30am to Noon the Nursery and Play Area are available to hang out. We have a lovely brand new couch and Nespresso machine  for your enjoyment. Best of all are the people! Come and hang out.
URL:https://emmanuelthousandoaks.org/event/play-days/2024-03-27/
LOCATION:Nursery & Playground Area\, 583 Camino Manzanas\, Thousand Oaks\, CA\, 93160\, United States
CATEGORIES:Adult,Early Childhood
ATTACH;FMTTYPE=image/png:https://emmanuelthousandoaks.org/wp-content/uploads/2024/03/Play-Days-1.png
ORGANIZER;CN="Debbie Barber":MAILTO:debbie@emmanuelto.org
GEO:34.1992874;-118.8908597
X-APPLE-STRUCTURED-LOCATION;VALUE=URI;X-ADDRESS=Nursery & Playground Area 583 Camino Manzanas Thousand Oaks CA 93160 United States;X-APPLE-RADIUS=500;X-TITLE=583 Camino Manzanas:geo:-118.8908597,34.1992874
END:VEVENT
BEGIN:VEVENT
DTSTART;TZID=America/Los_Angeles:20240331T100000
DTEND;TZID=America/Los_Angeles:20240331T110000
DTSTAMP:20260424T184218
CREATED:20230212T061321Z
LAST-MODIFIED:20250722T204006Z
UID:10003728-1711879200-1711882800@emmanuelthousandoaks.org
SUMMARY:Worship
DESCRIPTION:Worship in the Sanctuary begins at 10am. \nLivestream available here: Emmanuel Live Stream\nNEW! Access the Online Church Bulletin \nLink to our Online Giving Page
URL:https://emmanuelthousandoaks.org/event/worship/2024-03-31/
LOCATION:Sanctuary\, 538 Camino Manzanas\, Thousand Oaks\, CA\, 91360
CATEGORIES:Adult
ATTACH;FMTTYPE=image/jpeg:https://emmanuelthousandoaks.org/wp-content/uploads/2023/02/Emmanuel-line-drawing-1280-x-720.jpg
ORGANIZER;CN="David Anderson":MAILTO:david@emmanuelto.org
GEO:34.199062;-118.8898478
X-APPLE-STRUCTURED-LOCATION;VALUE=URI;X-ADDRESS=Sanctuary 538 Camino Manzanas Thousand Oaks CA 91360;X-APPLE-RADIUS=500;X-TITLE=538 Camino Manzanas:geo:-118.8898478,34.199062
END:VEVENT
BEGIN:VEVENT
DTSTART;TZID=America/Los_Angeles:20240331T110000
DTEND;TZID=America/Los_Angeles:20240331T123000
DTSTAMP:20260424T184218
CREATED:20240220T205331Z
LAST-MODIFIED:20240328T032346Z
UID:10003989-1711882800-1711888200@emmanuelthousandoaks.org
SUMMARY:Easter Carnival
DESCRIPTION:The Threat of Rain is causing us to postpone this event until April 7 \nImmediately after the service we will have a carnival on our front lawn. There will be snacks\, games\, a petting zoo\, and joy. Be on the lookout as Debbie Barber\, our Director of Children and Family Ministry\, looks for help pulling off this wonderful event.
URL:https://emmanuelthousandoaks.org/event/easter-carnival/
LOCATION:Sanctuary Lawn
CATEGORIES:Adult,Early Childhood,Elementary,Youth
ATTACH;FMTTYPE=image/png:https://emmanuelthousandoaks.org/wp-content/uploads/2024/02/Carnival-Postponed.png
ORGANIZER;CN="Debbie Barber":MAILTO:debbie@emmanuelto.org
END:VEVENT
END:VCALENDAR