BEGIN:VCALENDAR
VERSION:2.0
PRODID:-//Emmanuel Presbyterian Church - ECPv6.15.20//NONSGML v1.0//EN
CALSCALE:GREGORIAN
METHOD:PUBLISH
X-WR-CALNAME:Emmanuel Presbyterian Church
X-ORIGINAL-URL:https://emmanuelthousandoaks.org
X-WR-CALDESC:Events for Emmanuel Presbyterian Church
REFRESH-INTERVAL;VALUE=DURATION:PT1H
X-Robots-Tag:noindex
X-PUBLISHED-TTL:PT1H
BEGIN:VTIMEZONE
TZID:America/Los_Angeles
BEGIN:DAYLIGHT
TZOFFSETFROM:-0800
TZOFFSETTO:-0700
TZNAME:PDT
DTSTART:20220313T100000
END:DAYLIGHT
BEGIN:STANDARD
TZOFFSETFROM:-0700
TZOFFSETTO:-0800
TZNAME:PST
DTSTART:20221106T090000
END:STANDARD
BEGIN:DAYLIGHT
TZOFFSETFROM:-0800
TZOFFSETTO:-0700
TZNAME:PDT
DTSTART:20230312T100000
END:DAYLIGHT
BEGIN:STANDARD
TZOFFSETFROM:-0700
TZOFFSETTO:-0800
TZNAME:PST
DTSTART:20231105T090000
END:STANDARD
BEGIN:DAYLIGHT
TZOFFSETFROM:-0800
TZOFFSETTO:-0700
TZNAME:PDT
DTSTART:20240310T100000
END:DAYLIGHT
BEGIN:STANDARD
TZOFFSETFROM:-0700
TZOFFSETTO:-0800
TZNAME:PST
DTSTART:20241103T090000
END:STANDARD
BEGIN:DAYLIGHT
TZOFFSETFROM:-0800
TZOFFSETTO:-0700
TZNAME:PDT
DTSTART:20250309T100000
END:DAYLIGHT
BEGIN:STANDARD
TZOFFSETFROM:-0700
TZOFFSETTO:-0800
TZNAME:PST
DTSTART:20251102T090000
END:STANDARD
END:VTIMEZONE
BEGIN:VEVENT
DTSTART;TZID=America/Los_Angeles:20241109T140000
DTEND;TZID=America/Los_Angeles:20241109T150000
DTSTAMP:20260423T014159
CREATED:20241108T012304Z
LAST-MODIFIED:20241108T012304Z
UID:10004376-1731160800-1731164400@emmanuelthousandoaks.org
SUMMARY:Mildred Kappen Memorial
DESCRIPTION:Memorial service for Mildred Kappen held at Emmanuel Presbyterian Church in Thousand Oaks on Saturday November 9\, 2024 at 2pm.
URL:https://emmanuelthousandoaks.org/event/mildred-kappen-memorial/
LOCATION:Sanctuary\, 538 Camino Manzanas\, Thousand Oaks\, CA\, 91360
CATEGORIES:Adult
ATTACH;FMTTYPE=image/png:https://emmanuelthousandoaks.org/wp-content/uploads/2024/11/Mildred-Kappen-Memorial.png
GEO:34.199062;-118.8898478
X-APPLE-STRUCTURED-LOCATION;VALUE=URI;X-ADDRESS=Sanctuary 538 Camino Manzanas Thousand Oaks CA 91360;X-APPLE-RADIUS=500;X-TITLE=538 Camino Manzanas:geo:-118.8898478,34.199062
END:VEVENT
BEGIN:VEVENT
DTSTART;TZID=America/Los_Angeles:20241012T090000
DTEND;TZID=America/Los_Angeles:20241012T123000
DTSTAMP:20260423T014159
CREATED:20241008T183920Z
LAST-MODIFIED:20241008T184611Z
UID:10004345-1728723600-1728736200@emmanuelthousandoaks.org
SUMMARY:Creation Care Conference
DESCRIPTION:Saturday October 12 from 9AM – 12:30PM at Glendale Presbyterian Church there is a conference hosted by the Presbytery of San Fernando (PCUSA) called “Creation Care: Nurturing the Nature that Nurtures Us.” \nNo RSVP is required but there is an EventBrite invitation here
URL:https://emmanuelthousandoaks.org/event/creation-care-conference/
LOCATION:Glendale Presbyterian Church\, South Louise Street\, Glendale\, CA\, 91205\, United States
CATEGORIES:Adult
ATTACH;FMTTYPE=image/png:https://emmanuelthousandoaks.org/wp-content/uploads/2024/10/Creation-Care.png
GEO:34.145338;-118.2529592
X-APPLE-STRUCTURED-LOCATION;VALUE=URI;X-ADDRESS=Glendale Presbyterian Church South Louise Street Glendale CA 91205 United States;X-APPLE-RADIUS=500;X-TITLE=South Louise Street:geo:-118.2529592,34.145338
END:VEVENT
BEGIN:VEVENT
DTSTART;TZID=America/Los_Angeles:20240928T110000
DTEND;TZID=America/Los_Angeles:20240928T150000
DTSTAMP:20260423T014159
CREATED:20231003T044149Z
LAST-MODIFIED:20240917T215339Z
UID:10003717-1727521200-1727535600@emmanuelthousandoaks.org
SUMMARY:Make 'm Smile
DESCRIPTION:Nathaniel’s Hope celebrates kids with special needs (our VIPs) as well as educates and equips communities and churches to provide FREE respite care and programs to enrich the lives of VIP families. Our programs are designed to provide hope and practical assistance to VIP kids of all ages and their families. They also give Buddies an opportunity to invest in the lives of VIPs!
URL:https://emmanuelthousandoaks.org/event/make-m-smile/
LOCATION:America’s Teaching Zoo Moorpark College\, 7075 Campus Rd\,\, Moorpark\, 93021\, United States
CATEGORIES:Adult,Early Childhood,Elementary
ATTACH;FMTTYPE=image/png:https://emmanuelthousandoaks.org/wp-content/uploads/2023/10/Buddy-Break-Make-em-Smile-2024.png
GEO:34.2996142;-118.8341914
X-APPLE-STRUCTURED-LOCATION;VALUE=URI;X-ADDRESS=America’s Teaching Zoo Moorpark College 7075 Campus Rd Moorpark 93021 United States;X-APPLE-RADIUS=500;X-TITLE=7075 Campus Rd\,:geo:-118.8341914,34.2996142
END:VEVENT
BEGIN:VEVENT
DTSTART;TZID=America/Los_Angeles:20240824T090000
DTEND;TZID=America/Los_Angeles:20240824T103000
DTSTAMP:20260423T014159
CREATED:20240731T184602Z
LAST-MODIFIED:20240731T184602Z
UID:10004330-1724490000-1724495400@emmanuelthousandoaks.org
SUMMARY:Art History Seminar
DESCRIPTION:Kelly Bagdanov will be teaching a 4 week seminar focused on works of art currently housed at the Norton Simon Museum in Pasadena culminating with a field trip to the Norton Simon on Sunday August 25. \nThere is no cost for the Seminar but you will incur a cost at the Norton Simon for entrance fees: $20 for adults\, $15 for Seniors (62+)\, Free for 18 and under.  More information will be shared during the seminar. \nSaturdays in August from 9am to 10:30am here at Emmanuel.
URL:https://emmanuelthousandoaks.org/event/art-history-seminar/2024-08-24/
LOCATION:Conference Room\, 538 Camino Manzanas\, Thousand Oaks\, CA
CATEGORIES:Adult
ATTACH;FMTTYPE=image/png:https://emmanuelthousandoaks.org/wp-content/uploads/2024/07/Art-History-Seminar.png
ORGANIZER;CN="Kelly Bagdanov":MAILTO:kbagdanov@gmail.com
GEO:34.199068;-118.8898509
X-APPLE-STRUCTURED-LOCATION;VALUE=URI;X-ADDRESS=Conference Room 538 Camino Manzanas Thousand Oaks CA;X-APPLE-RADIUS=500;X-TITLE=538 Camino Manzanas:geo:-118.8898509,34.199068
END:VEVENT
BEGIN:VEVENT
DTSTART;TZID=America/Los_Angeles:20240407T110000
DTEND;TZID=America/Los_Angeles:20240407T123000
DTSTAMP:20260423T014159
CREATED:20240328T015639Z
LAST-MODIFIED:20240328T032447Z
UID:10004251-1712487600-1712493000@emmanuelthousandoaks.org
SUMMARY:Week After Easter Carnival
DESCRIPTION:Normally this Carnival happens on Easter but this year Mother Nature intervened and the rain/threat of rain caused us to postpone. Join us today\, different day\, same fun. \nImmediately after the service we will have a carnival on our front lawn. There will be snacks\, games\, a petting zoo\, and joy. Be on the lookout as Debbie Barber\, our Director of Children and Family Ministry\, looks for help pulling off this wonderful event.
URL:https://emmanuelthousandoaks.org/event/easter-carnival-2/
LOCATION:Sanctuary Lawn
CATEGORIES:Adult,Early Childhood,Elementary,Youth
ATTACH;FMTTYPE=image/png:https://emmanuelthousandoaks.org/wp-content/uploads/2024/03/week-after-easter-carnival.png
ORGANIZER;CN="Debbie Barber":MAILTO:debbie@emmanuelto.org
END:VEVENT
BEGIN:VEVENT
DTSTART;TZID=America/Los_Angeles:20240331T110000
DTEND;TZID=America/Los_Angeles:20240331T123000
DTSTAMP:20260423T014159
CREATED:20240220T205331Z
LAST-MODIFIED:20240328T032346Z
UID:10003989-1711882800-1711888200@emmanuelthousandoaks.org
SUMMARY:Easter Carnival
DESCRIPTION:The Threat of Rain is causing us to postpone this event until April 7 \nImmediately after the service we will have a carnival on our front lawn. There will be snacks\, games\, a petting zoo\, and joy. Be on the lookout as Debbie Barber\, our Director of Children and Family Ministry\, looks for help pulling off this wonderful event.
URL:https://emmanuelthousandoaks.org/event/easter-carnival/
LOCATION:Sanctuary Lawn
CATEGORIES:Adult,Early Childhood,Elementary,Youth
ATTACH;FMTTYPE=image/png:https://emmanuelthousandoaks.org/wp-content/uploads/2024/02/Carnival-Postponed.png
ORGANIZER;CN="Debbie Barber":MAILTO:debbie@emmanuelto.org
END:VEVENT
BEGIN:VEVENT
DTSTART;TZID=America/Los_Angeles:20240324T180000
DTEND;TZID=America/Los_Angeles:20240324T190000
DTSTAMP:20260423T014159
CREATED:20240201T213659Z
LAST-MODIFIED:20240201T213659Z
UID:10003986-1711303200-1711306800@emmanuelthousandoaks.org
SUMMARY:Lenten Pilgrimage
DESCRIPTION:Feb 18 – March 24  – 6:00pm Sanctuary \nIt is a startling idea that the disciples\, upon being invited to follow this completely unknown stranger\, walked away from their lives with reckless abandon. Imagine if someone asked that of you today. \nDavid will be leading a 6 week class each Sunday night starting on February 18th and ending March 24th. Classes begin at 6pm in the sanctuary. There is no fee and no registration required. Our time together will include watching short videos from various theologians who reveal aspects of Jesus that shake us up\, invite us to journey\, and enliven our faith. We will then discuss\, asks questions\, and share with one another. \nTheologians we will hear from: Father Gregory Boyle\, Nadia-Bolz Weber\, Thomas Merton\, Emmanuel Katongole\, Brene Brown\, Rowan Williams\, Richard Rohr\, and Rachel Held Evans
URL:https://emmanuelthousandoaks.org/event/lenten-pilgrimage/2024-03-24/
LOCATION:Sanctuary\, 538 Camino Manzanas\, Thousand Oaks\, CA\, 91360
CATEGORIES:Adult
ATTACH;FMTTYPE=image/png:https://emmanuelthousandoaks.org/wp-content/uploads/2024/02/Lenten-Pilgrimage.png
ORGANIZER;CN="David Anderson":MAILTO:david@emmanuelto.org
GEO:34.199062;-118.8898478
X-APPLE-STRUCTURED-LOCATION;VALUE=URI;X-ADDRESS=Sanctuary 538 Camino Manzanas Thousand Oaks CA 91360;X-APPLE-RADIUS=500;X-TITLE=538 Camino Manzanas:geo:-118.8898478,34.199062
END:VEVENT
BEGIN:VEVENT
DTSTART;TZID=America/Los_Angeles:20240123T183000
DTEND;TZID=America/Los_Angeles:20240123T203000
DTSTAMP:20260423T014159
CREATED:20240123T012134Z
LAST-MODIFIED:20240123T012134Z
UID:10003724-1706034600-1706041800@emmanuelthousandoaks.org
SUMMARY:Joint Meeting of the Elders and Deacons
DESCRIPTION:This event celebrates the effort of outgoing elders and deacons and welcomes new elders and deacons. \nContact office/David/Steve for location
URL:https://emmanuelthousandoaks.org/event/joint-meeting-of-the-elders-and-deacons/
LOCATION:CA
CATEGORIES:Adult
ATTACH;FMTTYPE=image/png:https://emmanuelthousandoaks.org/wp-content/uploads/2024/01/Elders-Deacons-Event-sendoff.png
ORGANIZER;CN="David Anderson":MAILTO:david@emmanuelto.org
END:VEVENT
BEGIN:VEVENT
DTSTART;TZID=America/Los_Angeles:20231202T090000
DTEND;TZID=America/Los_Angeles:20231202T120000
DTSTAMP:20260423T014159
CREATED:20231125T054604Z
LAST-MODIFIED:20231125T054604Z
UID:10003720-1701507600-1701518400@emmanuelthousandoaks.org
SUMMARY:Deck the Halls
DESCRIPTION:Join us for the greening of the Sanctuary for Advent and Christmas season.\nSaturday December 2 at 9am.
URL:https://emmanuelthousandoaks.org/event/deck-the-halls/
LOCATION:Sanctuary\, 538 Camino Manzanas\, Thousand Oaks\, CA\, 91360
CATEGORIES:Adult,Youth
ORGANIZER;CN="Kelly Bagdanov":MAILTO:kbagdanov@gmail.com
GEO:34.199062;-118.8898478
X-APPLE-STRUCTURED-LOCATION;VALUE=URI;X-ADDRESS=Sanctuary 538 Camino Manzanas Thousand Oaks CA 91360;X-APPLE-RADIUS=500;X-TITLE=538 Camino Manzanas:geo:-118.8898478,34.199062
END:VEVENT
BEGIN:VEVENT
DTSTART;TZID=America/Los_Angeles:20231103T183000
DTEND;TZID=America/Los_Angeles:20231103T193000
DTSTAMP:20260423T014159
CREATED:20231102T230900Z
LAST-MODIFIED:20231102T230902Z
UID:10003318-1699036200-1699039800@emmanuelthousandoaks.org
SUMMARY:Men's Softball
DESCRIPTION:This is a Double-header with a game at 7:45 & 9pm. \nOur Men’s Softball team plays on Friday nights. We play at Borchard Park in Newbury Park\, sometimes we win. \nCome out and watch\, bring the kids\, bring some dinner – yell\, laugh\, taunt – all those things you love about softball.
URL:https://emmanuelthousandoaks.org/event/mens-softball-2/
LOCATION:Borchard Community Park Field #3\, 190 N. Reino Rd.\, Newbury Park\, CA\, 91320\, United States
CATEGORIES:Adult
ORGANIZER;CN="Steve Bagdanov":MAILTO:steve@stevebagdanov.com
GEO:34.1808736;-118.9516915
X-APPLE-STRUCTURED-LOCATION;VALUE=URI;X-ADDRESS=Borchard Community Park Field #3 190 N. Reino Rd. Newbury Park CA 91320 United States;X-APPLE-RADIUS=500;X-TITLE=190 N. Reino Rd.:geo:-118.9516915,34.1808736
END:VEVENT
BEGIN:VEVENT
DTSTART;TZID=America/Los_Angeles:20231029T180000
DTEND;TZID=America/Los_Angeles:20231029T190000
DTSTAMP:20260423T014159
CREATED:20231003T043233Z
LAST-MODIFIED:20231003T043309Z
UID:10003716-1698602400-1698606000@emmanuelthousandoaks.org
SUMMARY:The Prodigal Journey
DESCRIPTION:The last year has been full of challenging sermons and we have covered issues that may have raised questions. You have questions\, we want to talk them out. The journey of faith is not meant to be travelled alone and  we are creating a space to ask the questions and verbalize the challenges of this journey. Join Paul Needles and Steve Bagdanov as we grapple with the Big Words of the Bible and more. \nThis class starts October 8 and runs through October 29 at 6pm in the Fireside Room. You don’t need to sign up but you can do so here for our planning purposes:  Prodigal Journey Registration \nPaul is a true Renaissance Man who holds multiple degrees\, has taught in both academia and the church\, is a voracious reader and an experienced soul. Steve was a pastor for many years and has many opinions that Paul will make sure and rein in. We both are experienced travelers on the Way – join us for this time of conversation and exploration into the journey of faith.
URL:https://emmanuelthousandoaks.org/event/the-prodigal-journey/2023-10-29/
LOCATION:Fireside Room\, 588 Camino Manzanas\, Thousand Oaks\, CA\, 93160\, United States
CATEGORIES:Adult
ORGANIZER;CN="Steve Bagdanov":MAILTO:steve@stevebagdanov.com
GEO:34.1705609;-118.8375937
X-APPLE-STRUCTURED-LOCATION;VALUE=URI;X-ADDRESS=Fireside Room 588 Camino Manzanas Thousand Oaks CA 93160 United States;X-APPLE-RADIUS=500;X-TITLE=588 Camino Manzanas:geo:-118.8375937,34.1705609
END:VEVENT
BEGIN:VEVENT
DTSTART;TZID=America/Los_Angeles:20230914T190000
DTEND;TZID=America/Los_Angeles:20230914T210000
DTSTAMP:20260423T014159
CREATED:20230910T042932Z
LAST-MODIFIED:20230910T042932Z
UID:10003711-1694718000-1694725200@emmanuelthousandoaks.org
SUMMARY:Women's Night Out
DESCRIPTION:This month Women’s Night Out is at Enegren Brewing Company in Moorpark at 7pm. \nThis is a casual evening out with no agenda or plan – just hang out\, talk\, get to know someone new or refresh with an old friend. \nEnegren Brewing Company \n444 Zachary St # 120\, Moorpark\, CA 93021
URL:https://emmanuelthousandoaks.org/event/womens-night-out-3/
LOCATION:Enegren Brewing Company\, 444 Zachary St # 120\, Moorpark\, 93021\, United States
CATEGORIES:Adult
GEO:34.2831043;-118.8708156
X-APPLE-STRUCTURED-LOCATION;VALUE=URI;X-ADDRESS=Enegren Brewing Company 444 Zachary St # 120 Moorpark 93021 United States;X-APPLE-RADIUS=500;X-TITLE=444 Zachary St # 120:geo:-118.8708156,34.2831043
END:VEVENT
BEGIN:VEVENT
DTSTART;TZID=America/Los_Angeles:20230617T170000
DTEND;TZID=America/Los_Angeles:20230617T200000
DTSTAMP:20260423T014159
CREATED:20230611T062300Z
LAST-MODIFIED:20230611T062432Z
UID:10003325-1687021200-1687032000@emmanuelthousandoaks.org
SUMMARY:Family Picnic
DESCRIPTION:This Saturday at Oakbrook Park 2787 Erbes Road\, Thousand Oaks\, CA 91362. \nThis is a bring your own picnic\, supplies\, chairs\, etc.
URL:https://emmanuelthousandoaks.org/event/family-picnic/
LOCATION:Oakbrook Park\, 2787 Erbes Road\, 91362\, Thousand Oaks\, CA\, 91362\, United States
CATEGORIES:Adult
GEO:34.2166704;-118.8428135
X-APPLE-STRUCTURED-LOCATION;VALUE=URI;X-ADDRESS=Oakbrook Park 2787 Erbes Road 91362 Thousand Oaks CA 91362 United States;X-APPLE-RADIUS=500;X-TITLE=2787 Erbes Road\, 91362:geo:-118.8428135,34.2166704
END:VEVENT
BEGIN:VEVENT
DTSTART;TZID=America/Los_Angeles:20230609T183000
DTEND;TZID=America/Los_Angeles:20230609T210000
DTSTAMP:20260423T014159
CREATED:20230605T011343Z
LAST-MODIFIED:20230605T011343Z
UID:10003322-1686335400-1686344400@emmanuelthousandoaks.org
SUMMARY:Picnic and Men's Softball
DESCRIPTION:Our Men’s Softball team plays on Friday nights. We play at Borchard Park in Newbury Park\, sometimes we win. \nThis Friday Come out and watch\, bring the kids\, bring some dinner – yell\, laugh\, taunt – all those things you love about softball.
URL:https://emmanuelthousandoaks.org/event/picnic-and-mens-softball/
LOCATION:Borchard Park\, 190 Reino Road\, Newbury Park\, CA\, 91320\, United States
CATEGORIES:Adult
GEO:34.1808736;-118.9516915
X-APPLE-STRUCTURED-LOCATION;VALUE=URI;X-ADDRESS=Borchard Park 190 Reino Road Newbury Park CA 91320 United States;X-APPLE-RADIUS=500;X-TITLE=190 Reino Road:geo:-118.9516915,34.1808736
END:VEVENT
BEGIN:VEVENT
DTSTART;TZID=America/Los_Angeles:20230406T180000
DTEND;TZID=America/Los_Angeles:20230406T200000
DTSTAMP:20260423T014159
CREATED:20230314T055935Z
LAST-MODIFIED:20230314T060202Z
UID:10003248-1680804000-1680811200@emmanuelthousandoaks.org
SUMMARY:Ukrainian Egg Meditative Art
DESCRIPTION:This opportunity takes place on Thursdays starting March 2\, 6-8pm in Room 5/6. \nSee Debbie Barber with any questions.
URL:https://emmanuelthousandoaks.org/event/ukrainian-egg-meditative-art/2023-04-06/
LOCATION:Room 5/6 and playground area at Emmanuel\, 588 Camino Manzanas\, Thousand Oaks\, CA\, 91360\, United States
CATEGORIES:Adult
GEO:34.1983825;-118.8910816
X-APPLE-STRUCTURED-LOCATION;VALUE=URI;X-ADDRESS=Room 5/6 and playground area at Emmanuel 588 Camino Manzanas Thousand Oaks CA 91360 United States;X-APPLE-RADIUS=500;X-TITLE=588 Camino Manzanas:geo:-118.8910816,34.1983825
END:VEVENT
BEGIN:VEVENT
DTSTART;TZID=America/Los_Angeles:20230326T083000
DTEND;TZID=America/Los_Angeles:20230326T123000
DTSTAMP:20260423T014159
CREATED:20230314T060539Z
LAST-MODIFIED:20230314T060539Z
UID:10003249-1679819400-1679833800@emmanuelthousandoaks.org
SUMMARY:Blood Drive
DESCRIPTION:Vitalant will be parking their mobile blood lab at Emmanuel on March 26.  \nThey will be here all morning\, from 8:30am to 12:30pm.  \nTo reserve your donation time go to\nwww.vitalant.org
URL:https://emmanuelthousandoaks.org/event/blood-drive/
LOCATION:Emmanuel Parking Lot\, 538 Camino Manzanas\, Thousand Oaks\, CA\, United States
CATEGORIES:Adult
GEO:34.199068;-118.8898509
X-APPLE-STRUCTURED-LOCATION;VALUE=URI;X-ADDRESS=Emmanuel Parking Lot 538 Camino Manzanas Thousand Oaks CA United States;X-APPLE-RADIUS=500;X-TITLE=538 Camino Manzanas:geo:-118.8898509,34.199068
END:VEVENT
BEGIN:VEVENT
DTSTART;TZID=America/Los_Angeles:20230225T090000
DTEND;TZID=America/Los_Angeles:20230225T130000
DTSTAMP:20260423T014159
CREATED:20230212T062139Z
LAST-MODIFIED:20230212T062650Z
UID:10003181-1677315600-1677330000@emmanuelthousandoaks.org
SUMMARY:"What's Your Story?" Workshop
DESCRIPTION:Save the Date for a unique opportunity – we are hosting “What’s Your Story?” Project.\nSouth African NGO Heartlines developed a project that would help ordinary South Africans tackle the divisions in society and promote understanding and reconciliation. \nWe live in world where division\, fear\, prejudice and racism plague us daily. These divisions undermine social and economic development\, divide communities and families\, and often lead to tension and violence. \nFor our collective futures we need to find simple ways for people of good will to actively bridge these divides. We believe that “What’s Your Story?” is one such way. Learn more here.\nSign up for the workshop at this link.\nWatch a video here.
URL:https://emmanuelthousandoaks.org/event/whats-your-story-workshop/
LOCATION:Fireside Room\, 588 Camino Manzanas\, Thousand Oaks\, CA\, 93160\, United States
CATEGORIES:Adult
ORGANIZER;CN="Steve Bagdanov":MAILTO:steve@stevebagdanov.com
GEO:34.1705609;-118.8375937
X-APPLE-STRUCTURED-LOCATION;VALUE=URI;X-ADDRESS=Fireside Room 588 Camino Manzanas Thousand Oaks CA 93160 United States;X-APPLE-RADIUS=500;X-TITLE=588 Camino Manzanas:geo:-118.8375937,34.1705609
END:VEVENT
END:VCALENDAR