BEGIN:VCALENDAR
VERSION:2.0
PRODID:-//Emmanuel Presbyterian Church - ECPv6.15.20//NONSGML v1.0//EN
CALSCALE:GREGORIAN
METHOD:PUBLISH
X-WR-CALNAME:Emmanuel Presbyterian Church
X-ORIGINAL-URL:https://emmanuelthousandoaks.org
X-WR-CALDESC:Events for Emmanuel Presbyterian Church
REFRESH-INTERVAL;VALUE=DURATION:PT1H
X-Robots-Tag:noindex
X-PUBLISHED-TTL:PT1H
BEGIN:VTIMEZONE
TZID:America/Los_Angeles
BEGIN:DAYLIGHT
TZOFFSETFROM:-0800
TZOFFSETTO:-0700
TZNAME:PDT
DTSTART:20230312T100000
END:DAYLIGHT
BEGIN:STANDARD
TZOFFSETFROM:-0700
TZOFFSETTO:-0800
TZNAME:PST
DTSTART:20231105T090000
END:STANDARD
BEGIN:DAYLIGHT
TZOFFSETFROM:-0800
TZOFFSETTO:-0700
TZNAME:PDT
DTSTART:20240310T100000
END:DAYLIGHT
BEGIN:STANDARD
TZOFFSETFROM:-0700
TZOFFSETTO:-0800
TZNAME:PST
DTSTART:20241103T090000
END:STANDARD
BEGIN:DAYLIGHT
TZOFFSETFROM:-0800
TZOFFSETTO:-0700
TZNAME:PDT
DTSTART:20250309T100000
END:DAYLIGHT
BEGIN:STANDARD
TZOFFSETFROM:-0700
TZOFFSETTO:-0800
TZNAME:PST
DTSTART:20251102T090000
END:STANDARD
END:VTIMEZONE
BEGIN:VEVENT
DTSTART;TZID=America/Los_Angeles:20241124T100000
DTEND;TZID=America/Los_Angeles:20241124T110000
DTSTAMP:20260424T060618
CREATED:20230212T061321Z
LAST-MODIFIED:20250722T204006Z
UID:10003762-1732442400-1732446000@emmanuelthousandoaks.org
SUMMARY:Worship
DESCRIPTION:Worship in the Sanctuary begins at 10am. \nLivestream available here: Emmanuel Live Stream\nNEW! Access the Online Church Bulletin \nLink to our Online Giving Page
URL:https://emmanuelthousandoaks.org/event/worship/2024-11-24/
LOCATION:Sanctuary\, 538 Camino Manzanas\, Thousand Oaks\, CA\, 91360
CATEGORIES:Adult
ATTACH;FMTTYPE=image/jpeg:https://emmanuelthousandoaks.org/wp-content/uploads/2023/02/Emmanuel-line-drawing-1280-x-720.jpg
ORGANIZER;CN="David Anderson":MAILTO:david@emmanuelto.org
GEO:34.199062;-118.8898478
X-APPLE-STRUCTURED-LOCATION;VALUE=URI;X-ADDRESS=Sanctuary 538 Camino Manzanas Thousand Oaks CA 91360;X-APPLE-RADIUS=500;X-TITLE=538 Camino Manzanas:geo:-118.8898478,34.199062
END:VEVENT
BEGIN:VEVENT
DTSTART;TZID=America/Los_Angeles:20241124T170000
DTEND;TZID=America/Los_Angeles:20241124T190000
DTSTAMP:20260424T060618
CREATED:20241109T054827Z
LAST-MODIFIED:20241109T195647Z
UID:10003721-1732467600-1732474800@emmanuelthousandoaks.org
SUMMARY:Advent Feast and Festivities
DESCRIPTION:On November 24 from 4-7pm we will be having an evening of food and fun. \nBring an appetizer or cookies to share. \nWe will be making nativity scenes or any Christmas related items from natural materials\, bring nature items (sticks\, pine cones\, acorns\, seed pods or whatever you imagine would work) to share for Advent crafting fun. \nAll ages are welcome\, that means everyone!
URL:https://emmanuelthousandoaks.org/event/advent-feast-and-festivities/
LOCATION:Fireside Room\, 588 Camino Manzanas\, Thousand Oaks\, CA\, 93160\, United States
CATEGORIES:Adult,Early Childhood,Elementary,Youth
ATTACH;FMTTYPE=image/png:https://emmanuelthousandoaks.org/wp-content/uploads/2023/11/Advent-Feast.png
ORGANIZER;CN="Debbie Barber":MAILTO:debbie@emmanuelto.org
GEO:34.1705609;-118.8375937
X-APPLE-STRUCTURED-LOCATION;VALUE=URI;X-ADDRESS=Fireside Room 588 Camino Manzanas Thousand Oaks CA 93160 United States;X-APPLE-RADIUS=500;X-TITLE=588 Camino Manzanas:geo:-118.8375937,34.1705609
END:VEVENT
BEGIN:VEVENT
DTSTART;TZID=America/Los_Angeles:20241126T183000
DTEND;TZID=America/Los_Angeles:20241126T203000
DTSTAMP:20260424T060618
CREATED:20240213T213036Z
LAST-MODIFIED:20251021T193513Z
UID:10004334-1732645800-1732653000@emmanuelthousandoaks.org
SUMMARY:Session Meeting
DESCRIPTION:Session is a body of elected Elders who govern the church. Elders meeting once a month in the Conference Room at Emmanuel.
URL:https://emmanuelthousandoaks.org/event/session-meeting-2/2024-11-26/
LOCATION:Conference Room\, 538 Camino Manzanas\, Thousand Oaks\, CA
CATEGORIES:Adult
ATTACH;FMTTYPE=image/png:https://emmanuelthousandoaks.org/wp-content/uploads/2022/04/Session-Featured-Image.png
ORGANIZER;CN="David Anderson":MAILTO:david@emmanuelto.org
GEO:34.199068;-118.8898509
X-APPLE-STRUCTURED-LOCATION;VALUE=URI;X-ADDRESS=Conference Room 538 Camino Manzanas Thousand Oaks CA;X-APPLE-RADIUS=500;X-TITLE=538 Camino Manzanas:geo:-118.8898509,34.199068
END:VEVENT
BEGIN:VEVENT
DTSTART;TZID=America/Los_Angeles:20241127T083000
DTEND;TZID=America/Los_Angeles:20241127T123000
DTSTAMP:20260424T060618
CREATED:20241008T185437Z
LAST-MODIFIED:20241008T185439Z
UID:10004026-1732696200-1732710600@emmanuelthousandoaks.org
SUMMARY:Play Days!
DESCRIPTION:Play Days!\nGet together with other parents for coffee and conversation while your kids play. \n  \nWednesday Mornings from 8:30am to Noon the Nursery and Play Area are available to hang out. We have a lovely brand new couch and Nespresso machine  for your enjoyment. Best of all are the people! Come and hang out.
URL:https://emmanuelthousandoaks.org/event/play-days-2/2024-11-27/
LOCATION:Nursery & Playground Area\, 583 Camino Manzanas\, Thousand Oaks\, CA\, 93160\, United States
CATEGORIES:Adult,Early Childhood
ATTACH;FMTTYPE=image/png:https://emmanuelthousandoaks.org/wp-content/uploads/2024/03/Slide8.png
ORGANIZER;CN="Debbie Barber":MAILTO:debbie@emmanuelto.org
GEO:34.1992874;-118.8908597
X-APPLE-STRUCTURED-LOCATION;VALUE=URI;X-ADDRESS=Nursery & Playground Area 583 Camino Manzanas Thousand Oaks CA 93160 United States;X-APPLE-RADIUS=500;X-TITLE=583 Camino Manzanas:geo:-118.8908597,34.1992874
END:VEVENT
END:VCALENDAR