BEGIN:VCALENDAR
VERSION:2.0
PRODID:-//Emmanuel Presbyterian Church - ECPv6.15.20//NONSGML v1.0//EN
CALSCALE:GREGORIAN
METHOD:PUBLISH
X-WR-CALNAME:Emmanuel Presbyterian Church
X-ORIGINAL-URL:https://emmanuelthousandoaks.org
X-WR-CALDESC:Events for Emmanuel Presbyterian Church
REFRESH-INTERVAL;VALUE=DURATION:PT1H
X-Robots-Tag:noindex
X-PUBLISHED-TTL:PT1H
BEGIN:VTIMEZONE
TZID:America/Los_Angeles
BEGIN:DAYLIGHT
TZOFFSETFROM:-0800
TZOFFSETTO:-0700
TZNAME:PDT
DTSTART:20250309T100000
END:DAYLIGHT
BEGIN:STANDARD
TZOFFSETFROM:-0700
TZOFFSETTO:-0800
TZNAME:PST
DTSTART:20251102T090000
END:STANDARD
BEGIN:DAYLIGHT
TZOFFSETFROM:-0800
TZOFFSETTO:-0700
TZNAME:PDT
DTSTART:20260308T100000
END:DAYLIGHT
BEGIN:STANDARD
TZOFFSETFROM:-0700
TZOFFSETTO:-0800
TZNAME:PST
DTSTART:20261101T090000
END:STANDARD
BEGIN:DAYLIGHT
TZOFFSETFROM:-0800
TZOFFSETTO:-0700
TZNAME:PDT
DTSTART:20270314T100000
END:DAYLIGHT
BEGIN:STANDARD
TZOFFSETFROM:-0700
TZOFFSETTO:-0800
TZNAME:PST
DTSTART:20271107T090000
END:STANDARD
END:VTIMEZONE
BEGIN:VEVENT
DTSTART;TZID=America/Los_Angeles:20260412T100000
DTEND;TZID=America/Los_Angeles:20260412T110000
DTSTAMP:20260422T234653
CREATED:20230212T061321Z
LAST-MODIFIED:20250722T204006Z
UID:10003834-1775988000-1775991600@emmanuelthousandoaks.org
SUMMARY:Worship
DESCRIPTION:Worship in the Sanctuary begins at 10am. \nLivestream available here: Emmanuel Live Stream\nNEW! Access the Online Church Bulletin \nLink to our Online Giving Page
URL:https://emmanuelthousandoaks.org/event/worship/2026-04-12/
LOCATION:Sanctuary\, 538 Camino Manzanas\, Thousand Oaks\, CA\, 91360
CATEGORIES:Adult
ATTACH;FMTTYPE=image/jpeg:https://emmanuelthousandoaks.org/wp-content/uploads/2023/02/Emmanuel-line-drawing-1280-x-720.jpg
ORGANIZER;CN="David Anderson":MAILTO:david@emmanuelto.org
GEO:34.199062;-118.8898478
X-APPLE-STRUCTURED-LOCATION;VALUE=URI;X-ADDRESS=Sanctuary 538 Camino Manzanas Thousand Oaks CA 91360;X-APPLE-RADIUS=500;X-TITLE=538 Camino Manzanas:geo:-118.8898478,34.199062
END:VEVENT
BEGIN:VEVENT
DTSTART;TZID=America/Los_Angeles:20260412T153000
DTEND;TZID=America/Los_Angeles:20260412T163000
DTSTAMP:20260422T234653
CREATED:20260219T190033Z
LAST-MODIFIED:20260329T163839Z
UID:10004377-1776007800-1776011400@emmanuelthousandoaks.org
SUMMARY:Harbor House Hot Meals
DESCRIPTION:We prepare 50 hot meals for Harbor House once a month. We also provide 50 meals one Thursday every other month. \nTo sign up for the April 12 meal\, visit the Sign Up Genius \nAll of the details are available here on the Moving Beyond Church page.
URL:https://emmanuelthousandoaks.org/event/harbor-house-hot-meals/
LOCATION:Main Kitchen\, Camino Manzanas 583\, Thousand Oaks\, CA\, 91360\, United States
CATEGORIES:Adult
ATTACH;FMTTYPE=image/png:https://emmanuelthousandoaks.org/wp-content/uploads/2026/02/Harbor-House-Promo-April-2026.png
GEO:34.1992966;-118.8908598
X-APPLE-STRUCTURED-LOCATION;VALUE=URI;X-ADDRESS=Main Kitchen Camino Manzanas 583 Thousand Oaks CA 91360 United States;X-APPLE-RADIUS=500;X-TITLE=Camino Manzanas 583:geo:-118.8908598,34.1992966
END:VEVENT
BEGIN:VEVENT
DTSTART;TZID=America/Los_Angeles:20260415T083000
DTEND;TZID=America/Los_Angeles:20260415T123000
DTSTAMP:20260422T234653
CREATED:20241229T040413Z
LAST-MODIFIED:20241229T041124Z
UID:10004098-1776241800-1776256200@emmanuelthousandoaks.org
SUMMARY:Play Days!
DESCRIPTION:Play Days!\nGet together with other parents for coffee and conversation while your kids play. \n  \nWednesday Mornings from 8:30am to Noon the Nursery and Play Area are available to hang out. We have a lovely brand new couch and Nespresso machine  for your enjoyment. Best of all are the people! Come and hang out.
URL:https://emmanuelthousandoaks.org/event/play-days-2-2/2026-04-15/
LOCATION:Nursery & Playground Area\, 583 Camino Manzanas\, Thousand Oaks\, CA\, 93160\, United States
CATEGORIES:Adult,Early Childhood
ATTACH;FMTTYPE=image/png:https://emmanuelthousandoaks.org/wp-content/uploads/2024/03/Slide8.png
ORGANIZER;CN="Debbie Barber":MAILTO:debbie@emmanuelto.org
GEO:34.1992874;-118.8908597
X-APPLE-STRUCTURED-LOCATION;VALUE=URI;X-ADDRESS=Nursery & Playground Area 583 Camino Manzanas Thousand Oaks CA 93160 United States;X-APPLE-RADIUS=500;X-TITLE=583 Camino Manzanas:geo:-118.8908597,34.1992874
END:VEVENT
END:VCALENDAR