BEGIN:VCALENDAR
VERSION:2.0
PRODID:-//Emmanuel Presbyterian Church - ECPv6.15.20//NONSGML v1.0//EN
CALSCALE:GREGORIAN
METHOD:PUBLISH
X-ORIGINAL-URL:https://emmanuelthousandoaks.org
X-WR-CALDESC:Events for Emmanuel Presbyterian Church
REFRESH-INTERVAL;VALUE=DURATION:PT1H
X-Robots-Tag:noindex
X-PUBLISHED-TTL:PT1H
BEGIN:VTIMEZONE
TZID:America/Los_Angeles
BEGIN:DAYLIGHT
TZOFFSETFROM:-0800
TZOFFSETTO:-0700
TZNAME:PDT
DTSTART:20260308T100000
END:DAYLIGHT
BEGIN:STANDARD
TZOFFSETFROM:-0700
TZOFFSETTO:-0800
TZNAME:PST
DTSTART:20261101T090000
END:STANDARD
BEGIN:DAYLIGHT
TZOFFSETFROM:-0800
TZOFFSETTO:-0700
TZNAME:PDT
DTSTART:20270314T100000
END:DAYLIGHT
BEGIN:STANDARD
TZOFFSETFROM:-0700
TZOFFSETTO:-0800
TZNAME:PST
DTSTART:20271107T090000
END:STANDARD
BEGIN:DAYLIGHT
TZOFFSETFROM:-0800
TZOFFSETTO:-0700
TZNAME:PDT
DTSTART:20280312T100000
END:DAYLIGHT
BEGIN:STANDARD
TZOFFSETFROM:-0700
TZOFFSETTO:-0800
TZNAME:PST
DTSTART:20281105T090000
END:STANDARD
END:VTIMEZONE
BEGIN:VEVENT
DTSTART;TZID=America/Los_Angeles:20271201T083000
DTEND;TZID=America/Los_Angeles:20271201T123000
DTSTAMP:20260424T094904
CREATED:20241229T040413Z
LAST-MODIFIED:20241229T041124Z
UID:10004183-1827649800-1827664200@emmanuelthousandoaks.org
SUMMARY:Play Days!
DESCRIPTION:Play Days!\nGet together with other parents for coffee and conversation while your kids play. \n  \nWednesday Mornings from 8:30am to Noon the Nursery and Play Area are available to hang out. We have a lovely brand new couch and Nespresso machine  for your enjoyment. Best of all are the people! Come and hang out.
URL:https://emmanuelthousandoaks.org/event/play-days-2-2/2027-12-01/
LOCATION:Nursery & Playground Area\, 583 Camino Manzanas\, Thousand Oaks\, CA\, 93160\, United States
CATEGORIES:Adult,Early Childhood
ATTACH;FMTTYPE=image/png:https://emmanuelthousandoaks.org/wp-content/uploads/2024/03/Slide8.png
ORGANIZER;CN="Debbie Barber":MAILTO:debbie@emmanuelto.org
GEO:34.1992874;-118.8908597
X-APPLE-STRUCTURED-LOCATION;VALUE=URI;X-ADDRESS=Nursery & Playground Area 583 Camino Manzanas Thousand Oaks CA 93160 United States;X-APPLE-RADIUS=500;X-TITLE=583 Camino Manzanas:geo:-118.8908597,34.1992874
END:VEVENT
BEGIN:VEVENT
DTSTART;TZID=America/Los_Angeles:20271208T083000
DTEND;TZID=America/Los_Angeles:20271208T123000
DTSTAMP:20260424T094904
CREATED:20241229T040413Z
LAST-MODIFIED:20241229T041124Z
UID:10004184-1828254600-1828269000@emmanuelthousandoaks.org
SUMMARY:Play Days!
DESCRIPTION:Play Days!\nGet together with other parents for coffee and conversation while your kids play. \n  \nWednesday Mornings from 8:30am to Noon the Nursery and Play Area are available to hang out. We have a lovely brand new couch and Nespresso machine  for your enjoyment. Best of all are the people! Come and hang out.
URL:https://emmanuelthousandoaks.org/event/play-days-2-2/2027-12-08/
LOCATION:Nursery & Playground Area\, 583 Camino Manzanas\, Thousand Oaks\, CA\, 93160\, United States
CATEGORIES:Adult,Early Childhood
ATTACH;FMTTYPE=image/png:https://emmanuelthousandoaks.org/wp-content/uploads/2024/03/Slide8.png
ORGANIZER;CN="Debbie Barber":MAILTO:debbie@emmanuelto.org
GEO:34.1992874;-118.8908597
X-APPLE-STRUCTURED-LOCATION;VALUE=URI;X-ADDRESS=Nursery & Playground Area 583 Camino Manzanas Thousand Oaks CA 93160 United States;X-APPLE-RADIUS=500;X-TITLE=583 Camino Manzanas:geo:-118.8908597,34.1992874
END:VEVENT
BEGIN:VEVENT
DTSTART;TZID=America/Los_Angeles:20271215T083000
DTEND;TZID=America/Los_Angeles:20271215T123000
DTSTAMP:20260424T094904
CREATED:20241229T040413Z
LAST-MODIFIED:20241229T041124Z
UID:10004185-1828859400-1828873800@emmanuelthousandoaks.org
SUMMARY:Play Days!
DESCRIPTION:Play Days!\nGet together with other parents for coffee and conversation while your kids play. \n  \nWednesday Mornings from 8:30am to Noon the Nursery and Play Area are available to hang out. We have a lovely brand new couch and Nespresso machine  for your enjoyment. Best of all are the people! Come and hang out.
URL:https://emmanuelthousandoaks.org/event/play-days-2-2/2027-12-15/
LOCATION:Nursery & Playground Area\, 583 Camino Manzanas\, Thousand Oaks\, CA\, 93160\, United States
CATEGORIES:Adult,Early Childhood
ATTACH;FMTTYPE=image/png:https://emmanuelthousandoaks.org/wp-content/uploads/2024/03/Slide8.png
ORGANIZER;CN="Debbie Barber":MAILTO:debbie@emmanuelto.org
GEO:34.1992874;-118.8908597
X-APPLE-STRUCTURED-LOCATION;VALUE=URI;X-ADDRESS=Nursery & Playground Area 583 Camino Manzanas Thousand Oaks CA 93160 United States;X-APPLE-RADIUS=500;X-TITLE=583 Camino Manzanas:geo:-118.8908597,34.1992874
END:VEVENT
BEGIN:VEVENT
DTSTART;TZID=America/Los_Angeles:20271222T083000
DTEND;TZID=America/Los_Angeles:20271222T123000
DTSTAMP:20260424T094904
CREATED:20241229T040413Z
LAST-MODIFIED:20241229T041124Z
UID:10004186-1829464200-1829478600@emmanuelthousandoaks.org
SUMMARY:Play Days!
DESCRIPTION:Play Days!\nGet together with other parents for coffee and conversation while your kids play. \n  \nWednesday Mornings from 8:30am to Noon the Nursery and Play Area are available to hang out. We have a lovely brand new couch and Nespresso machine  for your enjoyment. Best of all are the people! Come and hang out.
URL:https://emmanuelthousandoaks.org/event/play-days-2-2/2027-12-22/
LOCATION:Nursery & Playground Area\, 583 Camino Manzanas\, Thousand Oaks\, CA\, 93160\, United States
CATEGORIES:Adult,Early Childhood
ATTACH;FMTTYPE=image/png:https://emmanuelthousandoaks.org/wp-content/uploads/2024/03/Slide8.png
ORGANIZER;CN="Debbie Barber":MAILTO:debbie@emmanuelto.org
GEO:34.1992874;-118.8908597
X-APPLE-STRUCTURED-LOCATION;VALUE=URI;X-ADDRESS=Nursery & Playground Area 583 Camino Manzanas Thousand Oaks CA 93160 United States;X-APPLE-RADIUS=500;X-TITLE=583 Camino Manzanas:geo:-118.8908597,34.1992874
END:VEVENT
BEGIN:VEVENT
DTSTART;TZID=America/Los_Angeles:20271229T083000
DTEND;TZID=America/Los_Angeles:20271229T123000
DTSTAMP:20260424T094904
CREATED:20241229T040413Z
LAST-MODIFIED:20241229T041124Z
UID:10004187-1830069000-1830083400@emmanuelthousandoaks.org
SUMMARY:Play Days!
DESCRIPTION:Play Days!\nGet together with other parents for coffee and conversation while your kids play. \n  \nWednesday Mornings from 8:30am to Noon the Nursery and Play Area are available to hang out. We have a lovely brand new couch and Nespresso machine  for your enjoyment. Best of all are the people! Come and hang out.
URL:https://emmanuelthousandoaks.org/event/play-days-2-2/2027-12-29/
LOCATION:Nursery & Playground Area\, 583 Camino Manzanas\, Thousand Oaks\, CA\, 93160\, United States
CATEGORIES:Adult,Early Childhood
ATTACH;FMTTYPE=image/png:https://emmanuelthousandoaks.org/wp-content/uploads/2024/03/Slide8.png
ORGANIZER;CN="Debbie Barber":MAILTO:debbie@emmanuelto.org
GEO:34.1992874;-118.8908597
X-APPLE-STRUCTURED-LOCATION;VALUE=URI;X-ADDRESS=Nursery & Playground Area 583 Camino Manzanas Thousand Oaks CA 93160 United States;X-APPLE-RADIUS=500;X-TITLE=583 Camino Manzanas:geo:-118.8908597,34.1992874
END:VEVENT
END:VCALENDAR