BEGIN:VCALENDAR
VERSION:2.0
PRODID:-//Emmanuel Presbyterian Church - ECPv6.15.20//NONSGML v1.0//EN
CALSCALE:GREGORIAN
METHOD:PUBLISH
X-WR-CALNAME:Emmanuel Presbyterian Church
X-ORIGINAL-URL:https://emmanuelthousandoaks.org
X-WR-CALDESC:Events for Emmanuel Presbyterian Church
REFRESH-INTERVAL;VALUE=DURATION:PT1H
X-Robots-Tag:noindex
X-PUBLISHED-TTL:PT1H
BEGIN:VTIMEZONE
TZID:America/Los_Angeles
BEGIN:DAYLIGHT
TZOFFSETFROM:-0800
TZOFFSETTO:-0700
TZNAME:PDT
DTSTART:20240310T100000
END:DAYLIGHT
BEGIN:STANDARD
TZOFFSETFROM:-0700
TZOFFSETTO:-0800
TZNAME:PST
DTSTART:20241103T090000
END:STANDARD
BEGIN:DAYLIGHT
TZOFFSETFROM:-0800
TZOFFSETTO:-0700
TZNAME:PDT
DTSTART:20250309T100000
END:DAYLIGHT
BEGIN:STANDARD
TZOFFSETFROM:-0700
TZOFFSETTO:-0800
TZNAME:PST
DTSTART:20251102T090000
END:STANDARD
BEGIN:DAYLIGHT
TZOFFSETFROM:-0800
TZOFFSETTO:-0700
TZNAME:PDT
DTSTART:20260308T100000
END:DAYLIGHT
BEGIN:STANDARD
TZOFFSETFROM:-0700
TZOFFSETTO:-0800
TZNAME:PST
DTSTART:20261101T090000
END:STANDARD
END:VTIMEZONE
BEGIN:VEVENT
DTSTART;TZID=America/Los_Angeles:20250807T190000
DTEND;TZID=America/Los_Angeles:20250807T203000
DTSTAMP:20260423T173033
CREATED:20250729T222404Z
LAST-MODIFIED:20250729T222404Z
UID:10004771-1754593200-1754598600@emmanuelthousandoaks.org
SUMMARY:Among Friends:  Sweet Decorations - Cupcakes
DESCRIPTION:Sweet Decorations: Cupcakes Thursday\, August 7\, 7-8:30pm\, Kitchen\nLearn and practice techniques\, then decorate your own cupcakes. No experience necessary\, all materials provided.\nInstructor: Valerie Reynolds—Sign up with Valerie on her cell at (805) 750-8456. \nHere is the class list for the Summer! for the Among Friends classes for women.
URL:https://emmanuelthousandoaks.org/event/among-friends-sweet-decorations-cupcakes/
LOCATION:Main Kitchen\, Camino Manzanas 583\, Thousand Oaks\, CA\, 91360\, United States
CATEGORIES:Adult,Women
ATTACH;FMTTYPE=image/png:https://emmanuelthousandoaks.org/wp-content/uploads/2025/07/Harbor-House-Promo-2.png
GEO:34.1992966;-118.8908598
X-APPLE-STRUCTURED-LOCATION;VALUE=URI;X-ADDRESS=Main Kitchen Camino Manzanas 583 Thousand Oaks CA 91360 United States;X-APPLE-RADIUS=500;X-TITLE=Camino Manzanas 583:geo:-118.8908598,34.1992966
END:VEVENT
BEGIN:VEVENT
DTSTART;TZID=America/Los_Angeles:20250815T160000
DTEND;TZID=America/Los_Angeles:20250815T173000
DTSTAMP:20260423T173033
CREATED:20250729T222757Z
LAST-MODIFIED:20250729T222757Z
UID:10004772-1755273600-1755279000@emmanuelthousandoaks.org
SUMMARY:Among Friends:  Summer Drinks with Fruits and Flowers
DESCRIPTION:Summer Drinks with Fruits and Flowers Friday\, August 15\, 4-5:30pm\, Kitchen\nLearn how to make flavorful and colorful syrups and infusions from flowers and fruits\, and use them to create\ndelicious beverages. Instructor: Suzanne Luce—Sign up with Suzanne at rsluce@yahoo.com.
URL:https://emmanuelthousandoaks.org/event/among-friends-summer-drinks-with-fruits-and-flowers/
LOCATION:Main Kitchen\, Camino Manzanas 583\, Thousand Oaks\, CA\, 91360\, United States
CATEGORIES:Adult,Women
ATTACH;FMTTYPE=image/png:https://emmanuelthousandoaks.org/wp-content/uploads/2025/07/Among-Friends-Summer-Drinks.png
GEO:34.1992966;-118.8908598
X-APPLE-STRUCTURED-LOCATION;VALUE=URI;X-ADDRESS=Main Kitchen Camino Manzanas 583 Thousand Oaks CA 91360 United States;X-APPLE-RADIUS=500;X-TITLE=Camino Manzanas 583:geo:-118.8908598,34.1992966
END:VEVENT
BEGIN:VEVENT
DTSTART;TZID=America/Los_Angeles:20250817T140000
DTEND;TZID=America/Los_Angeles:20250817T153000
DTSTAMP:20260423T173033
CREATED:20250729T223122Z
LAST-MODIFIED:20250729T223122Z
UID:10004773-1755439200-1755444600@emmanuelthousandoaks.org
SUMMARY:Among Friends:  Creative Candy Making
DESCRIPTION:Creative Candy Making with Cyndee’s Creations Sunday\, August 17\, 2pm\, Kitchen\nInstructor: Cynthia Schwartz—Sign up with Cynthia on her cell at (805) 390-2805. Materials: apron to wear\, one or\nsome of these fun items—nuts of your choice (peanuts\, almonds or cashews)\, trail mix or dried fruits\, Oreos.
URL:https://emmanuelthousandoaks.org/event/among-friends-creative-candy-making/
LOCATION:Main Kitchen\, Camino Manzanas 583\, Thousand Oaks\, CA\, 91360\, United States
CATEGORIES:Adult,Women
ATTACH;FMTTYPE=image/png:https://emmanuelthousandoaks.org/wp-content/uploads/2025/07/Among-Friends-Candy.png
GEO:34.1992966;-118.8908598
X-APPLE-STRUCTURED-LOCATION;VALUE=URI;X-ADDRESS=Main Kitchen Camino Manzanas 583 Thousand Oaks CA 91360 United States;X-APPLE-RADIUS=500;X-TITLE=Camino Manzanas 583:geo:-118.8908598,34.1992966
END:VEVENT
BEGIN:VEVENT
DTSTART;TZID=America/Los_Angeles:20250818T090000
DTEND;TZID=America/Los_Angeles:20250818T103000
DTSTAMP:20260423T173033
CREATED:20250729T223550Z
LAST-MODIFIED:20250729T223550Z
UID:10004774-1755507600-1755513000@emmanuelthousandoaks.org
SUMMARY:Among Friends:  Pickleball with Patti
DESCRIPTION:Pickleball with Patti Monday\, August 18\, 9-10:30am\, Sunset Hills Country Club\, Thousand Oaks\nLearn the fundamentals and discover the fun of my favorite court sport! Basic instructions\, scoring\, and easy\nfootwork will be demonstrated. Let’s play! Instructor: Patti Yomantas—Sign up with Patti at pyomantas@gmail.com.\nMaximum 12 sign ups. Materials: Paddles and wiffle balls will be provided. Wear comfy clothes and court/tennis\nshoes.
URL:https://emmanuelthousandoaks.org/event/among-friends-pickleball-with-patti/
LOCATION:Sunset Hills Country Club\, Thousand Oaks
CATEGORIES:Adult,Women
ATTACH;FMTTYPE=image/png:https://emmanuelthousandoaks.org/wp-content/uploads/2025/07/Among-Friends-Pickle.png
GEO:34.1761133;-118.8487793
END:VEVENT
BEGIN:VEVENT
DTSTART;TZID=America/Los_Angeles:20250822T190000
DTEND;TZID=America/Los_Angeles:20250822T220000
DTSTAMP:20260423T173033
CREATED:20250729T223900Z
LAST-MODIFIED:20250819T190852Z
UID:10004775-1755889200-1755900000@emmanuelthousandoaks.org
SUMMARY:Among Friends:  Karaoke and Kocktails with DJ Krista
DESCRIPTION:Karaoke and Kocktails with DJ Krista Friday\, August 22\, 7-10pm\, Krista’s home\nCome have a drink and sing your favorite songs with friends. Instructor: Krista Pettersson—Sign up with Krista on her\ncell at (805) 300-9001 or by email at krista_pettersson@hotmail.com. Materials: Bring an appetizer to share.
URL:https://emmanuelthousandoaks.org/event/among-friends-karaoke-and-kocktails-with-dj-krista/
LOCATION:Petterson Home
CATEGORIES:Adult,Women
ATTACH;FMTTYPE=image/png:https://emmanuelthousandoaks.org/wp-content/uploads/2025/07/Karaoke-with-Krista.png
END:VEVENT
END:VCALENDAR