BEGIN:VCALENDAR
VERSION:2.0
PRODID:-//Emmanuel Presbyterian Church - ECPv6.15.20//NONSGML v1.0//EN
CALSCALE:GREGORIAN
METHOD:PUBLISH
X-WR-CALNAME:Emmanuel Presbyterian Church
X-ORIGINAL-URL:https://emmanuelthousandoaks.org
X-WR-CALDESC:Events for Emmanuel Presbyterian Church
REFRESH-INTERVAL;VALUE=DURATION:PT1H
X-Robots-Tag:noindex
X-PUBLISHED-TTL:PT1H
BEGIN:VTIMEZONE
TZID:America/Los_Angeles
BEGIN:DAYLIGHT
TZOFFSETFROM:-0800
TZOFFSETTO:-0700
TZNAME:PDT
DTSTART:20240310T100000
END:DAYLIGHT
BEGIN:STANDARD
TZOFFSETFROM:-0700
TZOFFSETTO:-0800
TZNAME:PST
DTSTART:20241103T090000
END:STANDARD
BEGIN:DAYLIGHT
TZOFFSETFROM:-0800
TZOFFSETTO:-0700
TZNAME:PDT
DTSTART:20250309T100000
END:DAYLIGHT
BEGIN:STANDARD
TZOFFSETFROM:-0700
TZOFFSETTO:-0800
TZNAME:PST
DTSTART:20251102T090000
END:STANDARD
BEGIN:DAYLIGHT
TZOFFSETFROM:-0800
TZOFFSETTO:-0700
TZNAME:PDT
DTSTART:20260308T100000
END:DAYLIGHT
BEGIN:STANDARD
TZOFFSETFROM:-0700
TZOFFSETTO:-0800
TZNAME:PST
DTSTART:20261101T090000
END:STANDARD
END:VTIMEZONE
BEGIN:VEVENT
DTSTART;TZID=America/Los_Angeles:20250719T140000
DTEND;TZID=America/Los_Angeles:20250719T153000
DTSTAMP:20260423T225902
CREATED:20250711T193544Z
LAST-MODIFIED:20250711T193544Z
UID:10004688-1752933600-1752939000@emmanuelthousandoaks.org
SUMMARY:Among Friends: Giving on Any Budget
DESCRIPTION:Giving on Any Budget Saturday\, July 19\, 2-3:30pm\, Conference Room  \nWe’ll discuss what the bible says about giving and learn how to overcome roadblocks\, get started\, and give more  without making more. Instructor: Pippa Phillips—Sign up with Pippa at maestrapip@aol.com. Materials: bible\,  notepaper & pen or laptop for note taking (no recording\, please).  \nHere is the class list for the Summer! for the Among Friends classes for women.
URL:https://emmanuelthousandoaks.org/event/among-friends-giving-on-any-budget/
LOCATION:Conference Room\, 538 Camino Manzanas\, Thousand Oaks\, CA
CATEGORIES:Adult,Women
ATTACH;FMTTYPE=image/png:https://emmanuelthousandoaks.org/wp-content/uploads/2025/07/Among-Friends-Giving.png
GEO:34.199068;-118.8898509
X-APPLE-STRUCTURED-LOCATION;VALUE=URI;X-ADDRESS=Conference Room 538 Camino Manzanas Thousand Oaks CA;X-APPLE-RADIUS=500;X-TITLE=538 Camino Manzanas:geo:-118.8898509,34.199068
END:VEVENT
END:VCALENDAR