BEGIN:VCALENDAR
VERSION:2.0
PRODID:-//Emmanuel Presbyterian Church - ECPv6.15.20//NONSGML v1.0//EN
CALSCALE:GREGORIAN
METHOD:PUBLISH
X-ORIGINAL-URL:https://emmanuelthousandoaks.org
X-WR-CALDESC:Events for Emmanuel Presbyterian Church
REFRESH-INTERVAL;VALUE=DURATION:PT1H
X-Robots-Tag:noindex
X-PUBLISHED-TTL:PT1H
BEGIN:VTIMEZONE
TZID:America/Los_Angeles
BEGIN:DAYLIGHT
TZOFFSETFROM:-0800
TZOFFSETTO:-0700
TZNAME:PDT
DTSTART:20220313T100000
END:DAYLIGHT
BEGIN:STANDARD
TZOFFSETFROM:-0700
TZOFFSETTO:-0800
TZNAME:PST
DTSTART:20221106T090000
END:STANDARD
BEGIN:DAYLIGHT
TZOFFSETFROM:-0800
TZOFFSETTO:-0700
TZNAME:PDT
DTSTART:20230312T100000
END:DAYLIGHT
BEGIN:STANDARD
TZOFFSETFROM:-0700
TZOFFSETTO:-0800
TZNAME:PST
DTSTART:20231105T090000
END:STANDARD
BEGIN:DAYLIGHT
TZOFFSETFROM:-0800
TZOFFSETTO:-0700
TZNAME:PDT
DTSTART:20240310T100000
END:DAYLIGHT
BEGIN:STANDARD
TZOFFSETFROM:-0700
TZOFFSETTO:-0800
TZNAME:PST
DTSTART:20241103T090000
END:STANDARD
END:VTIMEZONE
BEGIN:VEVENT
DTSTART;TZID=America/Los_Angeles:20231202T090000
DTEND;TZID=America/Los_Angeles:20231202T120000
DTSTAMP:20260425T034511
CREATED:20231125T054604Z
LAST-MODIFIED:20231125T054604Z
UID:10003720-1701507600-1701518400@emmanuelthousandoaks.org
SUMMARY:Deck the Halls
DESCRIPTION:Join us for the greening of the Sanctuary for Advent and Christmas season.\nSaturday December 2 at 9am.
URL:https://emmanuelthousandoaks.org/event/deck-the-halls/
LOCATION:Sanctuary\, 538 Camino Manzanas\, Thousand Oaks\, CA\, 91360
CATEGORIES:Adult,Youth
ORGANIZER;CN="Kelly Bagdanov":MAILTO:kbagdanov@gmail.com
GEO:34.199062;-118.8898478
X-APPLE-STRUCTURED-LOCATION;VALUE=URI;X-ADDRESS=Sanctuary 538 Camino Manzanas Thousand Oaks CA 91360;X-APPLE-RADIUS=500;X-TITLE=538 Camino Manzanas:geo:-118.8898478,34.199062
END:VEVENT
BEGIN:VEVENT
DTSTART;TZID=America/Los_Angeles:20231206T190000
DTEND;TZID=America/Los_Angeles:20231206T203000
DTSTAMP:20260425T034511
CREATED:20230605T014942Z
LAST-MODIFIED:20230830T213806Z
UID:10003628-1701889200-1701894600@emmanuelthousandoaks.org
SUMMARY:Youth Group
DESCRIPTION:
URL:https://emmanuelthousandoaks.org/event/youth-group-98/2023-12-06/
LOCATION:Youth Room
CATEGORIES:Youth
ATTACH;FMTTYPE=image/png:https://emmanuelthousandoaks.org/wp-content/uploads/2023/02/Youth-Group-landscape-1280-x-720.png
ORGANIZER;CN="Danny Chulack":MAILTO:danny@emmanuel.org
END:VEVENT
BEGIN:VEVENT
DTSTART;TZID=America/Los_Angeles:20231213T190000
DTEND;TZID=America/Los_Angeles:20231213T203000
DTSTAMP:20260425T034511
CREATED:20230605T014942Z
LAST-MODIFIED:20230830T213806Z
UID:10003629-1702494000-1702499400@emmanuelthousandoaks.org
SUMMARY:Youth Group
DESCRIPTION:
URL:https://emmanuelthousandoaks.org/event/youth-group-98/2023-12-13/
LOCATION:Youth Room
CATEGORIES:Youth
ATTACH;FMTTYPE=image/png:https://emmanuelthousandoaks.org/wp-content/uploads/2023/02/Youth-Group-landscape-1280-x-720.png
ORGANIZER;CN="Danny Chulack":MAILTO:danny@emmanuel.org
END:VEVENT
BEGIN:VEVENT
DTSTART;TZID=America/Los_Angeles:20231220T190000
DTEND;TZID=America/Los_Angeles:20231220T203000
DTSTAMP:20260425T034511
CREATED:20230605T014942Z
LAST-MODIFIED:20230830T213806Z
UID:10003630-1703098800-1703104200@emmanuelthousandoaks.org
SUMMARY:Youth Group
DESCRIPTION:
URL:https://emmanuelthousandoaks.org/event/youth-group-98/2023-12-20/
LOCATION:Youth Room
CATEGORIES:Youth
ATTACH;FMTTYPE=image/png:https://emmanuelthousandoaks.org/wp-content/uploads/2023/02/Youth-Group-landscape-1280-x-720.png
ORGANIZER;CN="Danny Chulack":MAILTO:danny@emmanuel.org
END:VEVENT
BEGIN:VEVENT
DTSTART;TZID=America/Los_Angeles:20231227T190000
DTEND;TZID=America/Los_Angeles:20231227T203000
DTSTAMP:20260425T034511
CREATED:20230605T014942Z
LAST-MODIFIED:20230830T213806Z
UID:10003631-1703703600-1703709000@emmanuelthousandoaks.org
SUMMARY:Youth Group
DESCRIPTION:
URL:https://emmanuelthousandoaks.org/event/youth-group-98/2023-12-27/
LOCATION:Youth Room
CATEGORIES:Youth
ATTACH;FMTTYPE=image/png:https://emmanuelthousandoaks.org/wp-content/uploads/2023/02/Youth-Group-landscape-1280-x-720.png
ORGANIZER;CN="Danny Chulack":MAILTO:danny@emmanuel.org
END:VEVENT
END:VCALENDAR