BEGIN:VCALENDAR
VERSION:2.0
PRODID:-//Emmanuel Presbyterian Church - ECPv6.15.20//NONSGML v1.0//EN
CALSCALE:GREGORIAN
METHOD:PUBLISH
X-WR-CALNAME:Emmanuel Presbyterian Church
X-ORIGINAL-URL:https://emmanuelthousandoaks.org
X-WR-CALDESC:Events for Emmanuel Presbyterian Church
REFRESH-INTERVAL;VALUE=DURATION:PT1H
X-Robots-Tag:noindex
X-PUBLISHED-TTL:PT1H
BEGIN:VTIMEZONE
TZID:America/Los_Angeles
BEGIN:DAYLIGHT
TZOFFSETFROM:-0800
TZOFFSETTO:-0700
TZNAME:PDT
DTSTART:20220313T100000
END:DAYLIGHT
BEGIN:STANDARD
TZOFFSETFROM:-0700
TZOFFSETTO:-0800
TZNAME:PST
DTSTART:20221106T090000
END:STANDARD
BEGIN:DAYLIGHT
TZOFFSETFROM:-0800
TZOFFSETTO:-0700
TZNAME:PDT
DTSTART:20230312T100000
END:DAYLIGHT
BEGIN:STANDARD
TZOFFSETFROM:-0700
TZOFFSETTO:-0800
TZNAME:PST
DTSTART:20231105T090000
END:STANDARD
BEGIN:DAYLIGHT
TZOFFSETFROM:-0800
TZOFFSETTO:-0700
TZNAME:PDT
DTSTART:20240310T100000
END:DAYLIGHT
BEGIN:STANDARD
TZOFFSETFROM:-0700
TZOFFSETTO:-0800
TZNAME:PST
DTSTART:20241103T090000
END:STANDARD
END:VTIMEZONE
BEGIN:VEVENT
DTSTART;TZID=America/Los_Angeles:20230701T100000
DTEND;TZID=America/Los_Angeles:20230701T170000
DTSTAMP:20260425T090114
CREATED:20230626T222030Z
LAST-MODIFIED:20230626T222758Z
UID:10003327-1688205600-1688230800@emmanuelthousandoaks.org
SUMMARY:Beach Day
DESCRIPTION:Meet at Ventura Harbor Cove Beach for a fun beach day. Just like the picnics\, the beauty of these get togethers is the casual nature – come with your own stuff: food\, snacks\, drinks\, towels\, kids\, sunscreen etc. Stay as long or as little as you like. 
URL:https://emmanuelthousandoaks.org/event/beach-day/
LOCATION:Ventura Harbor Cove Beach\, 1878-1998 Spinnaker Dr\,\, Ventura\, CA\, 93001\, United States
GEO:34.2478625;-119.2668097
X-APPLE-STRUCTURED-LOCATION;VALUE=URI;X-ADDRESS=Ventura Harbor Cove Beach 1878-1998 Spinnaker Dr Ventura CA 93001 United States;X-APPLE-RADIUS=500;X-TITLE=1878-1998 Spinnaker Dr\,:geo:-119.2668097,34.2478625
END:VEVENT
BEGIN:VEVENT
DTSTART;TZID=America/Los_Angeles:20230702T100000
DTEND;TZID=America/Los_Angeles:20230702T110000
DTSTAMP:20260425T090114
CREATED:20220830T184757Z
LAST-MODIFIED:20230830T214544Z
UID:10003685-1688292000-1688295600@emmanuelthousandoaks.org
SUMMARY:Children's Sunday School
DESCRIPTION:Sunday school for children takes place each Sunday from 10 to 11 am during the adult worship service. Children 3 and under go to the nursery\, Preschool and Kindergarten children meet in Room 1/2\, and children in grades 1 to 5 meet on the playground or in Room 5/6. We use age-appropriate curriculum that focuses on play-based learning and encourages children to ask questions as they interact with Bible stories. \n 
URL:https://emmanuelthousandoaks.org/event/childrens-sunday-school/2023-07-02/
LOCATION:Room 5/6 and playground area at Emmanuel\, 588 Camino Manzanas\, Thousand Oaks\, CA\, 91360\, United States
ATTACH;FMTTYPE=image/png:https://emmanuelthousandoaks.org/wp-content/uploads/2022/08/Screen-Shot-2022-08-23-at-10.46.57-AM.png
ORGANIZER;CN="Debbie Barber":MAILTO:debbie@emmanuelto.org
GEO:34.1983825;-118.8910816
X-APPLE-STRUCTURED-LOCATION;VALUE=URI;X-ADDRESS=Room 5/6 and playground area at Emmanuel 588 Camino Manzanas Thousand Oaks CA 91360 United States;X-APPLE-RADIUS=500;X-TITLE=588 Camino Manzanas:geo:-118.8910816,34.1983825
END:VEVENT
BEGIN:VEVENT
DTSTART;TZID=America/Los_Angeles:20230702T100000
DTEND;TZID=America/Los_Angeles:20230702T110000
DTSTAMP:20260425T090114
CREATED:20230212T061321Z
LAST-MODIFIED:20250722T204006Z
UID:10003267-1688292000-1688295600@emmanuelthousandoaks.org
SUMMARY:Worship
DESCRIPTION:Worship in the Sanctuary begins at 10am. \nLivestream available here: Emmanuel Live Stream\nNEW! Access the Online Church Bulletin \nLink to our Online Giving Page
URL:https://emmanuelthousandoaks.org/event/worship/2023-07-02/
LOCATION:Sanctuary\, 538 Camino Manzanas\, Thousand Oaks\, CA\, 91360
CATEGORIES:Adult
ATTACH;FMTTYPE=image/jpeg:https://emmanuelthousandoaks.org/wp-content/uploads/2023/02/Emmanuel-line-drawing-1280-x-720.jpg
ORGANIZER;CN="David Anderson":MAILTO:david@emmanuelto.org
GEO:34.199062;-118.8898478
X-APPLE-STRUCTURED-LOCATION;VALUE=URI;X-ADDRESS=Sanctuary 538 Camino Manzanas Thousand Oaks CA 91360;X-APPLE-RADIUS=500;X-TITLE=538 Camino Manzanas:geo:-118.8898478,34.199062
END:VEVENT
BEGIN:VEVENT
DTSTART;TZID=America/Los_Angeles:20230705T190000
DTEND;TZID=America/Los_Angeles:20230705T203000
DTSTAMP:20260425T090114
CREATED:20230605T014942Z
LAST-MODIFIED:20230830T213806Z
UID:10003607-1688583600-1688589000@emmanuelthousandoaks.org
SUMMARY:Youth Group
DESCRIPTION:
URL:https://emmanuelthousandoaks.org/event/youth-group-98/2023-07-05/
LOCATION:Youth Room
CATEGORIES:Youth
ATTACH;FMTTYPE=image/png:https://emmanuelthousandoaks.org/wp-content/uploads/2023/02/Youth-Group-landscape-1280-x-720.png
ORGANIZER;CN="Danny Chulack":MAILTO:danny@emmanuel.org
END:VEVENT
BEGIN:VEVENT
DTSTART;TZID=America/Los_Angeles:20230709T100000
DTEND;TZID=America/Los_Angeles:20230709T110000
DTSTAMP:20260425T090114
CREATED:20220830T184757Z
LAST-MODIFIED:20230830T214544Z
UID:10003686-1688896800-1688900400@emmanuelthousandoaks.org
SUMMARY:Children's Sunday School
DESCRIPTION:Sunday school for children takes place each Sunday from 10 to 11 am during the adult worship service. Children 3 and under go to the nursery\, Preschool and Kindergarten children meet in Room 1/2\, and children in grades 1 to 5 meet on the playground or in Room 5/6. We use age-appropriate curriculum that focuses on play-based learning and encourages children to ask questions as they interact with Bible stories. \n 
URL:https://emmanuelthousandoaks.org/event/childrens-sunday-school/2023-07-09/
LOCATION:Room 5/6 and playground area at Emmanuel\, 588 Camino Manzanas\, Thousand Oaks\, CA\, 91360\, United States
ATTACH;FMTTYPE=image/png:https://emmanuelthousandoaks.org/wp-content/uploads/2022/08/Screen-Shot-2022-08-23-at-10.46.57-AM.png
ORGANIZER;CN="Debbie Barber":MAILTO:debbie@emmanuelto.org
GEO:34.1983825;-118.8910816
X-APPLE-STRUCTURED-LOCATION;VALUE=URI;X-ADDRESS=Room 5/6 and playground area at Emmanuel 588 Camino Manzanas Thousand Oaks CA 91360 United States;X-APPLE-RADIUS=500;X-TITLE=588 Camino Manzanas:geo:-118.8910816,34.1983825
END:VEVENT
BEGIN:VEVENT
DTSTART;TZID=America/Los_Angeles:20230709T100000
DTEND;TZID=America/Los_Angeles:20230709T110000
DTSTAMP:20260425T090114
CREATED:20230212T061321Z
LAST-MODIFIED:20250722T204006Z
UID:10003268-1688896800-1688900400@emmanuelthousandoaks.org
SUMMARY:Worship
DESCRIPTION:Worship in the Sanctuary begins at 10am. \nLivestream available here: Emmanuel Live Stream\nNEW! Access the Online Church Bulletin \nLink to our Online Giving Page
URL:https://emmanuelthousandoaks.org/event/worship/2023-07-09/
LOCATION:Sanctuary\, 538 Camino Manzanas\, Thousand Oaks\, CA\, 91360
CATEGORIES:Adult
ATTACH;FMTTYPE=image/jpeg:https://emmanuelthousandoaks.org/wp-content/uploads/2023/02/Emmanuel-line-drawing-1280-x-720.jpg
ORGANIZER;CN="David Anderson":MAILTO:david@emmanuelto.org
GEO:34.199062;-118.8898478
X-APPLE-STRUCTURED-LOCATION;VALUE=URI;X-ADDRESS=Sanctuary 538 Camino Manzanas Thousand Oaks CA 91360;X-APPLE-RADIUS=500;X-TITLE=538 Camino Manzanas:geo:-118.8898478,34.199062
END:VEVENT
BEGIN:VEVENT
DTSTART;TZID=America/Los_Angeles:20230711T140000
DTEND;TZID=America/Los_Angeles:20230711T170000
DTSTAMP:20260425T090114
CREATED:20230710T201804Z
LAST-MODIFIED:20230710T201804Z
UID:10003328-1689084000-1689094800@emmanuelthousandoaks.org
SUMMARY:Pool Day
DESCRIPTION:Pool Day! \n\nPool day tomorrow at the Halls! Check the directory for the address.\n\n\nPool days are simply open pools for you and your family to enjoy on selected days through the summer. Bring your own kids\, food\, drink\, chairs\, towels etc. the only thing the host provides is the pool and bathroom access. Join other families – pools are better with friends!
URL:https://emmanuelthousandoaks.org/event/pool-day/
LOCATION:Thousand Oaks\, CA\, United States
GEO:36.778261;-119.4179324
END:VEVENT
BEGIN:VEVENT
DTSTART;TZID=America/Los_Angeles:20230712T190000
DTEND;TZID=America/Los_Angeles:20230712T203000
DTSTAMP:20260425T090114
CREATED:20230605T014942Z
LAST-MODIFIED:20230830T213806Z
UID:10003608-1689188400-1689193800@emmanuelthousandoaks.org
SUMMARY:Youth Group
DESCRIPTION:
URL:https://emmanuelthousandoaks.org/event/youth-group-98/2023-07-12/
LOCATION:Youth Room
CATEGORIES:Youth
ATTACH;FMTTYPE=image/png:https://emmanuelthousandoaks.org/wp-content/uploads/2023/02/Youth-Group-landscape-1280-x-720.png
ORGANIZER;CN="Danny Chulack":MAILTO:danny@emmanuel.org
END:VEVENT
BEGIN:VEVENT
DTSTART;TZID=America/Los_Angeles:20230715T090000
DTEND;TZID=America/Los_Angeles:20230715T110000
DTSTAMP:20260425T090114
CREATED:20230712T213230Z
LAST-MODIFIED:20230712T213230Z
UID:10003331-1689411600-1689418800@emmanuelthousandoaks.org
SUMMARY:Prop Painting for Camp Joy
DESCRIPTION:Over the next few weeks we will be gearing up for Camp Joy!  If you are available to help paint some props for the sanctuary or cut out some items for classrooms we will be gathering on the following two Saturdays –   We’ll meet from 9 to 11. \nSat. July 15\nSat. July 29
URL:https://emmanuelthousandoaks.org/event/prop-painting-for-camp-joy/
LOCATION:Thousand Oaks\, CA\, United States
ORGANIZER;CN="Kelly Bagdanov":MAILTO:kbagdanov@gmail.com
GEO:36.778261;-119.4179324
END:VEVENT
BEGIN:VEVENT
DTSTART;TZID=America/Los_Angeles:20230716T100000
DTEND;TZID=America/Los_Angeles:20230716T110000
DTSTAMP:20260425T090114
CREATED:20220830T184757Z
LAST-MODIFIED:20230830T214544Z
UID:10003687-1689501600-1689505200@emmanuelthousandoaks.org
SUMMARY:Children's Sunday School
DESCRIPTION:Sunday school for children takes place each Sunday from 10 to 11 am during the adult worship service. Children 3 and under go to the nursery\, Preschool and Kindergarten children meet in Room 1/2\, and children in grades 1 to 5 meet on the playground or in Room 5/6. We use age-appropriate curriculum that focuses on play-based learning and encourages children to ask questions as they interact with Bible stories. \n 
URL:https://emmanuelthousandoaks.org/event/childrens-sunday-school/2023-07-16/
LOCATION:Room 5/6 and playground area at Emmanuel\, 588 Camino Manzanas\, Thousand Oaks\, CA\, 91360\, United States
ATTACH;FMTTYPE=image/png:https://emmanuelthousandoaks.org/wp-content/uploads/2022/08/Screen-Shot-2022-08-23-at-10.46.57-AM.png
ORGANIZER;CN="Debbie Barber":MAILTO:debbie@emmanuelto.org
GEO:34.1983825;-118.8910816
X-APPLE-STRUCTURED-LOCATION;VALUE=URI;X-ADDRESS=Room 5/6 and playground area at Emmanuel 588 Camino Manzanas Thousand Oaks CA 91360 United States;X-APPLE-RADIUS=500;X-TITLE=588 Camino Manzanas:geo:-118.8910816,34.1983825
END:VEVENT
BEGIN:VEVENT
DTSTART;TZID=America/Los_Angeles:20230716T100000
DTEND;TZID=America/Los_Angeles:20230716T110000
DTSTAMP:20260425T090114
CREATED:20230212T061321Z
LAST-MODIFIED:20250722T204006Z
UID:10003269-1689501600-1689505200@emmanuelthousandoaks.org
SUMMARY:Worship
DESCRIPTION:Worship in the Sanctuary begins at 10am. \nLivestream available here: Emmanuel Live Stream\nNEW! Access the Online Church Bulletin \nLink to our Online Giving Page
URL:https://emmanuelthousandoaks.org/event/worship/2023-07-16/
LOCATION:Sanctuary\, 538 Camino Manzanas\, Thousand Oaks\, CA\, 91360
CATEGORIES:Adult
ATTACH;FMTTYPE=image/jpeg:https://emmanuelthousandoaks.org/wp-content/uploads/2023/02/Emmanuel-line-drawing-1280-x-720.jpg
ORGANIZER;CN="David Anderson":MAILTO:david@emmanuelto.org
GEO:34.199062;-118.8898478
X-APPLE-STRUCTURED-LOCATION;VALUE=URI;X-ADDRESS=Sanctuary 538 Camino Manzanas Thousand Oaks CA 91360;X-APPLE-RADIUS=500;X-TITLE=538 Camino Manzanas:geo:-118.8898478,34.199062
END:VEVENT
BEGIN:VEVENT
DTSTART;TZID=America/Los_Angeles:20230719T190000
DTEND;TZID=America/Los_Angeles:20230719T203000
DTSTAMP:20260425T090114
CREATED:20230605T014942Z
LAST-MODIFIED:20230830T213806Z
UID:10003609-1689793200-1689798600@emmanuelthousandoaks.org
SUMMARY:Youth Group
DESCRIPTION:
URL:https://emmanuelthousandoaks.org/event/youth-group-98/2023-07-19/
LOCATION:Youth Room
CATEGORIES:Youth
ATTACH;FMTTYPE=image/png:https://emmanuelthousandoaks.org/wp-content/uploads/2023/02/Youth-Group-landscape-1280-x-720.png
ORGANIZER;CN="Danny Chulack":MAILTO:danny@emmanuel.org
END:VEVENT
BEGIN:VEVENT
DTSTART;TZID=America/Los_Angeles:20230720T100000
DTEND;TZID=America/Los_Angeles:20230720T110000
DTSTAMP:20260425T090114
CREATED:20230716T050710Z
LAST-MODIFIED:20230716T050710Z
UID:10003332-1689847200-1689850800@emmanuelthousandoaks.org
SUMMARY:Story and Craft Day
DESCRIPTION:Bring your kids to a story and craft time in our Church Library\, room 8. Thursday\, 10am\,
URL:https://emmanuelthousandoaks.org/event/story-and-craft-day/
LOCATION:Room 8 Children’s Library\, 538 Camino Manzanas\, Thousand Oaks
CATEGORIES:Early Childhood,Elementary
ORGANIZER;CN="Debbie Barber":MAILTO:debbie@emmanuelto.org
GEO:34.199068;-118.8898509
X-APPLE-STRUCTURED-LOCATION;VALUE=URI;X-ADDRESS=Room 8 Children’s Library 538 Camino Manzanas Thousand Oaks;X-APPLE-RADIUS=500;X-TITLE=538 Camino Manzanas:geo:-118.8898509,34.199068
END:VEVENT
BEGIN:VEVENT
DTSTART;TZID=America/Los_Angeles:20230722T100000
DTEND;TZID=America/Los_Angeles:20230722T170000
DTSTAMP:20260425T090114
CREATED:20230716T050829Z
LAST-MODIFIED:20230716T050829Z
UID:10003333-1690020000-1690045200@emmanuelthousandoaks.org
SUMMARY:Beach Day
DESCRIPTION:It’s heating up! \nFind us at the beach on Saturday! 10am to whenever. \nVentura Harbor Cove Beach
URL:https://emmanuelthousandoaks.org/event/beach-day-2/
LOCATION:Ventura Harbor Cove Beach\, 1878-1998 Spinnaker Dr\,\, Ventura\, CA\, 93001\, United States
GEO:34.2478625;-119.2668097
X-APPLE-STRUCTURED-LOCATION;VALUE=URI;X-ADDRESS=Ventura Harbor Cove Beach 1878-1998 Spinnaker Dr Ventura CA 93001 United States;X-APPLE-RADIUS=500;X-TITLE=1878-1998 Spinnaker Dr\,:geo:-119.2668097,34.2478625
END:VEVENT
BEGIN:VEVENT
DTSTART;TZID=America/Los_Angeles:20230723T100000
DTEND;TZID=America/Los_Angeles:20230723T110000
DTSTAMP:20260425T090114
CREATED:20220830T184757Z
LAST-MODIFIED:20230830T214544Z
UID:10003688-1690106400-1690110000@emmanuelthousandoaks.org
SUMMARY:Children's Sunday School
DESCRIPTION:Sunday school for children takes place each Sunday from 10 to 11 am during the adult worship service. Children 3 and under go to the nursery\, Preschool and Kindergarten children meet in Room 1/2\, and children in grades 1 to 5 meet on the playground or in Room 5/6. We use age-appropriate curriculum that focuses on play-based learning and encourages children to ask questions as they interact with Bible stories. \n 
URL:https://emmanuelthousandoaks.org/event/childrens-sunday-school/2023-07-23/
LOCATION:Room 5/6 and playground area at Emmanuel\, 588 Camino Manzanas\, Thousand Oaks\, CA\, 91360\, United States
ATTACH;FMTTYPE=image/png:https://emmanuelthousandoaks.org/wp-content/uploads/2022/08/Screen-Shot-2022-08-23-at-10.46.57-AM.png
ORGANIZER;CN="Debbie Barber":MAILTO:debbie@emmanuelto.org
GEO:34.1983825;-118.8910816
X-APPLE-STRUCTURED-LOCATION;VALUE=URI;X-ADDRESS=Room 5/6 and playground area at Emmanuel 588 Camino Manzanas Thousand Oaks CA 91360 United States;X-APPLE-RADIUS=500;X-TITLE=588 Camino Manzanas:geo:-118.8910816,34.1983825
END:VEVENT
BEGIN:VEVENT
DTSTART;TZID=America/Los_Angeles:20230723T100000
DTEND;TZID=America/Los_Angeles:20230723T110000
DTSTAMP:20260425T090114
CREATED:20230212T061321Z
LAST-MODIFIED:20250722T204006Z
UID:10003270-1690106400-1690110000@emmanuelthousandoaks.org
SUMMARY:Worship
DESCRIPTION:Worship in the Sanctuary begins at 10am. \nLivestream available here: Emmanuel Live Stream\nNEW! Access the Online Church Bulletin \nLink to our Online Giving Page
URL:https://emmanuelthousandoaks.org/event/worship/2023-07-23/
LOCATION:Sanctuary\, 538 Camino Manzanas\, Thousand Oaks\, CA\, 91360
CATEGORIES:Adult
ATTACH;FMTTYPE=image/jpeg:https://emmanuelthousandoaks.org/wp-content/uploads/2023/02/Emmanuel-line-drawing-1280-x-720.jpg
ORGANIZER;CN="David Anderson":MAILTO:david@emmanuelto.org
GEO:34.199062;-118.8898478
X-APPLE-STRUCTURED-LOCATION;VALUE=URI;X-ADDRESS=Sanctuary 538 Camino Manzanas Thousand Oaks CA 91360;X-APPLE-RADIUS=500;X-TITLE=538 Camino Manzanas:geo:-118.8898478,34.199062
END:VEVENT
BEGIN:VEVENT
DTSTART;TZID=America/Los_Angeles:20230726T190000
DTEND;TZID=America/Los_Angeles:20230726T203000
DTSTAMP:20260425T090114
CREATED:20230605T014942Z
LAST-MODIFIED:20230830T213806Z
UID:10003610-1690398000-1690403400@emmanuelthousandoaks.org
SUMMARY:Youth Group
DESCRIPTION:
URL:https://emmanuelthousandoaks.org/event/youth-group-98/2023-07-26/
LOCATION:Youth Room
CATEGORIES:Youth
ATTACH;FMTTYPE=image/png:https://emmanuelthousandoaks.org/wp-content/uploads/2023/02/Youth-Group-landscape-1280-x-720.png
ORGANIZER;CN="Danny Chulack":MAILTO:danny@emmanuel.org
END:VEVENT
BEGIN:VEVENT
DTSTART;TZID=America/Los_Angeles:20230730T100000
DTEND;TZID=America/Los_Angeles:20230730T110000
DTSTAMP:20260425T090114
CREATED:20220830T184757Z
LAST-MODIFIED:20230830T214544Z
UID:10003689-1690711200-1690714800@emmanuelthousandoaks.org
SUMMARY:Children's Sunday School
DESCRIPTION:Sunday school for children takes place each Sunday from 10 to 11 am during the adult worship service. Children 3 and under go to the nursery\, Preschool and Kindergarten children meet in Room 1/2\, and children in grades 1 to 5 meet on the playground or in Room 5/6. We use age-appropriate curriculum that focuses on play-based learning and encourages children to ask questions as they interact with Bible stories. \n 
URL:https://emmanuelthousandoaks.org/event/childrens-sunday-school/2023-07-30/
LOCATION:Room 5/6 and playground area at Emmanuel\, 588 Camino Manzanas\, Thousand Oaks\, CA\, 91360\, United States
ATTACH;FMTTYPE=image/png:https://emmanuelthousandoaks.org/wp-content/uploads/2022/08/Screen-Shot-2022-08-23-at-10.46.57-AM.png
ORGANIZER;CN="Debbie Barber":MAILTO:debbie@emmanuelto.org
GEO:34.1983825;-118.8910816
X-APPLE-STRUCTURED-LOCATION;VALUE=URI;X-ADDRESS=Room 5/6 and playground area at Emmanuel 588 Camino Manzanas Thousand Oaks CA 91360 United States;X-APPLE-RADIUS=500;X-TITLE=588 Camino Manzanas:geo:-118.8910816,34.1983825
END:VEVENT
BEGIN:VEVENT
DTSTART;TZID=America/Los_Angeles:20230730T100000
DTEND;TZID=America/Los_Angeles:20230730T110000
DTSTAMP:20260425T090114
CREATED:20230212T061321Z
LAST-MODIFIED:20250722T204006Z
UID:10003271-1690711200-1690714800@emmanuelthousandoaks.org
SUMMARY:Worship
DESCRIPTION:Worship in the Sanctuary begins at 10am. \nLivestream available here: Emmanuel Live Stream\nNEW! Access the Online Church Bulletin \nLink to our Online Giving Page
URL:https://emmanuelthousandoaks.org/event/worship/2023-07-30/
LOCATION:Sanctuary\, 538 Camino Manzanas\, Thousand Oaks\, CA\, 91360
CATEGORIES:Adult
ATTACH;FMTTYPE=image/jpeg:https://emmanuelthousandoaks.org/wp-content/uploads/2023/02/Emmanuel-line-drawing-1280-x-720.jpg
ORGANIZER;CN="David Anderson":MAILTO:david@emmanuelto.org
GEO:34.199062;-118.8898478
X-APPLE-STRUCTURED-LOCATION;VALUE=URI;X-ADDRESS=Sanctuary 538 Camino Manzanas Thousand Oaks CA 91360;X-APPLE-RADIUS=500;X-TITLE=538 Camino Manzanas:geo:-118.8898478,34.199062
END:VEVENT
END:VCALENDAR