BEGIN:VCALENDAR
VERSION:2.0
PRODID:-//Emmanuel Presbyterian Church - ECPv6.15.20//NONSGML v1.0//EN
CALSCALE:GREGORIAN
METHOD:PUBLISH
X-WR-CALNAME:Emmanuel Presbyterian Church
X-ORIGINAL-URL:https://emmanuelthousandoaks.org
X-WR-CALDESC:Events for Emmanuel Presbyterian Church
REFRESH-INTERVAL;VALUE=DURATION:PT1H
X-Robots-Tag:noindex
X-PUBLISHED-TTL:PT1H
BEGIN:VTIMEZONE
TZID:America/Los_Angeles
BEGIN:DAYLIGHT
TZOFFSETFROM:-0800
TZOFFSETTO:-0700
TZNAME:PDT
DTSTART:20230312T100000
END:DAYLIGHT
BEGIN:STANDARD
TZOFFSETFROM:-0700
TZOFFSETTO:-0800
TZNAME:PST
DTSTART:20231105T090000
END:STANDARD
BEGIN:DAYLIGHT
TZOFFSETFROM:-0800
TZOFFSETTO:-0700
TZNAME:PDT
DTSTART:20240310T100000
END:DAYLIGHT
BEGIN:STANDARD
TZOFFSETFROM:-0700
TZOFFSETTO:-0800
TZNAME:PST
DTSTART:20241103T090000
END:STANDARD
BEGIN:DAYLIGHT
TZOFFSETFROM:-0800
TZOFFSETTO:-0700
TZNAME:PDT
DTSTART:20250309T100000
END:DAYLIGHT
BEGIN:STANDARD
TZOFFSETFROM:-0700
TZOFFSETTO:-0800
TZNAME:PST
DTSTART:20251102T090000
END:STANDARD
END:VTIMEZONE
BEGIN:VEVENT
DTSTART;TZID=America/Los_Angeles:20241201T100000
DTEND;TZID=America/Los_Angeles:20241201T110000
DTSTAMP:20260424T022423
CREATED:20230212T061321Z
LAST-MODIFIED:20250722T204006Z
UID:10003763-1733047200-1733050800@emmanuelthousandoaks.org
SUMMARY:Worship
DESCRIPTION:Worship in the Sanctuary begins at 10am. \nLivestream available here: Emmanuel Live Stream\nNEW! Access the Online Church Bulletin \nLink to our Online Giving Page
URL:https://emmanuelthousandoaks.org/event/worship/2024-12-01/
LOCATION:Sanctuary\, 538 Camino Manzanas\, Thousand Oaks\, CA\, 91360
CATEGORIES:Adult
ATTACH;FMTTYPE=image/jpeg:https://emmanuelthousandoaks.org/wp-content/uploads/2023/02/Emmanuel-line-drawing-1280-x-720.jpg
ORGANIZER;CN="David Anderson":MAILTO:david@emmanuelto.org
GEO:34.199062;-118.8898478
X-APPLE-STRUCTURED-LOCATION;VALUE=URI;X-ADDRESS=Sanctuary 538 Camino Manzanas Thousand Oaks CA 91360;X-APPLE-RADIUS=500;X-TITLE=538 Camino Manzanas:geo:-118.8898478,34.199062
END:VEVENT
BEGIN:VEVENT
DTSTART;TZID=America/Los_Angeles:20241204T083000
DTEND;TZID=America/Los_Angeles:20241204T123000
DTSTAMP:20260424T022423
CREATED:20241008T185437Z
LAST-MODIFIED:20241008T185439Z
UID:10004027-1733301000-1733315400@emmanuelthousandoaks.org
SUMMARY:Play Days!
DESCRIPTION:Play Days!\nGet together with other parents for coffee and conversation while your kids play. \n  \nWednesday Mornings from 8:30am to Noon the Nursery and Play Area are available to hang out. We have a lovely brand new couch and Nespresso machine  for your enjoyment. Best of all are the people! Come and hang out.
URL:https://emmanuelthousandoaks.org/event/play-days-2/2024-12-04/
LOCATION:Nursery & Playground Area\, 583 Camino Manzanas\, Thousand Oaks\, CA\, 93160\, United States
CATEGORIES:Adult,Early Childhood
ATTACH;FMTTYPE=image/png:https://emmanuelthousandoaks.org/wp-content/uploads/2024/03/Slide8.png
ORGANIZER;CN="Debbie Barber":MAILTO:debbie@emmanuelto.org
GEO:34.1992874;-118.8908597
X-APPLE-STRUCTURED-LOCATION;VALUE=URI;X-ADDRESS=Nursery & Playground Area 583 Camino Manzanas Thousand Oaks CA 93160 United States;X-APPLE-RADIUS=500;X-TITLE=583 Camino Manzanas:geo:-118.8908597,34.1992874
END:VEVENT
BEGIN:VEVENT
DTSTART;TZID=America/Los_Angeles:20241204T190000
DTEND;TZID=America/Los_Angeles:20241204T203000
DTSTAMP:20260424T022423
CREATED:20230605T014942Z
LAST-MODIFIED:20230830T213806Z
UID:10003680-1733338800-1733344200@emmanuelthousandoaks.org
SUMMARY:Youth Group
DESCRIPTION:
URL:https://emmanuelthousandoaks.org/event/youth-group-98/2024-12-04/
LOCATION:Youth Room
CATEGORIES:Youth
ATTACH;FMTTYPE=image/png:https://emmanuelthousandoaks.org/wp-content/uploads/2023/02/Youth-Group-landscape-1280-x-720.png
ORGANIZER;CN="Danny Chulack":MAILTO:danny@emmanuel.org
END:VEVENT
BEGIN:VEVENT
DTSTART;TZID=America/Los_Angeles:20241208T100000
DTEND;TZID=America/Los_Angeles:20241208T110000
DTSTAMP:20260424T022423
CREATED:20230212T061321Z
LAST-MODIFIED:20250722T204006Z
UID:10003764-1733652000-1733655600@emmanuelthousandoaks.org
SUMMARY:Worship
DESCRIPTION:Worship in the Sanctuary begins at 10am. \nLivestream available here: Emmanuel Live Stream\nNEW! Access the Online Church Bulletin \nLink to our Online Giving Page
URL:https://emmanuelthousandoaks.org/event/worship/2024-12-08/
LOCATION:Sanctuary\, 538 Camino Manzanas\, Thousand Oaks\, CA\, 91360
CATEGORIES:Adult
ATTACH;FMTTYPE=image/jpeg:https://emmanuelthousandoaks.org/wp-content/uploads/2023/02/Emmanuel-line-drawing-1280-x-720.jpg
ORGANIZER;CN="David Anderson":MAILTO:david@emmanuelto.org
GEO:34.199062;-118.8898478
X-APPLE-STRUCTURED-LOCATION;VALUE=URI;X-ADDRESS=Sanctuary 538 Camino Manzanas Thousand Oaks CA 91360;X-APPLE-RADIUS=500;X-TITLE=538 Camino Manzanas:geo:-118.8898478,34.199062
END:VEVENT
BEGIN:VEVENT
DTSTART;TZID=America/Los_Angeles:20241211T083000
DTEND;TZID=America/Los_Angeles:20241211T123000
DTSTAMP:20260424T022423
CREATED:20241008T185437Z
LAST-MODIFIED:20241008T185439Z
UID:10004028-1733905800-1733920200@emmanuelthousandoaks.org
SUMMARY:Play Days!
DESCRIPTION:Play Days!\nGet together with other parents for coffee and conversation while your kids play. \n  \nWednesday Mornings from 8:30am to Noon the Nursery and Play Area are available to hang out. We have a lovely brand new couch and Nespresso machine  for your enjoyment. Best of all are the people! Come and hang out.
URL:https://emmanuelthousandoaks.org/event/play-days-2/2024-12-11/
LOCATION:Nursery & Playground Area\, 583 Camino Manzanas\, Thousand Oaks\, CA\, 93160\, United States
CATEGORIES:Adult,Early Childhood
ATTACH;FMTTYPE=image/png:https://emmanuelthousandoaks.org/wp-content/uploads/2024/03/Slide8.png
ORGANIZER;CN="Debbie Barber":MAILTO:debbie@emmanuelto.org
GEO:34.1992874;-118.8908597
X-APPLE-STRUCTURED-LOCATION;VALUE=URI;X-ADDRESS=Nursery & Playground Area 583 Camino Manzanas Thousand Oaks CA 93160 United States;X-APPLE-RADIUS=500;X-TITLE=583 Camino Manzanas:geo:-118.8908597,34.1992874
END:VEVENT
BEGIN:VEVENT
DTSTART;TZID=America/Los_Angeles:20241211T190000
DTEND;TZID=America/Los_Angeles:20241211T203000
DTSTAMP:20260424T022423
CREATED:20230605T014942Z
LAST-MODIFIED:20230830T213806Z
UID:10003681-1733943600-1733949000@emmanuelthousandoaks.org
SUMMARY:Youth Group
DESCRIPTION:
URL:https://emmanuelthousandoaks.org/event/youth-group-98/2024-12-11/
LOCATION:Youth Room
CATEGORIES:Youth
ATTACH;FMTTYPE=image/png:https://emmanuelthousandoaks.org/wp-content/uploads/2023/02/Youth-Group-landscape-1280-x-720.png
ORGANIZER;CN="Danny Chulack":MAILTO:danny@emmanuel.org
END:VEVENT
BEGIN:VEVENT
DTSTART;TZID=America/Los_Angeles:20241215T100000
DTEND;TZID=America/Los_Angeles:20241215T110000
DTSTAMP:20260424T022423
CREATED:20230212T061321Z
LAST-MODIFIED:20250722T204006Z
UID:10003765-1734256800-1734260400@emmanuelthousandoaks.org
SUMMARY:Worship
DESCRIPTION:Worship in the Sanctuary begins at 10am. \nLivestream available here: Emmanuel Live Stream\nNEW! Access the Online Church Bulletin \nLink to our Online Giving Page
URL:https://emmanuelthousandoaks.org/event/worship/2024-12-15/
LOCATION:Sanctuary\, 538 Camino Manzanas\, Thousand Oaks\, CA\, 91360
CATEGORIES:Adult
ATTACH;FMTTYPE=image/jpeg:https://emmanuelthousandoaks.org/wp-content/uploads/2023/02/Emmanuel-line-drawing-1280-x-720.jpg
ORGANIZER;CN="David Anderson":MAILTO:david@emmanuelto.org
GEO:34.199062;-118.8898478
X-APPLE-STRUCTURED-LOCATION;VALUE=URI;X-ADDRESS=Sanctuary 538 Camino Manzanas Thousand Oaks CA 91360;X-APPLE-RADIUS=500;X-TITLE=538 Camino Manzanas:geo:-118.8898478,34.199062
END:VEVENT
BEGIN:VEVENT
DTSTART;TZID=America/Los_Angeles:20241218T083000
DTEND;TZID=America/Los_Angeles:20241218T123000
DTSTAMP:20260424T022423
CREATED:20241008T185437Z
LAST-MODIFIED:20241008T185439Z
UID:10004029-1734510600-1734525000@emmanuelthousandoaks.org
SUMMARY:Play Days!
DESCRIPTION:Play Days!\nGet together with other parents for coffee and conversation while your kids play. \n  \nWednesday Mornings from 8:30am to Noon the Nursery and Play Area are available to hang out. We have a lovely brand new couch and Nespresso machine  for your enjoyment. Best of all are the people! Come and hang out.
URL:https://emmanuelthousandoaks.org/event/play-days-2/2024-12-18/
LOCATION:Nursery & Playground Area\, 583 Camino Manzanas\, Thousand Oaks\, CA\, 93160\, United States
CATEGORIES:Adult,Early Childhood
ATTACH;FMTTYPE=image/png:https://emmanuelthousandoaks.org/wp-content/uploads/2024/03/Slide8.png
ORGANIZER;CN="Debbie Barber":MAILTO:debbie@emmanuelto.org
GEO:34.1992874;-118.8908597
X-APPLE-STRUCTURED-LOCATION;VALUE=URI;X-ADDRESS=Nursery & Playground Area 583 Camino Manzanas Thousand Oaks CA 93160 United States;X-APPLE-RADIUS=500;X-TITLE=583 Camino Manzanas:geo:-118.8908597,34.1992874
END:VEVENT
BEGIN:VEVENT
DTSTART;TZID=America/Los_Angeles:20241222T100000
DTEND;TZID=America/Los_Angeles:20241222T110000
DTSTAMP:20260424T022423
CREATED:20230212T061321Z
LAST-MODIFIED:20250722T204006Z
UID:10003766-1734861600-1734865200@emmanuelthousandoaks.org
SUMMARY:Worship
DESCRIPTION:Worship in the Sanctuary begins at 10am. \nLivestream available here: Emmanuel Live Stream\nNEW! Access the Online Church Bulletin \nLink to our Online Giving Page
URL:https://emmanuelthousandoaks.org/event/worship/2024-12-22/
LOCATION:Sanctuary\, 538 Camino Manzanas\, Thousand Oaks\, CA\, 91360
CATEGORIES:Adult
ATTACH;FMTTYPE=image/jpeg:https://emmanuelthousandoaks.org/wp-content/uploads/2023/02/Emmanuel-line-drawing-1280-x-720.jpg
ORGANIZER;CN="David Anderson":MAILTO:david@emmanuelto.org
GEO:34.199062;-118.8898478
X-APPLE-STRUCTURED-LOCATION;VALUE=URI;X-ADDRESS=Sanctuary 538 Camino Manzanas Thousand Oaks CA 91360;X-APPLE-RADIUS=500;X-TITLE=538 Camino Manzanas:geo:-118.8898478,34.199062
END:VEVENT
BEGIN:VEVENT
DTSTART;TZID=America/Los_Angeles:20241223T090000
DTEND;TZID=America/Los_Angeles:20241223T120000
DTSTAMP:20260424T022423
CREATED:20241206T232525Z
LAST-MODIFIED:20241206T232525Z
UID:10004380-1734944400-1734955200@emmanuelthousandoaks.org
SUMMARY:Maker Day
DESCRIPTION:Start your winter break off with a creative morning in our maker space in Room 5/6. Maker space will be open from 9am to noon with a variety of materials and ideas to work with. All are welcome\, from age 5 to 105!
URL:https://emmanuelthousandoaks.org/event/maker-day/
LOCATION:California
ATTACH;FMTTYPE=image/png:https://emmanuelthousandoaks.org/wp-content/uploads/2024/12/Maker-Day.png
ORGANIZER;CN="Debbie Barber":MAILTO:debbie@emmanuelto.org
END:VEVENT
BEGIN:VEVENT
DTSTART;TZID=America/Los_Angeles:20241224T183000
DTEND;TZID=America/Los_Angeles:20241224T203000
DTSTAMP:20260424T022423
CREATED:20240213T213036Z
LAST-MODIFIED:20251021T193513Z
UID:10004687-1735065000-1735072200@emmanuelthousandoaks.org
SUMMARY:Session Meeting
DESCRIPTION:Session is a body of elected Elders who govern the church. Elders meeting once a month in the Conference Room at Emmanuel.
URL:https://emmanuelthousandoaks.org/event/session-meeting-2/2024-12-24/
LOCATION:Conference Room\, 538 Camino Manzanas\, Thousand Oaks\, CA
CATEGORIES:Adult
ATTACH;FMTTYPE=image/png:https://emmanuelthousandoaks.org/wp-content/uploads/2022/04/Session-Featured-Image.png
ORGANIZER;CN="David Anderson":MAILTO:david@emmanuelto.org
GEO:34.199068;-118.8898509
X-APPLE-STRUCTURED-LOCATION;VALUE=URI;X-ADDRESS=Conference Room 538 Camino Manzanas Thousand Oaks CA;X-APPLE-RADIUS=500;X-TITLE=538 Camino Manzanas:geo:-118.8898509,34.199068
END:VEVENT
BEGIN:VEVENT
DTSTART;TZID=America/Los_Angeles:20241225T083000
DTEND;TZID=America/Los_Angeles:20241225T123000
DTSTAMP:20260424T022423
CREATED:20241008T185437Z
LAST-MODIFIED:20241008T185439Z
UID:10004030-1735115400-1735129800@emmanuelthousandoaks.org
SUMMARY:Play Days!
DESCRIPTION:Play Days!\nGet together with other parents for coffee and conversation while your kids play. \n  \nWednesday Mornings from 8:30am to Noon the Nursery and Play Area are available to hang out. We have a lovely brand new couch and Nespresso machine  for your enjoyment. Best of all are the people! Come and hang out.
URL:https://emmanuelthousandoaks.org/event/play-days-2/2024-12-25/
LOCATION:Nursery & Playground Area\, 583 Camino Manzanas\, Thousand Oaks\, CA\, 93160\, United States
CATEGORIES:Adult,Early Childhood
ATTACH;FMTTYPE=image/png:https://emmanuelthousandoaks.org/wp-content/uploads/2024/03/Slide8.png
ORGANIZER;CN="Debbie Barber":MAILTO:debbie@emmanuelto.org
GEO:34.1992874;-118.8908597
X-APPLE-STRUCTURED-LOCATION;VALUE=URI;X-ADDRESS=Nursery & Playground Area 583 Camino Manzanas Thousand Oaks CA 93160 United States;X-APPLE-RADIUS=500;X-TITLE=583 Camino Manzanas:geo:-118.8908597,34.1992874
END:VEVENT
BEGIN:VEVENT
DTSTART;TZID=America/Los_Angeles:20241229T100000
DTEND;TZID=America/Los_Angeles:20241229T110000
DTSTAMP:20260424T022423
CREATED:20230212T061321Z
LAST-MODIFIED:20250722T204006Z
UID:10003767-1735466400-1735470000@emmanuelthousandoaks.org
SUMMARY:Worship
DESCRIPTION:Worship in the Sanctuary begins at 10am. \nLivestream available here: Emmanuel Live Stream\nNEW! Access the Online Church Bulletin \nLink to our Online Giving Page
URL:https://emmanuelthousandoaks.org/event/worship/2024-12-29/
LOCATION:Sanctuary\, 538 Camino Manzanas\, Thousand Oaks\, CA\, 91360
CATEGORIES:Adult
ATTACH;FMTTYPE=image/jpeg:https://emmanuelthousandoaks.org/wp-content/uploads/2023/02/Emmanuel-line-drawing-1280-x-720.jpg
ORGANIZER;CN="David Anderson":MAILTO:david@emmanuelto.org
GEO:34.199062;-118.8898478
X-APPLE-STRUCTURED-LOCATION;VALUE=URI;X-ADDRESS=Sanctuary 538 Camino Manzanas Thousand Oaks CA 91360;X-APPLE-RADIUS=500;X-TITLE=538 Camino Manzanas:geo:-118.8898478,34.199062
END:VEVENT
END:VCALENDAR