BEGIN:VCALENDAR
VERSION:2.0
PRODID:-//Emmanuel Presbyterian Church - ECPv6.15.20//NONSGML v1.0//EN
CALSCALE:GREGORIAN
METHOD:PUBLISH
X-ORIGINAL-URL:https://emmanuelthousandoaks.org
X-WR-CALDESC:Events for Emmanuel Presbyterian Church
REFRESH-INTERVAL;VALUE=DURATION:PT1H
X-Robots-Tag:noindex
X-PUBLISHED-TTL:PT1H
BEGIN:VTIMEZONE
TZID:America/Los_Angeles
BEGIN:DAYLIGHT
TZOFFSETFROM:-0800
TZOFFSETTO:-0700
TZNAME:PDT
DTSTART:20240310T100000
END:DAYLIGHT
BEGIN:STANDARD
TZOFFSETFROM:-0700
TZOFFSETTO:-0800
TZNAME:PST
DTSTART:20241103T090000
END:STANDARD
BEGIN:DAYLIGHT
TZOFFSETFROM:-0800
TZOFFSETTO:-0700
TZNAME:PDT
DTSTART:20250309T100000
END:DAYLIGHT
BEGIN:STANDARD
TZOFFSETFROM:-0700
TZOFFSETTO:-0800
TZNAME:PST
DTSTART:20251102T090000
END:STANDARD
BEGIN:DAYLIGHT
TZOFFSETFROM:-0800
TZOFFSETTO:-0700
TZNAME:PDT
DTSTART:20260308T100000
END:DAYLIGHT
BEGIN:STANDARD
TZOFFSETFROM:-0700
TZOFFSETTO:-0800
TZNAME:PST
DTSTART:20261101T090000
END:STANDARD
END:VTIMEZONE
BEGIN:VEVENT
DTSTART;TZID=America/Los_Angeles:20250402T083000
DTEND;TZID=America/Los_Angeles:20250402T123000
DTSTAMP:20260423T190206
CREATED:20241229T040413Z
LAST-MODIFIED:20241229T041124Z
UID:10004044-1743582600-1743597000@emmanuelthousandoaks.org
SUMMARY:Play Days!
DESCRIPTION:Play Days!\nGet together with other parents for coffee and conversation while your kids play. \n  \nWednesday Mornings from 8:30am to Noon the Nursery and Play Area are available to hang out. We have a lovely brand new couch and Nespresso machine  for your enjoyment. Best of all are the people! Come and hang out.
URL:https://emmanuelthousandoaks.org/event/play-days-2-2/2025-04-02/
LOCATION:Nursery & Playground Area\, 583 Camino Manzanas\, Thousand Oaks\, CA\, 93160\, United States
CATEGORIES:Adult,Early Childhood
ATTACH;FMTTYPE=image/png:https://emmanuelthousandoaks.org/wp-content/uploads/2024/03/Slide8.png
ORGANIZER;CN="Debbie Barber":MAILTO:debbie@emmanuelto.org
GEO:34.1992874;-118.8908597
X-APPLE-STRUCTURED-LOCATION;VALUE=URI;X-ADDRESS=Nursery & Playground Area 583 Camino Manzanas Thousand Oaks CA 93160 United States;X-APPLE-RADIUS=500;X-TITLE=583 Camino Manzanas:geo:-118.8908597,34.1992874
END:VEVENT
BEGIN:VEVENT
DTSTART;TZID=America/Los_Angeles:20250403T080000
DTEND;TZID=America/Los_Angeles:20250403T170000
DTSTAMP:20260423T190206
CREATED:20250213T220355Z
LAST-MODIFIED:20250213T231727Z
UID:10004676-1743667200-1743699600@emmanuelthousandoaks.org
SUMMARY:Kintsugi Inspired Art Practice
DESCRIPTION:Every Thursday night during Lent we will be meeting at 6:30pm on Thursday evenings for an evening of Art inspired by the Japanese Kintsugi practice. Artistic skill is not needed and we will be exploring brokenness and transformation as a result of brokenness. \nMarch 6\, 6:30pm in the Fireside room. \nSign up so we know how many supplies to secure:  Sign up Sheet
URL:https://emmanuelthousandoaks.org/event/kintsugi-inspired-art-practice/2025-04-03/
LOCATION:California
CATEGORIES:Adult
ATTACH;FMTTYPE=image/png:https://emmanuelthousandoaks.org/wp-content/uploads/2025/02/Kintsugi-Art-class-2.png
END:VEVENT
BEGIN:VEVENT
DTSTART;TZID=America/Los_Angeles:20250405T090000
DTEND;TZID=America/Los_Angeles:20250405T130000
DTSTAMP:20260423T190206
CREATED:20240123T013012Z
LAST-MODIFIED:20250205T215809Z
UID:10004659-1743843600-1743858000@emmanuelthousandoaks.org
SUMMARY:Buddy Break
DESCRIPTION:Buddy Break is a FREE Parents’ Day Out/respite program where kids with all types of special needs (VIP kids) have FUN while their parents get a BREAK. At Buddy Break\, VIP kids and their siblings make new friends\, play games\, do crafts\, hear children’s stories\, enjoy music\, and more!\nMeanwhile\, parents get a break from their ongoing care-giving responsibilities\, usually for three hours on a Saturday morning. \nIf you are interested in helping out\, contact Robert Luce
URL:https://emmanuelthousandoaks.org/event/buddy-break/2025-04-05/
LOCATION:Room 5/6 and playground area at Emmanuel\, 588 Camino Manzanas\, Thousand Oaks\, CA\, 91360\, United States
ATTACH;FMTTYPE=image/png:https://emmanuelthousandoaks.org/wp-content/uploads/2024/01/Buddy-Break-Event-Featured-Images.png
ORGANIZER;CN="Robert Luce":MAILTO:robert.luce.rl@gmail.com
GEO:34.1983825;-118.8910816
X-APPLE-STRUCTURED-LOCATION;VALUE=URI;X-ADDRESS=Room 5/6 and playground area at Emmanuel 588 Camino Manzanas Thousand Oaks CA 91360 United States;X-APPLE-RADIUS=500;X-TITLE=588 Camino Manzanas:geo:-118.8910816,34.1983825
END:VEVENT
BEGIN:VEVENT
DTSTART;TZID=America/Los_Angeles:20250406T100000
DTEND;TZID=America/Los_Angeles:20250406T110000
DTSTAMP:20260423T190206
CREATED:20230212T061321Z
LAST-MODIFIED:20250722T204006Z
UID:10003781-1743933600-1743937200@emmanuelthousandoaks.org
SUMMARY:Worship
DESCRIPTION:Worship in the Sanctuary begins at 10am. \nLivestream available here: Emmanuel Live Stream\nNEW! Access the Online Church Bulletin \nLink to our Online Giving Page
URL:https://emmanuelthousandoaks.org/event/worship/2025-04-06/
LOCATION:Sanctuary\, 538 Camino Manzanas\, Thousand Oaks\, CA\, 91360
CATEGORIES:Adult
ATTACH;FMTTYPE=image/jpeg:https://emmanuelthousandoaks.org/wp-content/uploads/2023/02/Emmanuel-line-drawing-1280-x-720.jpg
ORGANIZER;CN="David Anderson":MAILTO:david@emmanuelto.org
GEO:34.199062;-118.8898478
X-APPLE-STRUCTURED-LOCATION;VALUE=URI;X-ADDRESS=Sanctuary 538 Camino Manzanas Thousand Oaks CA 91360;X-APPLE-RADIUS=500;X-TITLE=538 Camino Manzanas:geo:-118.8898478,34.199062
END:VEVENT
BEGIN:VEVENT
DTSTART;TZID=America/Los_Angeles:20250406T100000
DTEND;TZID=America/Los_Angeles:20250406T110000
DTSTAMP:20260423T190206
CREATED:20250115T185900Z
LAST-MODIFIED:20250205T210048Z
UID:10004405-1743933600-1743937200@emmanuelthousandoaks.org
SUMMARY:Sunday Morning Live Stream
DESCRIPTION:« Prev1 / 29Next »Live Worship Service - April 26\, 2026Live Worship Service - April 19\, 2026Live Worship Service - April 12\, 2026Live Worship Service - April 5\, 2026Live Worship Service - March 29\, 2026Live Worship Service - March 22\, 2026Live Worship Service - March 15\, 2026Live Worship Service - March 8\, 2026Live Worship Service - March 1\, 2026Live Worship Service - February 22\, 2026Live Worship Service - February 15\, 2026Live Worship Service - February 8\, 2026Live Worship Service - February 1\, 2026Live Worship Service - January 25\, 2026Live Worship Service - January 18\, 2026« Prev1 / 29Next »
URL:https://emmanuelthousandoaks.org/event/sunday-morning-live-stream/2025-04-06/
LOCATION:California
CATEGORIES:Alternative Church
ATTACH;FMTTYPE=image/png:https://emmanuelthousandoaks.org/wp-content/uploads/2025/01/Sunday-Morning-LiveStream.png
END:VEVENT
BEGIN:VEVENT
DTSTART;TZID=America/Los_Angeles:20250409T083000
DTEND;TZID=America/Los_Angeles:20250409T123000
DTSTAMP:20260423T190206
CREATED:20241229T040413Z
LAST-MODIFIED:20241229T041124Z
UID:10004045-1744187400-1744201800@emmanuelthousandoaks.org
SUMMARY:Play Days!
DESCRIPTION:Play Days!\nGet together with other parents for coffee and conversation while your kids play. \n  \nWednesday Mornings from 8:30am to Noon the Nursery and Play Area are available to hang out. We have a lovely brand new couch and Nespresso machine  for your enjoyment. Best of all are the people! Come and hang out.
URL:https://emmanuelthousandoaks.org/event/play-days-2-2/2025-04-09/
LOCATION:Nursery & Playground Area\, 583 Camino Manzanas\, Thousand Oaks\, CA\, 93160\, United States
CATEGORIES:Adult,Early Childhood
ATTACH;FMTTYPE=image/png:https://emmanuelthousandoaks.org/wp-content/uploads/2024/03/Slide8.png
ORGANIZER;CN="Debbie Barber":MAILTO:debbie@emmanuelto.org
GEO:34.1992874;-118.8908597
X-APPLE-STRUCTURED-LOCATION;VALUE=URI;X-ADDRESS=Nursery & Playground Area 583 Camino Manzanas Thousand Oaks CA 93160 United States;X-APPLE-RADIUS=500;X-TITLE=583 Camino Manzanas:geo:-118.8908597,34.1992874
END:VEVENT
BEGIN:VEVENT
DTSTART;TZID=America/Los_Angeles:20250410T080000
DTEND;TZID=America/Los_Angeles:20250410T170000
DTSTAMP:20260423T190206
CREATED:20250213T220355Z
LAST-MODIFIED:20250213T231727Z
UID:10004677-1744272000-1744304400@emmanuelthousandoaks.org
SUMMARY:Kintsugi Inspired Art Practice
DESCRIPTION:Every Thursday night during Lent we will be meeting at 6:30pm on Thursday evenings for an evening of Art inspired by the Japanese Kintsugi practice. Artistic skill is not needed and we will be exploring brokenness and transformation as a result of brokenness. \nMarch 6\, 6:30pm in the Fireside room. \nSign up so we know how many supplies to secure:  Sign up Sheet
URL:https://emmanuelthousandoaks.org/event/kintsugi-inspired-art-practice/2025-04-10/
LOCATION:California
CATEGORIES:Adult
ATTACH;FMTTYPE=image/png:https://emmanuelthousandoaks.org/wp-content/uploads/2025/02/Kintsugi-Art-class-2.png
END:VEVENT
BEGIN:VEVENT
DTSTART;TZID=America/Los_Angeles:20250413T100000
DTEND;TZID=America/Los_Angeles:20250413T110000
DTSTAMP:20260423T190206
CREATED:20230212T061321Z
LAST-MODIFIED:20250722T204006Z
UID:10003782-1744538400-1744542000@emmanuelthousandoaks.org
SUMMARY:Worship
DESCRIPTION:Worship in the Sanctuary begins at 10am. \nLivestream available here: Emmanuel Live Stream\nNEW! Access the Online Church Bulletin \nLink to our Online Giving Page
URL:https://emmanuelthousandoaks.org/event/worship/2025-04-13/
LOCATION:Sanctuary\, 538 Camino Manzanas\, Thousand Oaks\, CA\, 91360
CATEGORIES:Adult
ATTACH;FMTTYPE=image/jpeg:https://emmanuelthousandoaks.org/wp-content/uploads/2023/02/Emmanuel-line-drawing-1280-x-720.jpg
ORGANIZER;CN="David Anderson":MAILTO:david@emmanuelto.org
GEO:34.199062;-118.8898478
X-APPLE-STRUCTURED-LOCATION;VALUE=URI;X-ADDRESS=Sanctuary 538 Camino Manzanas Thousand Oaks CA 91360;X-APPLE-RADIUS=500;X-TITLE=538 Camino Manzanas:geo:-118.8898478,34.199062
END:VEVENT
BEGIN:VEVENT
DTSTART;TZID=America/Los_Angeles:20250413T100000
DTEND;TZID=America/Los_Angeles:20250413T110000
DTSTAMP:20260423T190206
CREATED:20250115T185900Z
LAST-MODIFIED:20250205T210048Z
UID:10004406-1744538400-1744542000@emmanuelthousandoaks.org
SUMMARY:Sunday Morning Live Stream
DESCRIPTION:« Prev1 / 29Next »Live Worship Service - April 26\, 2026Live Worship Service - April 19\, 2026Live Worship Service - April 12\, 2026Live Worship Service - April 5\, 2026Live Worship Service - March 29\, 2026Live Worship Service - March 22\, 2026Live Worship Service - March 15\, 2026Live Worship Service - March 8\, 2026Live Worship Service - March 1\, 2026Live Worship Service - February 22\, 2026Live Worship Service - February 15\, 2026Live Worship Service - February 8\, 2026Live Worship Service - February 1\, 2026Live Worship Service - January 25\, 2026Live Worship Service - January 18\, 2026« Prev1 / 29Next »
URL:https://emmanuelthousandoaks.org/event/sunday-morning-live-stream/2025-04-13/
LOCATION:California
CATEGORIES:Alternative Church
ATTACH;FMTTYPE=image/png:https://emmanuelthousandoaks.org/wp-content/uploads/2025/01/Sunday-Morning-LiveStream.png
END:VEVENT
BEGIN:VEVENT
DTSTART;TZID=America/Los_Angeles:20250416T080000
DTEND;TZID=America/Los_Angeles:20250416T100000
DTSTAMP:20260423T190207
CREATED:20250406T174012Z
LAST-MODIFIED:20250407T164517Z
UID:10004681-1744790400-1744797600@emmanuelthousandoaks.org
SUMMARY:Seniors Meeting Seniors
DESCRIPTION:ON Wednesday April 16 from 8-10am we are having an event designed for Seniors and some Seniors from Pepperdine University will be joining us. \nSign up at the QR Code or this link\, or see Steve Bagdanov for more info.
URL:https://emmanuelthousandoaks.org/event/seniors-meeting-seniors/
LOCATION:California
ATTACH;FMTTYPE=image/png:https://emmanuelthousandoaks.org/wp-content/uploads/2025/04/Seniors.png
ORGANIZER;CN="Steve Bagdanov":MAILTO:steve@stevebagdanov.com
END:VEVENT
BEGIN:VEVENT
DTSTART;TZID=America/Los_Angeles:20250416T083000
DTEND;TZID=America/Los_Angeles:20250416T123000
DTSTAMP:20260423T190207
CREATED:20241229T040413Z
LAST-MODIFIED:20241229T041124Z
UID:10004046-1744792200-1744806600@emmanuelthousandoaks.org
SUMMARY:Play Days!
DESCRIPTION:Play Days!\nGet together with other parents for coffee and conversation while your kids play. \n  \nWednesday Mornings from 8:30am to Noon the Nursery and Play Area are available to hang out. We have a lovely brand new couch and Nespresso machine  for your enjoyment. Best of all are the people! Come and hang out.
URL:https://emmanuelthousandoaks.org/event/play-days-2-2/2025-04-16/
LOCATION:Nursery & Playground Area\, 583 Camino Manzanas\, Thousand Oaks\, CA\, 93160\, United States
CATEGORIES:Adult,Early Childhood
ATTACH;FMTTYPE=image/png:https://emmanuelthousandoaks.org/wp-content/uploads/2024/03/Slide8.png
ORGANIZER;CN="Debbie Barber":MAILTO:debbie@emmanuelto.org
GEO:34.1992874;-118.8908597
X-APPLE-STRUCTURED-LOCATION;VALUE=URI;X-ADDRESS=Nursery & Playground Area 583 Camino Manzanas Thousand Oaks CA 93160 United States;X-APPLE-RADIUS=500;X-TITLE=583 Camino Manzanas:geo:-118.8908597,34.1992874
END:VEVENT
BEGIN:VEVENT
DTSTART;TZID=America/Los_Angeles:20250420T100000
DTEND;TZID=America/Los_Angeles:20250420T110000
DTSTAMP:20260423T190207
CREATED:20230212T061321Z
LAST-MODIFIED:20250722T204006Z
UID:10003783-1745143200-1745146800@emmanuelthousandoaks.org
SUMMARY:Worship
DESCRIPTION:Worship in the Sanctuary begins at 10am. \nLivestream available here: Emmanuel Live Stream\nNEW! Access the Online Church Bulletin \nLink to our Online Giving Page
URL:https://emmanuelthousandoaks.org/event/worship/2025-04-20/
LOCATION:Sanctuary\, 538 Camino Manzanas\, Thousand Oaks\, CA\, 91360
CATEGORIES:Adult
ATTACH;FMTTYPE=image/jpeg:https://emmanuelthousandoaks.org/wp-content/uploads/2023/02/Emmanuel-line-drawing-1280-x-720.jpg
ORGANIZER;CN="David Anderson":MAILTO:david@emmanuelto.org
GEO:34.199062;-118.8898478
X-APPLE-STRUCTURED-LOCATION;VALUE=URI;X-ADDRESS=Sanctuary 538 Camino Manzanas Thousand Oaks CA 91360;X-APPLE-RADIUS=500;X-TITLE=538 Camino Manzanas:geo:-118.8898478,34.199062
END:VEVENT
BEGIN:VEVENT
DTSTART;TZID=America/Los_Angeles:20250420T100000
DTEND;TZID=America/Los_Angeles:20250420T110000
DTSTAMP:20260423T190207
CREATED:20250115T185900Z
LAST-MODIFIED:20250205T210048Z
UID:10004407-1745143200-1745146800@emmanuelthousandoaks.org
SUMMARY:Sunday Morning Live Stream
DESCRIPTION:« Prev1 / 29Next »Live Worship Service - April 26\, 2026Live Worship Service - April 19\, 2026Live Worship Service - April 12\, 2026Live Worship Service - April 5\, 2026Live Worship Service - March 29\, 2026Live Worship Service - March 22\, 2026Live Worship Service - March 15\, 2026Live Worship Service - March 8\, 2026Live Worship Service - March 1\, 2026Live Worship Service - February 22\, 2026Live Worship Service - February 15\, 2026Live Worship Service - February 8\, 2026Live Worship Service - February 1\, 2026Live Worship Service - January 25\, 2026Live Worship Service - January 18\, 2026« Prev1 / 29Next »
URL:https://emmanuelthousandoaks.org/event/sunday-morning-live-stream/2025-04-20/
LOCATION:California
CATEGORIES:Alternative Church
ATTACH;FMTTYPE=image/png:https://emmanuelthousandoaks.org/wp-content/uploads/2025/01/Sunday-Morning-LiveStream.png
END:VEVENT
BEGIN:VEVENT
DTSTART;TZID=America/Los_Angeles:20250422T183000
DTEND;TZID=America/Los_Angeles:20250422T203000
DTSTAMP:20260423T190207
CREATED:20240213T213036Z
LAST-MODIFIED:20251021T193513Z
UID:10004339-1745346600-1745353800@emmanuelthousandoaks.org
SUMMARY:Session Meeting
DESCRIPTION:Session is a body of elected Elders who govern the church. Elders meeting once a month in the Conference Room at Emmanuel.
URL:https://emmanuelthousandoaks.org/event/session-meeting-2/2025-04-22/
LOCATION:Conference Room\, 538 Camino Manzanas\, Thousand Oaks\, CA
CATEGORIES:Adult
ATTACH;FMTTYPE=image/png:https://emmanuelthousandoaks.org/wp-content/uploads/2022/04/Session-Featured-Image.png
ORGANIZER;CN="David Anderson":MAILTO:david@emmanuelto.org
GEO:34.199068;-118.8898509
X-APPLE-STRUCTURED-LOCATION;VALUE=URI;X-ADDRESS=Conference Room 538 Camino Manzanas Thousand Oaks CA;X-APPLE-RADIUS=500;X-TITLE=538 Camino Manzanas:geo:-118.8898509,34.199068
END:VEVENT
BEGIN:VEVENT
DTSTART;TZID=America/Los_Angeles:20250423T083000
DTEND;TZID=America/Los_Angeles:20250423T123000
DTSTAMP:20260423T190207
CREATED:20241229T040413Z
LAST-MODIFIED:20241229T041124Z
UID:10004047-1745397000-1745411400@emmanuelthousandoaks.org
SUMMARY:Play Days!
DESCRIPTION:Play Days!\nGet together with other parents for coffee and conversation while your kids play. \n  \nWednesday Mornings from 8:30am to Noon the Nursery and Play Area are available to hang out. We have a lovely brand new couch and Nespresso machine  for your enjoyment. Best of all are the people! Come and hang out.
URL:https://emmanuelthousandoaks.org/event/play-days-2-2/2025-04-23/
LOCATION:Nursery & Playground Area\, 583 Camino Manzanas\, Thousand Oaks\, CA\, 93160\, United States
CATEGORIES:Adult,Early Childhood
ATTACH;FMTTYPE=image/png:https://emmanuelthousandoaks.org/wp-content/uploads/2024/03/Slide8.png
ORGANIZER;CN="Debbie Barber":MAILTO:debbie@emmanuelto.org
GEO:34.1992874;-118.8908597
X-APPLE-STRUCTURED-LOCATION;VALUE=URI;X-ADDRESS=Nursery & Playground Area 583 Camino Manzanas Thousand Oaks CA 93160 United States;X-APPLE-RADIUS=500;X-TITLE=583 Camino Manzanas:geo:-118.8908597,34.1992874
END:VEVENT
BEGIN:VEVENT
DTSTART;TZID=America/Los_Angeles:20250427T100000
DTEND;TZID=America/Los_Angeles:20250427T110000
DTSTAMP:20260423T190207
CREATED:20230212T061321Z
LAST-MODIFIED:20250722T204006Z
UID:10003784-1745748000-1745751600@emmanuelthousandoaks.org
SUMMARY:Worship
DESCRIPTION:Worship in the Sanctuary begins at 10am. \nLivestream available here: Emmanuel Live Stream\nNEW! Access the Online Church Bulletin \nLink to our Online Giving Page
URL:https://emmanuelthousandoaks.org/event/worship/2025-04-27/
LOCATION:Sanctuary\, 538 Camino Manzanas\, Thousand Oaks\, CA\, 91360
CATEGORIES:Adult
ATTACH;FMTTYPE=image/jpeg:https://emmanuelthousandoaks.org/wp-content/uploads/2023/02/Emmanuel-line-drawing-1280-x-720.jpg
ORGANIZER;CN="David Anderson":MAILTO:david@emmanuelto.org
GEO:34.199062;-118.8898478
X-APPLE-STRUCTURED-LOCATION;VALUE=URI;X-ADDRESS=Sanctuary 538 Camino Manzanas Thousand Oaks CA 91360;X-APPLE-RADIUS=500;X-TITLE=538 Camino Manzanas:geo:-118.8898478,34.199062
END:VEVENT
BEGIN:VEVENT
DTSTART;TZID=America/Los_Angeles:20250427T100000
DTEND;TZID=America/Los_Angeles:20250427T110000
DTSTAMP:20260423T190207
CREATED:20250115T185900Z
LAST-MODIFIED:20250205T210048Z
UID:10004408-1745748000-1745751600@emmanuelthousandoaks.org
SUMMARY:Sunday Morning Live Stream
DESCRIPTION:« Prev1 / 29Next »Live Worship Service - April 26\, 2026Live Worship Service - April 19\, 2026Live Worship Service - April 12\, 2026Live Worship Service - April 5\, 2026Live Worship Service - March 29\, 2026Live Worship Service - March 22\, 2026Live Worship Service - March 15\, 2026Live Worship Service - March 8\, 2026Live Worship Service - March 1\, 2026Live Worship Service - February 22\, 2026Live Worship Service - February 15\, 2026Live Worship Service - February 8\, 2026Live Worship Service - February 1\, 2026Live Worship Service - January 25\, 2026Live Worship Service - January 18\, 2026« Prev1 / 29Next »
URL:https://emmanuelthousandoaks.org/event/sunday-morning-live-stream/2025-04-27/
LOCATION:California
CATEGORIES:Alternative Church
ATTACH;FMTTYPE=image/png:https://emmanuelthousandoaks.org/wp-content/uploads/2025/01/Sunday-Morning-LiveStream.png
END:VEVENT
BEGIN:VEVENT
DTSTART;TZID=America/Los_Angeles:20250430T083000
DTEND;TZID=America/Los_Angeles:20250430T123000
DTSTAMP:20260423T190207
CREATED:20241229T040413Z
LAST-MODIFIED:20241229T041124Z
UID:10004048-1746001800-1746016200@emmanuelthousandoaks.org
SUMMARY:Play Days!
DESCRIPTION:Play Days!\nGet together with other parents for coffee and conversation while your kids play. \n  \nWednesday Mornings from 8:30am to Noon the Nursery and Play Area are available to hang out. We have a lovely brand new couch and Nespresso machine  for your enjoyment. Best of all are the people! Come and hang out.
URL:https://emmanuelthousandoaks.org/event/play-days-2-2/2025-04-30/
LOCATION:Nursery & Playground Area\, 583 Camino Manzanas\, Thousand Oaks\, CA\, 93160\, United States
CATEGORIES:Adult,Early Childhood
ATTACH;FMTTYPE=image/png:https://emmanuelthousandoaks.org/wp-content/uploads/2024/03/Slide8.png
ORGANIZER;CN="Debbie Barber":MAILTO:debbie@emmanuelto.org
GEO:34.1992874;-118.8908597
X-APPLE-STRUCTURED-LOCATION;VALUE=URI;X-ADDRESS=Nursery & Playground Area 583 Camino Manzanas Thousand Oaks CA 93160 United States;X-APPLE-RADIUS=500;X-TITLE=583 Camino Manzanas:geo:-118.8908597,34.1992874
END:VEVENT
END:VCALENDAR