BEGIN:VCALENDAR
VERSION:2.0
PRODID:-//Emmanuel Presbyterian Church - ECPv6.15.20//NONSGML v1.0//EN
CALSCALE:GREGORIAN
METHOD:PUBLISH
X-ORIGINAL-URL:https://emmanuelthousandoaks.org
X-WR-CALDESC:Events for Emmanuel Presbyterian Church
REFRESH-INTERVAL;VALUE=DURATION:PT1H
X-Robots-Tag:noindex
X-PUBLISHED-TTL:PT1H
BEGIN:VTIMEZONE
TZID:America/Los_Angeles
BEGIN:DAYLIGHT
TZOFFSETFROM:-0800
TZOFFSETTO:-0700
TZNAME:PDT
DTSTART:20240310T100000
END:DAYLIGHT
BEGIN:STANDARD
TZOFFSETFROM:-0700
TZOFFSETTO:-0800
TZNAME:PST
DTSTART:20241103T090000
END:STANDARD
BEGIN:DAYLIGHT
TZOFFSETFROM:-0800
TZOFFSETTO:-0700
TZNAME:PDT
DTSTART:20250309T100000
END:DAYLIGHT
BEGIN:STANDARD
TZOFFSETFROM:-0700
TZOFFSETTO:-0800
TZNAME:PST
DTSTART:20251102T090000
END:STANDARD
BEGIN:DAYLIGHT
TZOFFSETFROM:-0800
TZOFFSETTO:-0700
TZNAME:PDT
DTSTART:20260308T100000
END:DAYLIGHT
BEGIN:STANDARD
TZOFFSETFROM:-0700
TZOFFSETTO:-0800
TZNAME:PST
DTSTART:20261101T090000
END:STANDARD
END:VTIMEZONE
BEGIN:VEVENT
DTSTART;TZID=America/Los_Angeles:20250503T090000
DTEND;TZID=America/Los_Angeles:20250503T130000
DTSTAMP:20260423T172118
CREATED:20240123T013012Z
LAST-MODIFIED:20250205T215809Z
UID:10004660-1746262800-1746277200@emmanuelthousandoaks.org
SUMMARY:Buddy Break
DESCRIPTION:Buddy Break is a FREE Parents’ Day Out/respite program where kids with all types of special needs (VIP kids) have FUN while their parents get a BREAK. At Buddy Break\, VIP kids and their siblings make new friends\, play games\, do crafts\, hear children’s stories\, enjoy music\, and more!\nMeanwhile\, parents get a break from their ongoing care-giving responsibilities\, usually for three hours on a Saturday morning. \nIf you are interested in helping out\, contact Robert Luce
URL:https://emmanuelthousandoaks.org/event/buddy-break/2025-05-03/
LOCATION:Room 5/6 and playground area at Emmanuel\, 588 Camino Manzanas\, Thousand Oaks\, CA\, 91360\, United States
ATTACH;FMTTYPE=image/png:https://emmanuelthousandoaks.org/wp-content/uploads/2024/01/Buddy-Break-Event-Featured-Images.png
ORGANIZER;CN="Robert Luce":MAILTO:robert.luce.rl@gmail.com
GEO:34.1983825;-118.8910816
X-APPLE-STRUCTURED-LOCATION;VALUE=URI;X-ADDRESS=Room 5/6 and playground area at Emmanuel 588 Camino Manzanas Thousand Oaks CA 91360 United States;X-APPLE-RADIUS=500;X-TITLE=588 Camino Manzanas:geo:-118.8910816,34.1983825
END:VEVENT
BEGIN:VEVENT
DTSTART;TZID=America/Los_Angeles:20250504T100000
DTEND;TZID=America/Los_Angeles:20250504T110000
DTSTAMP:20260423T172118
CREATED:20230212T061321Z
LAST-MODIFIED:20250722T204006Z
UID:10003785-1746352800-1746356400@emmanuelthousandoaks.org
SUMMARY:Worship
DESCRIPTION:Worship in the Sanctuary begins at 10am. \nLivestream available here: Emmanuel Live Stream\nNEW! Access the Online Church Bulletin \nLink to our Online Giving Page
URL:https://emmanuelthousandoaks.org/event/worship/2025-05-04/
LOCATION:Sanctuary\, 538 Camino Manzanas\, Thousand Oaks\, CA\, 91360
CATEGORIES:Adult
ATTACH;FMTTYPE=image/jpeg:https://emmanuelthousandoaks.org/wp-content/uploads/2023/02/Emmanuel-line-drawing-1280-x-720.jpg
ORGANIZER;CN="David Anderson":MAILTO:david@emmanuelto.org
GEO:34.199062;-118.8898478
X-APPLE-STRUCTURED-LOCATION;VALUE=URI;X-ADDRESS=Sanctuary 538 Camino Manzanas Thousand Oaks CA 91360;X-APPLE-RADIUS=500;X-TITLE=538 Camino Manzanas:geo:-118.8898478,34.199062
END:VEVENT
BEGIN:VEVENT
DTSTART;TZID=America/Los_Angeles:20250504T100000
DTEND;TZID=America/Los_Angeles:20250504T110000
DTSTAMP:20260423T172118
CREATED:20250115T185900Z
LAST-MODIFIED:20250205T210048Z
UID:10004409-1746352800-1746356400@emmanuelthousandoaks.org
SUMMARY:Sunday Morning Live Stream
DESCRIPTION:« Prev1 / 29Next »Live Worship Service - April 26\, 2026Live Worship Service - April 19\, 2026Live Worship Service - April 12\, 2026Live Worship Service - April 5\, 2026Live Worship Service - March 29\, 2026Live Worship Service - March 22\, 2026Live Worship Service - March 15\, 2026Live Worship Service - March 8\, 2026Live Worship Service - March 1\, 2026Live Worship Service - February 22\, 2026Live Worship Service - February 15\, 2026Live Worship Service - February 8\, 2026Live Worship Service - February 1\, 2026Live Worship Service - January 25\, 2026Live Worship Service - January 18\, 2026« Prev1 / 29Next »
URL:https://emmanuelthousandoaks.org/event/sunday-morning-live-stream/2025-05-04/
LOCATION:California
CATEGORIES:Alternative Church
ATTACH;FMTTYPE=image/png:https://emmanuelthousandoaks.org/wp-content/uploads/2025/01/Sunday-Morning-LiveStream.png
END:VEVENT
BEGIN:VEVENT
DTSTART;TZID=America/Los_Angeles:20250504T110000
DTEND;TZID=America/Los_Angeles:20250504T120000
DTSTAMP:20260423T172118
CREATED:20250408T203315Z
LAST-MODIFIED:20250409T220329Z
UID:10003980-1746356400-1746360000@emmanuelthousandoaks.org
SUMMARY:Camp Joy Bake Sale
DESCRIPTION:Sunday May 4th we will be holding a Bake Sale to raise funds to supplement our Camp Joy budget. So bring something to contribute to the sale and plan on spending some money to fulfill your cravings. This year’s bake sale will have a Star Wars theme:  May the Fourth be with you. \nSale will be held immediately after service on the patio.
URL:https://emmanuelthousandoaks.org/event/camp-joy-bake-sale/
LOCATION:Patio
ATTACH;FMTTYPE=image/png:https://emmanuelthousandoaks.org/wp-content/uploads/2025/04/Bake-Sale-1.png
ORGANIZER;CN="Debbie Barber":MAILTO:debbie@emmanuelto.org
END:VEVENT
BEGIN:VEVENT
DTSTART;TZID=America/Los_Angeles:20250507T083000
DTEND;TZID=America/Los_Angeles:20250507T123000
DTSTAMP:20260423T172118
CREATED:20241229T040413Z
LAST-MODIFIED:20241229T041124Z
UID:10004049-1746606600-1746621000@emmanuelthousandoaks.org
SUMMARY:Play Days!
DESCRIPTION:Play Days!\nGet together with other parents for coffee and conversation while your kids play. \n  \nWednesday Mornings from 8:30am to Noon the Nursery and Play Area are available to hang out. We have a lovely brand new couch and Nespresso machine  for your enjoyment. Best of all are the people! Come and hang out.
URL:https://emmanuelthousandoaks.org/event/play-days-2-2/2025-05-07/
LOCATION:Nursery & Playground Area\, 583 Camino Manzanas\, Thousand Oaks\, CA\, 93160\, United States
CATEGORIES:Adult,Early Childhood
ATTACH;FMTTYPE=image/png:https://emmanuelthousandoaks.org/wp-content/uploads/2024/03/Slide8.png
ORGANIZER;CN="Debbie Barber":MAILTO:debbie@emmanuelto.org
GEO:34.1992874;-118.8908597
X-APPLE-STRUCTURED-LOCATION;VALUE=URI;X-ADDRESS=Nursery & Playground Area 583 Camino Manzanas Thousand Oaks CA 93160 United States;X-APPLE-RADIUS=500;X-TITLE=583 Camino Manzanas:geo:-118.8908597,34.1992874
END:VEVENT
BEGIN:VEVENT
DTSTART;TZID=America/Los_Angeles:20250511T100000
DTEND;TZID=America/Los_Angeles:20250511T110000
DTSTAMP:20260423T172118
CREATED:20230212T061321Z
LAST-MODIFIED:20250722T204006Z
UID:10003786-1746957600-1746961200@emmanuelthousandoaks.org
SUMMARY:Worship
DESCRIPTION:Worship in the Sanctuary begins at 10am. \nLivestream available here: Emmanuel Live Stream\nNEW! Access the Online Church Bulletin \nLink to our Online Giving Page
URL:https://emmanuelthousandoaks.org/event/worship/2025-05-11/
LOCATION:Sanctuary\, 538 Camino Manzanas\, Thousand Oaks\, CA\, 91360
CATEGORIES:Adult
ATTACH;FMTTYPE=image/jpeg:https://emmanuelthousandoaks.org/wp-content/uploads/2023/02/Emmanuel-line-drawing-1280-x-720.jpg
ORGANIZER;CN="David Anderson":MAILTO:david@emmanuelto.org
GEO:34.199062;-118.8898478
X-APPLE-STRUCTURED-LOCATION;VALUE=URI;X-ADDRESS=Sanctuary 538 Camino Manzanas Thousand Oaks CA 91360;X-APPLE-RADIUS=500;X-TITLE=538 Camino Manzanas:geo:-118.8898478,34.199062
END:VEVENT
BEGIN:VEVENT
DTSTART;TZID=America/Los_Angeles:20250511T100000
DTEND;TZID=America/Los_Angeles:20250511T110000
DTSTAMP:20260423T172118
CREATED:20250115T185900Z
LAST-MODIFIED:20250205T210048Z
UID:10004410-1746957600-1746961200@emmanuelthousandoaks.org
SUMMARY:Sunday Morning Live Stream
DESCRIPTION:« Prev1 / 29Next »Live Worship Service - April 26\, 2026Live Worship Service - April 19\, 2026Live Worship Service - April 12\, 2026Live Worship Service - April 5\, 2026Live Worship Service - March 29\, 2026Live Worship Service - March 22\, 2026Live Worship Service - March 15\, 2026Live Worship Service - March 8\, 2026Live Worship Service - March 1\, 2026Live Worship Service - February 22\, 2026Live Worship Service - February 15\, 2026Live Worship Service - February 8\, 2026Live Worship Service - February 1\, 2026Live Worship Service - January 25\, 2026Live Worship Service - January 18\, 2026« Prev1 / 29Next »
URL:https://emmanuelthousandoaks.org/event/sunday-morning-live-stream/2025-05-11/
LOCATION:California
CATEGORIES:Alternative Church
ATTACH;FMTTYPE=image/png:https://emmanuelthousandoaks.org/wp-content/uploads/2025/01/Sunday-Morning-LiveStream.png
END:VEVENT
BEGIN:VEVENT
DTSTART;TZID=America/Los_Angeles:20250514T083000
DTEND;TZID=America/Los_Angeles:20250514T123000
DTSTAMP:20260423T172118
CREATED:20241229T040413Z
LAST-MODIFIED:20241229T041124Z
UID:10004050-1747211400-1747225800@emmanuelthousandoaks.org
SUMMARY:Play Days!
DESCRIPTION:Play Days!\nGet together with other parents for coffee and conversation while your kids play. \n  \nWednesday Mornings from 8:30am to Noon the Nursery and Play Area are available to hang out. We have a lovely brand new couch and Nespresso machine  for your enjoyment. Best of all are the people! Come and hang out.
URL:https://emmanuelthousandoaks.org/event/play-days-2-2/2025-05-14/
LOCATION:Nursery & Playground Area\, 583 Camino Manzanas\, Thousand Oaks\, CA\, 93160\, United States
CATEGORIES:Adult,Early Childhood
ATTACH;FMTTYPE=image/png:https://emmanuelthousandoaks.org/wp-content/uploads/2024/03/Slide8.png
ORGANIZER;CN="Debbie Barber":MAILTO:debbie@emmanuelto.org
GEO:34.1992874;-118.8908597
X-APPLE-STRUCTURED-LOCATION;VALUE=URI;X-ADDRESS=Nursery & Playground Area 583 Camino Manzanas Thousand Oaks CA 93160 United States;X-APPLE-RADIUS=500;X-TITLE=583 Camino Manzanas:geo:-118.8908597,34.1992874
END:VEVENT
BEGIN:VEVENT
DTSTART;TZID=America/Los_Angeles:20250518T100000
DTEND;TZID=America/Los_Angeles:20250518T110000
DTSTAMP:20260423T172118
CREATED:20230212T061321Z
LAST-MODIFIED:20250722T204006Z
UID:10003787-1747562400-1747566000@emmanuelthousandoaks.org
SUMMARY:Worship
DESCRIPTION:Worship in the Sanctuary begins at 10am. \nLivestream available here: Emmanuel Live Stream\nNEW! Access the Online Church Bulletin \nLink to our Online Giving Page
URL:https://emmanuelthousandoaks.org/event/worship/2025-05-18/
LOCATION:Sanctuary\, 538 Camino Manzanas\, Thousand Oaks\, CA\, 91360
CATEGORIES:Adult
ATTACH;FMTTYPE=image/jpeg:https://emmanuelthousandoaks.org/wp-content/uploads/2023/02/Emmanuel-line-drawing-1280-x-720.jpg
ORGANIZER;CN="David Anderson":MAILTO:david@emmanuelto.org
GEO:34.199062;-118.8898478
X-APPLE-STRUCTURED-LOCATION;VALUE=URI;X-ADDRESS=Sanctuary 538 Camino Manzanas Thousand Oaks CA 91360;X-APPLE-RADIUS=500;X-TITLE=538 Camino Manzanas:geo:-118.8898478,34.199062
END:VEVENT
BEGIN:VEVENT
DTSTART;TZID=America/Los_Angeles:20250518T100000
DTEND;TZID=America/Los_Angeles:20250518T110000
DTSTAMP:20260423T172118
CREATED:20250115T185900Z
LAST-MODIFIED:20250205T210048Z
UID:10004411-1747562400-1747566000@emmanuelthousandoaks.org
SUMMARY:Sunday Morning Live Stream
DESCRIPTION:« Prev1 / 29Next »Live Worship Service - April 26\, 2026Live Worship Service - April 19\, 2026Live Worship Service - April 12\, 2026Live Worship Service - April 5\, 2026Live Worship Service - March 29\, 2026Live Worship Service - March 22\, 2026Live Worship Service - March 15\, 2026Live Worship Service - March 8\, 2026Live Worship Service - March 1\, 2026Live Worship Service - February 22\, 2026Live Worship Service - February 15\, 2026Live Worship Service - February 8\, 2026Live Worship Service - February 1\, 2026Live Worship Service - January 25\, 2026Live Worship Service - January 18\, 2026« Prev1 / 29Next »
URL:https://emmanuelthousandoaks.org/event/sunday-morning-live-stream/2025-05-18/
LOCATION:California
CATEGORIES:Alternative Church
ATTACH;FMTTYPE=image/png:https://emmanuelthousandoaks.org/wp-content/uploads/2025/01/Sunday-Morning-LiveStream.png
END:VEVENT
BEGIN:VEVENT
DTSTART;TZID=America/Los_Angeles:20250521T083000
DTEND;TZID=America/Los_Angeles:20250521T123000
DTSTAMP:20260423T172119
CREATED:20241229T040413Z
LAST-MODIFIED:20241229T041124Z
UID:10004051-1747816200-1747830600@emmanuelthousandoaks.org
SUMMARY:Play Days!
DESCRIPTION:Play Days!\nGet together with other parents for coffee and conversation while your kids play. \n  \nWednesday Mornings from 8:30am to Noon the Nursery and Play Area are available to hang out. We have a lovely brand new couch and Nespresso machine  for your enjoyment. Best of all are the people! Come and hang out.
URL:https://emmanuelthousandoaks.org/event/play-days-2-2/2025-05-21/
LOCATION:Nursery & Playground Area\, 583 Camino Manzanas\, Thousand Oaks\, CA\, 93160\, United States
CATEGORIES:Adult,Early Childhood
ATTACH;FMTTYPE=image/png:https://emmanuelthousandoaks.org/wp-content/uploads/2024/03/Slide8.png
ORGANIZER;CN="Debbie Barber":MAILTO:debbie@emmanuelto.org
GEO:34.1992874;-118.8908597
X-APPLE-STRUCTURED-LOCATION;VALUE=URI;X-ADDRESS=Nursery & Playground Area 583 Camino Manzanas Thousand Oaks CA 93160 United States;X-APPLE-RADIUS=500;X-TITLE=583 Camino Manzanas:geo:-118.8908597,34.1992874
END:VEVENT
BEGIN:VEVENT
DTSTART;TZID=America/Los_Angeles:20250525T100000
DTEND;TZID=America/Los_Angeles:20250525T110000
DTSTAMP:20260423T172119
CREATED:20230212T061321Z
LAST-MODIFIED:20250722T204006Z
UID:10003788-1748167200-1748170800@emmanuelthousandoaks.org
SUMMARY:Worship
DESCRIPTION:Worship in the Sanctuary begins at 10am. \nLivestream available here: Emmanuel Live Stream\nNEW! Access the Online Church Bulletin \nLink to our Online Giving Page
URL:https://emmanuelthousandoaks.org/event/worship/2025-05-25/
LOCATION:Sanctuary\, 538 Camino Manzanas\, Thousand Oaks\, CA\, 91360
CATEGORIES:Adult
ATTACH;FMTTYPE=image/jpeg:https://emmanuelthousandoaks.org/wp-content/uploads/2023/02/Emmanuel-line-drawing-1280-x-720.jpg
ORGANIZER;CN="David Anderson":MAILTO:david@emmanuelto.org
GEO:34.199062;-118.8898478
X-APPLE-STRUCTURED-LOCATION;VALUE=URI;X-ADDRESS=Sanctuary 538 Camino Manzanas Thousand Oaks CA 91360;X-APPLE-RADIUS=500;X-TITLE=538 Camino Manzanas:geo:-118.8898478,34.199062
END:VEVENT
BEGIN:VEVENT
DTSTART;TZID=America/Los_Angeles:20250525T100000
DTEND;TZID=America/Los_Angeles:20250525T110000
DTSTAMP:20260423T172119
CREATED:20250115T185900Z
LAST-MODIFIED:20250205T210048Z
UID:10004412-1748167200-1748170800@emmanuelthousandoaks.org
SUMMARY:Sunday Morning Live Stream
DESCRIPTION:« Prev1 / 29Next »Live Worship Service - April 26\, 2026Live Worship Service - April 19\, 2026Live Worship Service - April 12\, 2026Live Worship Service - April 5\, 2026Live Worship Service - March 29\, 2026Live Worship Service - March 22\, 2026Live Worship Service - March 15\, 2026Live Worship Service - March 8\, 2026Live Worship Service - March 1\, 2026Live Worship Service - February 22\, 2026Live Worship Service - February 15\, 2026Live Worship Service - February 8\, 2026Live Worship Service - February 1\, 2026Live Worship Service - January 25\, 2026Live Worship Service - January 18\, 2026« Prev1 / 29Next »
URL:https://emmanuelthousandoaks.org/event/sunday-morning-live-stream/2025-05-25/
LOCATION:California
CATEGORIES:Alternative Church
ATTACH;FMTTYPE=image/png:https://emmanuelthousandoaks.org/wp-content/uploads/2025/01/Sunday-Morning-LiveStream.png
END:VEVENT
BEGIN:VEVENT
DTSTART;TZID=America/Los_Angeles:20250525T113000
DTEND;TZID=America/Los_Angeles:20250525T120000
DTSTAMP:20260423T172119
CREATED:20250514T000902Z
LAST-MODIFIED:20250514T000902Z
UID:10004683-1748172600-1748174400@emmanuelthousandoaks.org
SUMMARY:Harbor House Meal Assembly
DESCRIPTION:After church on March 25th we will be making lunches for Harbor House. \nNo one has to bring or donate anything\,  just stick around in the kitchen after church.
URL:https://emmanuelthousandoaks.org/event/harbor-house-meal-assembly/
LOCATION:Main Kitchen\, Camino Manzanas 583\, Thousand Oaks\, CA\, 91360\, United States
CATEGORIES:Adult
ATTACH;FMTTYPE=image/png:https://emmanuelthousandoaks.org/wp-content/uploads/2025/05/Harbor-House-Promo.png
GEO:34.1992966;-118.8908598
X-APPLE-STRUCTURED-LOCATION;VALUE=URI;X-ADDRESS=Main Kitchen Camino Manzanas 583 Thousand Oaks CA 91360 United States;X-APPLE-RADIUS=500;X-TITLE=Camino Manzanas 583:geo:-118.8908598,34.1992966
END:VEVENT
BEGIN:VEVENT
DTSTART;TZID=America/Los_Angeles:20250527T183000
DTEND;TZID=America/Los_Angeles:20250527T203000
DTSTAMP:20260423T172119
CREATED:20240213T213036Z
LAST-MODIFIED:20251021T193513Z
UID:10004340-1748370600-1748377800@emmanuelthousandoaks.org
SUMMARY:Session Meeting
DESCRIPTION:Session is a body of elected Elders who govern the church. Elders meeting once a month in the Conference Room at Emmanuel.
URL:https://emmanuelthousandoaks.org/event/session-meeting-2/2025-05-27/
LOCATION:Conference Room\, 538 Camino Manzanas\, Thousand Oaks\, CA
CATEGORIES:Adult
ATTACH;FMTTYPE=image/png:https://emmanuelthousandoaks.org/wp-content/uploads/2022/04/Session-Featured-Image.png
ORGANIZER;CN="David Anderson":MAILTO:david@emmanuelto.org
GEO:34.199068;-118.8898509
X-APPLE-STRUCTURED-LOCATION;VALUE=URI;X-ADDRESS=Conference Room 538 Camino Manzanas Thousand Oaks CA;X-APPLE-RADIUS=500;X-TITLE=538 Camino Manzanas:geo:-118.8898509,34.199068
END:VEVENT
BEGIN:VEVENT
DTSTART;TZID=America/Los_Angeles:20250528T083000
DTEND;TZID=America/Los_Angeles:20250528T123000
DTSTAMP:20260423T172119
CREATED:20241229T040413Z
LAST-MODIFIED:20241229T041124Z
UID:10004052-1748421000-1748435400@emmanuelthousandoaks.org
SUMMARY:Play Days!
DESCRIPTION:Play Days!\nGet together with other parents for coffee and conversation while your kids play. \n  \nWednesday Mornings from 8:30am to Noon the Nursery and Play Area are available to hang out. We have a lovely brand new couch and Nespresso machine  for your enjoyment. Best of all are the people! Come and hang out.
URL:https://emmanuelthousandoaks.org/event/play-days-2-2/2025-05-28/
LOCATION:Nursery & Playground Area\, 583 Camino Manzanas\, Thousand Oaks\, CA\, 93160\, United States
CATEGORIES:Adult,Early Childhood
ATTACH;FMTTYPE=image/png:https://emmanuelthousandoaks.org/wp-content/uploads/2024/03/Slide8.png
ORGANIZER;CN="Debbie Barber":MAILTO:debbie@emmanuelto.org
GEO:34.1992874;-118.8908597
X-APPLE-STRUCTURED-LOCATION;VALUE=URI;X-ADDRESS=Nursery & Playground Area 583 Camino Manzanas Thousand Oaks CA 93160 United States;X-APPLE-RADIUS=500;X-TITLE=583 Camino Manzanas:geo:-118.8908597,34.1992874
END:VEVENT
END:VCALENDAR