BEGIN:VCALENDAR
VERSION:2.0
PRODID:-//Emmanuel Presbyterian Church - ECPv6.15.20//NONSGML v1.0//EN
CALSCALE:GREGORIAN
METHOD:PUBLISH
X-ORIGINAL-URL:https://emmanuelthousandoaks.org
X-WR-CALDESC:Events for Emmanuel Presbyterian Church
REFRESH-INTERVAL;VALUE=DURATION:PT1H
X-Robots-Tag:noindex
X-PUBLISHED-TTL:PT1H
BEGIN:VTIMEZONE
TZID:America/Los_Angeles
BEGIN:DAYLIGHT
TZOFFSETFROM:-0800
TZOFFSETTO:-0700
TZNAME:PDT
DTSTART:20240310T100000
END:DAYLIGHT
BEGIN:STANDARD
TZOFFSETFROM:-0700
TZOFFSETTO:-0800
TZNAME:PST
DTSTART:20241103T090000
END:STANDARD
BEGIN:DAYLIGHT
TZOFFSETFROM:-0800
TZOFFSETTO:-0700
TZNAME:PDT
DTSTART:20250309T100000
END:DAYLIGHT
BEGIN:STANDARD
TZOFFSETFROM:-0700
TZOFFSETTO:-0800
TZNAME:PST
DTSTART:20251102T090000
END:STANDARD
BEGIN:DAYLIGHT
TZOFFSETFROM:-0800
TZOFFSETTO:-0700
TZNAME:PDT
DTSTART:20260308T100000
END:DAYLIGHT
BEGIN:STANDARD
TZOFFSETFROM:-0700
TZOFFSETTO:-0800
TZNAME:PST
DTSTART:20261101T090000
END:STANDARD
END:VTIMEZONE
BEGIN:VEVENT
DTSTART;TZID=America/Los_Angeles:20251001T083000
DTEND;TZID=America/Los_Angeles:20251001T123000
DTSTAMP:20260423T083710
CREATED:20241229T040413Z
LAST-MODIFIED:20241229T041124Z
UID:10004070-1759307400-1759321800@emmanuelthousandoaks.org
SUMMARY:Play Days!
DESCRIPTION:Play Days!\nGet together with other parents for coffee and conversation while your kids play. \n  \nWednesday Mornings from 8:30am to Noon the Nursery and Play Area are available to hang out. We have a lovely brand new couch and Nespresso machine  for your enjoyment. Best of all are the people! Come and hang out.
URL:https://emmanuelthousandoaks.org/event/play-days-2-2/2025-10-01/
LOCATION:Nursery & Playground Area\, 583 Camino Manzanas\, Thousand Oaks\, CA\, 93160\, United States
CATEGORIES:Adult,Early Childhood
ATTACH;FMTTYPE=image/png:https://emmanuelthousandoaks.org/wp-content/uploads/2024/03/Slide8.png
ORGANIZER;CN="Debbie Barber":MAILTO:debbie@emmanuelto.org
GEO:34.1992874;-118.8908597
X-APPLE-STRUCTURED-LOCATION;VALUE=URI;X-ADDRESS=Nursery & Playground Area 583 Camino Manzanas Thousand Oaks CA 93160 United States;X-APPLE-RADIUS=500;X-TITLE=583 Camino Manzanas:geo:-118.8908597,34.1992874
END:VEVENT
BEGIN:VEVENT
DTSTART;TZID=America/Los_Angeles:20251004T090000
DTEND;TZID=America/Los_Angeles:20251004T130000
DTSTAMP:20260423T083710
CREATED:20240123T013012Z
LAST-MODIFIED:20250205T215809Z
UID:10004665-1759568400-1759582800@emmanuelthousandoaks.org
SUMMARY:Buddy Break
DESCRIPTION:Buddy Break is a FREE Parents’ Day Out/respite program where kids with all types of special needs (VIP kids) have FUN while their parents get a BREAK. At Buddy Break\, VIP kids and their siblings make new friends\, play games\, do crafts\, hear children’s stories\, enjoy music\, and more!\nMeanwhile\, parents get a break from their ongoing care-giving responsibilities\, usually for three hours on a Saturday morning. \nIf you are interested in helping out\, contact Robert Luce
URL:https://emmanuelthousandoaks.org/event/buddy-break/2025-10-04/
LOCATION:Room 5/6 and playground area at Emmanuel\, 588 Camino Manzanas\, Thousand Oaks\, CA\, 91360\, United States
ATTACH;FMTTYPE=image/png:https://emmanuelthousandoaks.org/wp-content/uploads/2024/01/Buddy-Break-Event-Featured-Images.png
ORGANIZER;CN="Robert Luce":MAILTO:robert.luce.rl@gmail.com
GEO:34.1983825;-118.8910816
X-APPLE-STRUCTURED-LOCATION;VALUE=URI;X-ADDRESS=Room 5/6 and playground area at Emmanuel 588 Camino Manzanas Thousand Oaks CA 91360 United States;X-APPLE-RADIUS=500;X-TITLE=588 Camino Manzanas:geo:-118.8910816,34.1983825
END:VEVENT
BEGIN:VEVENT
DTSTART;TZID=America/Los_Angeles:20251005T100000
DTEND;TZID=America/Los_Angeles:20251005T110000
DTSTAMP:20260423T083710
CREATED:20230212T061321Z
LAST-MODIFIED:20250722T204006Z
UID:10003807-1759658400-1759662000@emmanuelthousandoaks.org
SUMMARY:Worship
DESCRIPTION:Worship in the Sanctuary begins at 10am. \nLivestream available here: Emmanuel Live Stream\nNEW! Access the Online Church Bulletin \nLink to our Online Giving Page
URL:https://emmanuelthousandoaks.org/event/worship/2025-10-05/
LOCATION:Sanctuary\, 538 Camino Manzanas\, Thousand Oaks\, CA\, 91360
CATEGORIES:Adult
ATTACH;FMTTYPE=image/jpeg:https://emmanuelthousandoaks.org/wp-content/uploads/2023/02/Emmanuel-line-drawing-1280-x-720.jpg
ORGANIZER;CN="David Anderson":MAILTO:david@emmanuelto.org
GEO:34.199062;-118.8898478
X-APPLE-STRUCTURED-LOCATION;VALUE=URI;X-ADDRESS=Sanctuary 538 Camino Manzanas Thousand Oaks CA 91360;X-APPLE-RADIUS=500;X-TITLE=538 Camino Manzanas:geo:-118.8898478,34.199062
END:VEVENT
BEGIN:VEVENT
DTSTART;TZID=America/Los_Angeles:20251005T100000
DTEND;TZID=America/Los_Angeles:20251005T110000
DTSTAMP:20260423T083710
CREATED:20250115T185900Z
LAST-MODIFIED:20250205T210048Z
UID:10004431-1759658400-1759662000@emmanuelthousandoaks.org
SUMMARY:Sunday Morning Live Stream
DESCRIPTION:« Prev1 / 29Next »Live Worship Service - April 26\, 2026Live Worship Service - April 19\, 2026Live Worship Service - April 12\, 2026Live Worship Service - April 5\, 2026Live Worship Service - March 29\, 2026Live Worship Service - March 22\, 2026Live Worship Service - March 15\, 2026Live Worship Service - March 8\, 2026Live Worship Service - March 1\, 2026Live Worship Service - February 22\, 2026Live Worship Service - February 15\, 2026Live Worship Service - February 8\, 2026Live Worship Service - February 1\, 2026Live Worship Service - January 25\, 2026Live Worship Service - January 18\, 2026« Prev1 / 29Next »
URL:https://emmanuelthousandoaks.org/event/sunday-morning-live-stream/2025-10-05/
LOCATION:California
CATEGORIES:Alternative Church
ATTACH;FMTTYPE=image/png:https://emmanuelthousandoaks.org/wp-content/uploads/2025/01/Sunday-Morning-LiveStream.png
END:VEVENT
BEGIN:VEVENT
DTSTART;TZID=America/Los_Angeles:20251005T111500
DTEND;TZID=America/Los_Angeles:20251005T120000
DTSTAMP:20260423T083710
CREATED:20241102T231442Z
LAST-MODIFIED:20250923T223311Z
UID:10003718-1759662900-1759665600@emmanuelthousandoaks.org
SUMMARY:Congregational Meeting
DESCRIPTION:Sunday\, October 5 we will be having a Congregational Meeting immediately after the service.
URL:https://emmanuelthousandoaks.org/event/congregational-meeting/
LOCATION:Sanctuary\, 538 Camino Manzanas\, Thousand Oaks\, CA\, 91360
CATEGORIES:Adult
ATTACH;FMTTYPE=image/png:https://emmanuelthousandoaks.org/wp-content/uploads/2025/09/Cong-Meeting-Oct-2025.png
GEO:34.199062;-118.8898478
X-APPLE-STRUCTURED-LOCATION;VALUE=URI;X-ADDRESS=Sanctuary 538 Camino Manzanas Thousand Oaks CA 91360;X-APPLE-RADIUS=500;X-TITLE=538 Camino Manzanas:geo:-118.8898478,34.199062
END:VEVENT
BEGIN:VEVENT
DTSTART;TZID=America/Los_Angeles:20251008T083000
DTEND;TZID=America/Los_Angeles:20251008T123000
DTSTAMP:20260423T083710
CREATED:20241229T040413Z
LAST-MODIFIED:20241229T041124Z
UID:10004071-1759912200-1759926600@emmanuelthousandoaks.org
SUMMARY:Play Days!
DESCRIPTION:Play Days!\nGet together with other parents for coffee and conversation while your kids play. \n  \nWednesday Mornings from 8:30am to Noon the Nursery and Play Area are available to hang out. We have a lovely brand new couch and Nespresso machine  for your enjoyment. Best of all are the people! Come and hang out.
URL:https://emmanuelthousandoaks.org/event/play-days-2-2/2025-10-08/
LOCATION:Nursery & Playground Area\, 583 Camino Manzanas\, Thousand Oaks\, CA\, 93160\, United States
CATEGORIES:Adult,Early Childhood
ATTACH;FMTTYPE=image/png:https://emmanuelthousandoaks.org/wp-content/uploads/2024/03/Slide8.png
ORGANIZER;CN="Debbie Barber":MAILTO:debbie@emmanuelto.org
GEO:34.1992874;-118.8908597
X-APPLE-STRUCTURED-LOCATION;VALUE=URI;X-ADDRESS=Nursery & Playground Area 583 Camino Manzanas Thousand Oaks CA 93160 United States;X-APPLE-RADIUS=500;X-TITLE=583 Camino Manzanas:geo:-118.8908597,34.1992874
END:VEVENT
BEGIN:VEVENT
DTSTART;TZID=America/Los_Angeles:20251012T100000
DTEND;TZID=America/Los_Angeles:20251012T110000
DTSTAMP:20260423T083710
CREATED:20230212T061321Z
LAST-MODIFIED:20250722T204006Z
UID:10003808-1760263200-1760266800@emmanuelthousandoaks.org
SUMMARY:Worship
DESCRIPTION:Worship in the Sanctuary begins at 10am. \nLivestream available here: Emmanuel Live Stream\nNEW! Access the Online Church Bulletin \nLink to our Online Giving Page
URL:https://emmanuelthousandoaks.org/event/worship/2025-10-12/
LOCATION:Sanctuary\, 538 Camino Manzanas\, Thousand Oaks\, CA\, 91360
CATEGORIES:Adult
ATTACH;FMTTYPE=image/jpeg:https://emmanuelthousandoaks.org/wp-content/uploads/2023/02/Emmanuel-line-drawing-1280-x-720.jpg
ORGANIZER;CN="David Anderson":MAILTO:david@emmanuelto.org
GEO:34.199062;-118.8898478
X-APPLE-STRUCTURED-LOCATION;VALUE=URI;X-ADDRESS=Sanctuary 538 Camino Manzanas Thousand Oaks CA 91360;X-APPLE-RADIUS=500;X-TITLE=538 Camino Manzanas:geo:-118.8898478,34.199062
END:VEVENT
BEGIN:VEVENT
DTSTART;TZID=America/Los_Angeles:20251012T100000
DTEND;TZID=America/Los_Angeles:20251012T110000
DTSTAMP:20260423T083710
CREATED:20250115T185900Z
LAST-MODIFIED:20250205T210048Z
UID:10004432-1760263200-1760266800@emmanuelthousandoaks.org
SUMMARY:Sunday Morning Live Stream
DESCRIPTION:« Prev1 / 29Next »Live Worship Service - April 26\, 2026Live Worship Service - April 19\, 2026Live Worship Service - April 12\, 2026Live Worship Service - April 5\, 2026Live Worship Service - March 29\, 2026Live Worship Service - March 22\, 2026Live Worship Service - March 15\, 2026Live Worship Service - March 8\, 2026Live Worship Service - March 1\, 2026Live Worship Service - February 22\, 2026Live Worship Service - February 15\, 2026Live Worship Service - February 8\, 2026Live Worship Service - February 1\, 2026Live Worship Service - January 25\, 2026Live Worship Service - January 18\, 2026« Prev1 / 29Next »
URL:https://emmanuelthousandoaks.org/event/sunday-morning-live-stream/2025-10-12/
LOCATION:California
CATEGORIES:Alternative Church
ATTACH;FMTTYPE=image/png:https://emmanuelthousandoaks.org/wp-content/uploads/2025/01/Sunday-Morning-LiveStream.png
END:VEVENT
BEGIN:VEVENT
DTSTART;TZID=America/Los_Angeles:20251015T083000
DTEND;TZID=America/Los_Angeles:20251015T123000
DTSTAMP:20260423T083710
CREATED:20241229T040413Z
LAST-MODIFIED:20241229T041124Z
UID:10004072-1760517000-1760531400@emmanuelthousandoaks.org
SUMMARY:Play Days!
DESCRIPTION:Play Days!\nGet together with other parents for coffee and conversation while your kids play. \n  \nWednesday Mornings from 8:30am to Noon the Nursery and Play Area are available to hang out. We have a lovely brand new couch and Nespresso machine  for your enjoyment. Best of all are the people! Come and hang out.
URL:https://emmanuelthousandoaks.org/event/play-days-2-2/2025-10-15/
LOCATION:Nursery & Playground Area\, 583 Camino Manzanas\, Thousand Oaks\, CA\, 93160\, United States
CATEGORIES:Adult,Early Childhood
ATTACH;FMTTYPE=image/png:https://emmanuelthousandoaks.org/wp-content/uploads/2024/03/Slide8.png
ORGANIZER;CN="Debbie Barber":MAILTO:debbie@emmanuelto.org
GEO:34.1992874;-118.8908597
X-APPLE-STRUCTURED-LOCATION;VALUE=URI;X-ADDRESS=Nursery & Playground Area 583 Camino Manzanas Thousand Oaks CA 93160 United States;X-APPLE-RADIUS=500;X-TITLE=583 Camino Manzanas:geo:-118.8908597,34.1992874
END:VEVENT
BEGIN:VEVENT
DTSTART;TZID=America/Los_Angeles:20251019T100000
DTEND;TZID=America/Los_Angeles:20251019T110000
DTSTAMP:20260423T083710
CREATED:20230212T061321Z
LAST-MODIFIED:20250722T204006Z
UID:10003809-1760868000-1760871600@emmanuelthousandoaks.org
SUMMARY:Worship
DESCRIPTION:Worship in the Sanctuary begins at 10am. \nLivestream available here: Emmanuel Live Stream\nNEW! Access the Online Church Bulletin \nLink to our Online Giving Page
URL:https://emmanuelthousandoaks.org/event/worship/2025-10-19/
LOCATION:Sanctuary\, 538 Camino Manzanas\, Thousand Oaks\, CA\, 91360
CATEGORIES:Adult
ATTACH;FMTTYPE=image/jpeg:https://emmanuelthousandoaks.org/wp-content/uploads/2023/02/Emmanuel-line-drawing-1280-x-720.jpg
ORGANIZER;CN="David Anderson":MAILTO:david@emmanuelto.org
GEO:34.199062;-118.8898478
X-APPLE-STRUCTURED-LOCATION;VALUE=URI;X-ADDRESS=Sanctuary 538 Camino Manzanas Thousand Oaks CA 91360;X-APPLE-RADIUS=500;X-TITLE=538 Camino Manzanas:geo:-118.8898478,34.199062
END:VEVENT
BEGIN:VEVENT
DTSTART;TZID=America/Los_Angeles:20251019T100000
DTEND;TZID=America/Los_Angeles:20251019T110000
DTSTAMP:20260423T083710
CREATED:20250115T185900Z
LAST-MODIFIED:20250205T210048Z
UID:10004433-1760868000-1760871600@emmanuelthousandoaks.org
SUMMARY:Sunday Morning Live Stream
DESCRIPTION:« Prev1 / 29Next »Live Worship Service - April 26\, 2026Live Worship Service - April 19\, 2026Live Worship Service - April 12\, 2026Live Worship Service - April 5\, 2026Live Worship Service - March 29\, 2026Live Worship Service - March 22\, 2026Live Worship Service - March 15\, 2026Live Worship Service - March 8\, 2026Live Worship Service - March 1\, 2026Live Worship Service - February 22\, 2026Live Worship Service - February 15\, 2026Live Worship Service - February 8\, 2026Live Worship Service - February 1\, 2026Live Worship Service - January 25\, 2026Live Worship Service - January 18\, 2026« Prev1 / 29Next »
URL:https://emmanuelthousandoaks.org/event/sunday-morning-live-stream/2025-10-19/
LOCATION:California
CATEGORIES:Alternative Church
ATTACH;FMTTYPE=image/png:https://emmanuelthousandoaks.org/wp-content/uploads/2025/01/Sunday-Morning-LiveStream.png
END:VEVENT
BEGIN:VEVENT
DTSTART;TZID=America/Los_Angeles:20251022T083000
DTEND;TZID=America/Los_Angeles:20251022T123000
DTSTAMP:20260423T083711
CREATED:20241229T040413Z
LAST-MODIFIED:20241229T041124Z
UID:10004073-1761121800-1761136200@emmanuelthousandoaks.org
SUMMARY:Play Days!
DESCRIPTION:Play Days!\nGet together with other parents for coffee and conversation while your kids play. \n  \nWednesday Mornings from 8:30am to Noon the Nursery and Play Area are available to hang out. We have a lovely brand new couch and Nespresso machine  for your enjoyment. Best of all are the people! Come and hang out.
URL:https://emmanuelthousandoaks.org/event/play-days-2-2/2025-10-22/
LOCATION:Nursery & Playground Area\, 583 Camino Manzanas\, Thousand Oaks\, CA\, 93160\, United States
CATEGORIES:Adult,Early Childhood
ATTACH;FMTTYPE=image/png:https://emmanuelthousandoaks.org/wp-content/uploads/2024/03/Slide8.png
ORGANIZER;CN="Debbie Barber":MAILTO:debbie@emmanuelto.org
GEO:34.1992874;-118.8908597
X-APPLE-STRUCTURED-LOCATION;VALUE=URI;X-ADDRESS=Nursery & Playground Area 583 Camino Manzanas Thousand Oaks CA 93160 United States;X-APPLE-RADIUS=500;X-TITLE=583 Camino Manzanas:geo:-118.8908597,34.1992874
END:VEVENT
BEGIN:VEVENT
DTSTART;TZID=America/Los_Angeles:20251026T100000
DTEND;TZID=America/Los_Angeles:20251026T110000
DTSTAMP:20260423T083711
CREATED:20230212T061321Z
LAST-MODIFIED:20250722T204006Z
UID:10003810-1761472800-1761476400@emmanuelthousandoaks.org
SUMMARY:Worship
DESCRIPTION:Worship in the Sanctuary begins at 10am. \nLivestream available here: Emmanuel Live Stream\nNEW! Access the Online Church Bulletin \nLink to our Online Giving Page
URL:https://emmanuelthousandoaks.org/event/worship/2025-10-26/
LOCATION:Sanctuary\, 538 Camino Manzanas\, Thousand Oaks\, CA\, 91360
CATEGORIES:Adult
ATTACH;FMTTYPE=image/jpeg:https://emmanuelthousandoaks.org/wp-content/uploads/2023/02/Emmanuel-line-drawing-1280-x-720.jpg
ORGANIZER;CN="David Anderson":MAILTO:david@emmanuelto.org
GEO:34.199062;-118.8898478
X-APPLE-STRUCTURED-LOCATION;VALUE=URI;X-ADDRESS=Sanctuary 538 Camino Manzanas Thousand Oaks CA 91360;X-APPLE-RADIUS=500;X-TITLE=538 Camino Manzanas:geo:-118.8898478,34.199062
END:VEVENT
BEGIN:VEVENT
DTSTART;TZID=America/Los_Angeles:20251026T100000
DTEND;TZID=America/Los_Angeles:20251026T110000
DTSTAMP:20260423T083711
CREATED:20250115T185900Z
LAST-MODIFIED:20250205T210048Z
UID:10004434-1761472800-1761476400@emmanuelthousandoaks.org
SUMMARY:Sunday Morning Live Stream
DESCRIPTION:« Prev1 / 29Next »Live Worship Service - April 26\, 2026Live Worship Service - April 19\, 2026Live Worship Service - April 12\, 2026Live Worship Service - April 5\, 2026Live Worship Service - March 29\, 2026Live Worship Service - March 22\, 2026Live Worship Service - March 15\, 2026Live Worship Service - March 8\, 2026Live Worship Service - March 1\, 2026Live Worship Service - February 22\, 2026Live Worship Service - February 15\, 2026Live Worship Service - February 8\, 2026Live Worship Service - February 1\, 2026Live Worship Service - January 25\, 2026Live Worship Service - January 18\, 2026« Prev1 / 29Next »
URL:https://emmanuelthousandoaks.org/event/sunday-morning-live-stream/2025-10-26/
LOCATION:California
CATEGORIES:Alternative Church
ATTACH;FMTTYPE=image/png:https://emmanuelthousandoaks.org/wp-content/uploads/2025/01/Sunday-Morning-LiveStream.png
END:VEVENT
BEGIN:VEVENT
DTSTART;TZID=America/Los_Angeles:20251028T183000
DTEND;TZID=America/Los_Angeles:20251028T203000
DTSTAMP:20260423T083711
CREATED:20240213T213036Z
LAST-MODIFIED:20251021T193513Z
UID:10004782-1761676200-1761683400@emmanuelthousandoaks.org
SUMMARY:Session Meeting
DESCRIPTION:Session is a body of elected Elders who govern the church. Elders meeting once a month in the Conference Room at Emmanuel.
URL:https://emmanuelthousandoaks.org/event/session-meeting-2/2025-10-28/
LOCATION:Conference Room\, 538 Camino Manzanas\, Thousand Oaks\, CA
CATEGORIES:Adult
ATTACH;FMTTYPE=image/png:https://emmanuelthousandoaks.org/wp-content/uploads/2022/04/Session-Featured-Image.png
ORGANIZER;CN="David Anderson":MAILTO:david@emmanuelto.org
GEO:34.199068;-118.8898509
X-APPLE-STRUCTURED-LOCATION;VALUE=URI;X-ADDRESS=Conference Room 538 Camino Manzanas Thousand Oaks CA;X-APPLE-RADIUS=500;X-TITLE=538 Camino Manzanas:geo:-118.8898509,34.199068
END:VEVENT
BEGIN:VEVENT
DTSTART;TZID=America/Los_Angeles:20251029T083000
DTEND;TZID=America/Los_Angeles:20251029T123000
DTSTAMP:20260423T083711
CREATED:20241229T040413Z
LAST-MODIFIED:20241229T041124Z
UID:10004074-1761726600-1761741000@emmanuelthousandoaks.org
SUMMARY:Play Days!
DESCRIPTION:Play Days!\nGet together with other parents for coffee and conversation while your kids play. \n  \nWednesday Mornings from 8:30am to Noon the Nursery and Play Area are available to hang out. We have a lovely brand new couch and Nespresso machine  for your enjoyment. Best of all are the people! Come and hang out.
URL:https://emmanuelthousandoaks.org/event/play-days-2-2/2025-10-29/
LOCATION:Nursery & Playground Area\, 583 Camino Manzanas\, Thousand Oaks\, CA\, 93160\, United States
CATEGORIES:Adult,Early Childhood
ATTACH;FMTTYPE=image/png:https://emmanuelthousandoaks.org/wp-content/uploads/2024/03/Slide8.png
ORGANIZER;CN="Debbie Barber":MAILTO:debbie@emmanuelto.org
GEO:34.1992874;-118.8908597
X-APPLE-STRUCTURED-LOCATION;VALUE=URI;X-ADDRESS=Nursery & Playground Area 583 Camino Manzanas Thousand Oaks CA 93160 United States;X-APPLE-RADIUS=500;X-TITLE=583 Camino Manzanas:geo:-118.8908597,34.1992874
END:VEVENT
END:VCALENDAR