BEGIN:VCALENDAR
VERSION:2.0
PRODID:-//Emmanuel Presbyterian Church - ECPv6.15.20//NONSGML v1.0//EN
CALSCALE:GREGORIAN
METHOD:PUBLISH
X-ORIGINAL-URL:https://emmanuelthousandoaks.org
X-WR-CALDESC:Events for Emmanuel Presbyterian Church
REFRESH-INTERVAL;VALUE=DURATION:PT1H
X-Robots-Tag:noindex
X-PUBLISHED-TTL:PT1H
BEGIN:VTIMEZONE
TZID:America/Los_Angeles
BEGIN:DAYLIGHT
TZOFFSETFROM:-0800
TZOFFSETTO:-0700
TZNAME:PDT
DTSTART:20210314T100000
END:DAYLIGHT
BEGIN:STANDARD
TZOFFSETFROM:-0700
TZOFFSETTO:-0800
TZNAME:PST
DTSTART:20211107T090000
END:STANDARD
BEGIN:DAYLIGHT
TZOFFSETFROM:-0800
TZOFFSETTO:-0700
TZNAME:PDT
DTSTART:20220313T100000
END:DAYLIGHT
BEGIN:STANDARD
TZOFFSETFROM:-0700
TZOFFSETTO:-0800
TZNAME:PST
DTSTART:20221106T090000
END:STANDARD
BEGIN:DAYLIGHT
TZOFFSETFROM:-0800
TZOFFSETTO:-0700
TZNAME:PDT
DTSTART:20230312T100000
END:DAYLIGHT
BEGIN:STANDARD
TZOFFSETFROM:-0700
TZOFFSETTO:-0800
TZNAME:PST
DTSTART:20231105T090000
END:STANDARD
BEGIN:DAYLIGHT
TZOFFSETFROM:-0800
TZOFFSETTO:-0700
TZNAME:PDT
DTSTART:20240310T100000
END:DAYLIGHT
BEGIN:STANDARD
TZOFFSETFROM:-0700
TZOFFSETTO:-0800
TZNAME:PST
DTSTART:20241103T090000
END:STANDARD
END:VTIMEZONE
BEGIN:VEVENT
DTSTART;TZID=America/Los_Angeles:20230226T100000
DTEND;TZID=America/Los_Angeles:20230226T110000
DTSTAMP:20260425T190817
CREATED:20230212T061321Z
LAST-MODIFIED:20250722T204006Z
UID:10003180-1677405600-1677409200@emmanuelthousandoaks.org
SUMMARY:Worship
DESCRIPTION:Worship in the Sanctuary begins at 10am. \nLivestream available here: Emmanuel Live Stream\nNEW! Access the Online Church Bulletin \nLink to our Online Giving Page
URL:https://emmanuelthousandoaks.org/event/worship/2023-02-26/
LOCATION:Sanctuary\, 538 Camino Manzanas\, Thousand Oaks\, CA\, 91360
CATEGORIES:Adult
ATTACH;FMTTYPE=image/jpeg:https://emmanuelthousandoaks.org/wp-content/uploads/2023/02/Emmanuel-line-drawing-1280-x-720.jpg
ORGANIZER;CN="David Anderson":MAILTO:david@emmanuelto.org
GEO:34.199062;-118.8898478
X-APPLE-STRUCTURED-LOCATION;VALUE=URI;X-ADDRESS=Sanctuary 538 Camino Manzanas Thousand Oaks CA 91360;X-APPLE-RADIUS=500;X-TITLE=538 Camino Manzanas:geo:-118.8898478,34.199062
END:VEVENT
BEGIN:VEVENT
DTSTART;TZID=America/Los_Angeles:20230226T100000
DTEND;TZID=America/Los_Angeles:20230226T110000
DTSTAMP:20260425T190817
CREATED:20220830T184757Z
LAST-MODIFIED:20230830T214544Z
UID:10002112-1677405600-1677409200@emmanuelthousandoaks.org
SUMMARY:Children's Sunday School
DESCRIPTION:Sunday school for children takes place each Sunday from 10 to 11 am during the adult worship service. Children 3 and under go to the nursery\, Preschool and Kindergarten children meet in Room 1/2\, and children in grades 1 to 5 meet on the playground or in Room 5/6. We use age-appropriate curriculum that focuses on play-based learning and encourages children to ask questions as they interact with Bible stories. \n 
URL:https://emmanuelthousandoaks.org/event/childrens-sunday-school/2023-02-26/
LOCATION:Room 5/6 and playground area at Emmanuel\, 588 Camino Manzanas\, Thousand Oaks\, CA\, 91360\, United States
ATTACH;FMTTYPE=image/png:https://emmanuelthousandoaks.org/wp-content/uploads/2022/08/Screen-Shot-2022-08-23-at-10.46.57-AM.png
ORGANIZER;CN="Debbie Barber":MAILTO:debbie@emmanuelto.org
GEO:34.1983825;-118.8910816
X-APPLE-STRUCTURED-LOCATION;VALUE=URI;X-ADDRESS=Room 5/6 and playground area at Emmanuel 588 Camino Manzanas Thousand Oaks CA 91360 United States;X-APPLE-RADIUS=500;X-TITLE=588 Camino Manzanas:geo:-118.8910816,34.1983825
END:VEVENT
BEGIN:VEVENT
DTSTART;TZID=America/Los_Angeles:20230225T090000
DTEND;TZID=America/Los_Angeles:20230225T130000
DTSTAMP:20260425T190817
CREATED:20230212T062139Z
LAST-MODIFIED:20230212T062650Z
UID:10003181-1677315600-1677330000@emmanuelthousandoaks.org
SUMMARY:"What's Your Story?" Workshop
DESCRIPTION:Save the Date for a unique opportunity – we are hosting “What’s Your Story?” Project.\nSouth African NGO Heartlines developed a project that would help ordinary South Africans tackle the divisions in society and promote understanding and reconciliation. \nWe live in world where division\, fear\, prejudice and racism plague us daily. These divisions undermine social and economic development\, divide communities and families\, and often lead to tension and violence. \nFor our collective futures we need to find simple ways for people of good will to actively bridge these divides. We believe that “What’s Your Story?” is one such way. Learn more here.\nSign up for the workshop at this link.\nWatch a video here.
URL:https://emmanuelthousandoaks.org/event/whats-your-story-workshop/
LOCATION:Fireside Room\, 588 Camino Manzanas\, Thousand Oaks\, CA\, 93160\, United States
CATEGORIES:Adult
ORGANIZER;CN="Steve Bagdanov":MAILTO:steve@stevebagdanov.com
GEO:34.1705609;-118.8375937
X-APPLE-STRUCTURED-LOCATION;VALUE=URI;X-ADDRESS=Fireside Room 588 Camino Manzanas Thousand Oaks CA 93160 United States;X-APPLE-RADIUS=500;X-TITLE=588 Camino Manzanas:geo:-118.8375937,34.1705609
END:VEVENT
BEGIN:VEVENT
DTSTART;TZID=America/Los_Angeles:20230222T190000
DTEND;TZID=America/Los_Angeles:20230222T200000
DTSTAMP:20260425T190817
CREATED:20230212T054224Z
LAST-MODIFIED:20230224T042916Z
UID:10003169-1677092400-1677096000@emmanuelthousandoaks.org
SUMMARY:Youth Group
DESCRIPTION:Youth Wing \nAN INCH WIDE AND A MILE DEEP\nAs a group we strive for deep and meaningful relationships with each other and with God. When we think about growth\, we think in the terms of rootedness in Jesus. We orient everything we can towards the goal of forming people for the long haul. That being said\, we love when people join our community who want to invest in us and be invested into by us.
URL:https://emmanuelthousandoaks.org/event/youth-group-97/2023-02-22/
LOCATION:Youth Room
CATEGORIES:Youth
ATTACH;FMTTYPE=image/png:https://emmanuelthousandoaks.org/wp-content/uploads/2023/02/Youth-Group-landscape-1280-x-720.png
ORGANIZER;CN="Danny Chulack":MAILTO:danny@emmanuel.org
END:VEVENT
BEGIN:VEVENT
DTSTART;TZID=America/Los_Angeles:20221206T183000
DTEND;TZID=America/Los_Angeles:20221206T203000
DTSTAMP:20260425T190817
CREATED:20220425T190918Z
LAST-MODIFIED:20220926T182648Z
UID:10002697-1670351400-1670358600@emmanuelthousandoaks.org
SUMMARY:Deacon's Meeting
DESCRIPTION:Emmanuel Deacons are nominated and voted upon by the congregation. They\, along with the support volunteers\, provide witness of the love of Christ through outreach to the Emmanuel family assisting with: support needs\, memorial service receptions\, ministry to shut-ins\, cards of encouragement\, prayer\, sympathy\, and support. \nDeacons meet once a month in the Fireside Room at Emmanuel. \nIf you need help from\, or would like to help with any of these ministries\, or if you are aware of a need that might require Deacons’ response\, please fill out the form below. \n\n	Notice: JavaScript is required for this content.\n\n\n    \n\n\n        \n        \n        \n 
URL:https://emmanuelthousandoaks.org/event/deacons-meeting/2022-12-06/
LOCATION:Sanctuary & Fellowship Hall\, 588 Camino Manzanas\, Thousand Oaks\, CA\, 91360\, United States
ATTACH;FMTTYPE=image/jpeg:https://emmanuelthousandoaks.org/wp-content/uploads/2019/09/AdobeStock_154270759.jpeg
GEO:34.1983825;-118.8910816
X-APPLE-STRUCTURED-LOCATION;VALUE=URI;X-ADDRESS=Sanctuary & Fellowship Hall 588 Camino Manzanas Thousand Oaks CA 91360 United States;X-APPLE-RADIUS=500;X-TITLE=588 Camino Manzanas:geo:-118.8910816,34.1983825
END:VEVENT
BEGIN:VEVENT
DTSTART;TZID=America/Los_Angeles:20221122T183000
DTEND;TZID=America/Los_Angeles:20221122T203000
DTSTAMP:20260425T190817
CREATED:20220425T191712Z
LAST-MODIFIED:20220926T181756Z
UID:10002688-1669141800-1669149000@emmanuelthousandoaks.org
SUMMARY:Session Meeting
DESCRIPTION:Session is a body of elected Elders who govern the church. Elders meeting once a month in the Fireside Room at Emmanuel.
URL:https://emmanuelthousandoaks.org/event/session-meeting/2022-11-22/
LOCATION:Sanctuary & Fellowship Hall\, 588 Camino Manzanas\, Thousand Oaks\, CA\, 91360\, United States
ATTACH;FMTTYPE=image/jpeg:https://emmanuelthousandoaks.org/wp-content/uploads/2019/10/AdobeStock_154280170.jpeg
ORGANIZER;CN="David Anderson":MAILTO:david@emmanuelto.org
GEO:34.1983825;-118.8910816
X-APPLE-STRUCTURED-LOCATION;VALUE=URI;X-ADDRESS=Sanctuary & Fellowship Hall 588 Camino Manzanas Thousand Oaks CA 91360 United States;X-APPLE-RADIUS=500;X-TITLE=588 Camino Manzanas:geo:-118.8910816,34.1983825
END:VEVENT
END:VCALENDAR