BEGIN:VCALENDAR
VERSION:2.0
PRODID:-//Emmanuel Presbyterian Church - ECPv6.15.20//NONSGML v1.0//EN
CALSCALE:GREGORIAN
METHOD:PUBLISH
X-ORIGINAL-URL:https://emmanuelthousandoaks.org
X-WR-CALDESC:Events for Emmanuel Presbyterian Church
REFRESH-INTERVAL;VALUE=DURATION:PT1H
X-Robots-Tag:noindex
X-PUBLISHED-TTL:PT1H
BEGIN:VTIMEZONE
TZID:America/Los_Angeles
BEGIN:DAYLIGHT
TZOFFSETFROM:-0800
TZOFFSETTO:-0700
TZNAME:PDT
DTSTART:20250309T100000
END:DAYLIGHT
BEGIN:STANDARD
TZOFFSETFROM:-0700
TZOFFSETTO:-0800
TZNAME:PST
DTSTART:20251102T090000
END:STANDARD
BEGIN:DAYLIGHT
TZOFFSETFROM:-0800
TZOFFSETTO:-0700
TZNAME:PDT
DTSTART:20260308T100000
END:DAYLIGHT
BEGIN:STANDARD
TZOFFSETFROM:-0700
TZOFFSETTO:-0800
TZNAME:PST
DTSTART:20261101T090000
END:STANDARD
BEGIN:DAYLIGHT
TZOFFSETFROM:-0800
TZOFFSETTO:-0700
TZNAME:PDT
DTSTART:20270314T100000
END:DAYLIGHT
BEGIN:STANDARD
TZOFFSETFROM:-0700
TZOFFSETTO:-0800
TZNAME:PST
DTSTART:20271107T090000
END:STANDARD
END:VTIMEZONE
BEGIN:VEVENT
DTSTART;TZID=America/Los_Angeles:20260401T083000
DTEND;TZID=America/Los_Angeles:20260401T123000
DTSTAMP:20260423T032343
CREATED:20241229T040413Z
LAST-MODIFIED:20241229T041124Z
UID:10004096-1775032200-1775046600@emmanuelthousandoaks.org
SUMMARY:Play Days!
DESCRIPTION:Play Days!\nGet together with other parents for coffee and conversation while your kids play. \n  \nWednesday Mornings from 8:30am to Noon the Nursery and Play Area are available to hang out. We have a lovely brand new couch and Nespresso machine  for your enjoyment. Best of all are the people! Come and hang out.
URL:https://emmanuelthousandoaks.org/event/play-days-2-2/2026-04-01/
LOCATION:Nursery & Playground Area\, 583 Camino Manzanas\, Thousand Oaks\, CA\, 93160\, United States
CATEGORIES:Adult,Early Childhood
ATTACH;FMTTYPE=image/png:https://emmanuelthousandoaks.org/wp-content/uploads/2024/03/Slide8.png
ORGANIZER;CN="Debbie Barber":MAILTO:debbie@emmanuelto.org
GEO:34.1992874;-118.8908597
X-APPLE-STRUCTURED-LOCATION;VALUE=URI;X-ADDRESS=Nursery & Playground Area 583 Camino Manzanas Thousand Oaks CA 93160 United States;X-APPLE-RADIUS=500;X-TITLE=583 Camino Manzanas:geo:-118.8908597,34.1992874
END:VEVENT
BEGIN:VEVENT
DTSTART;TZID=America/Los_Angeles:20260403T190000
DTEND;TZID=America/Los_Angeles:20260403T200000
DTSTAMP:20260423T032343
CREATED:20260317T210011Z
LAST-MODIFIED:20260317T210723Z
UID:10003987-1775242800-1775246400@emmanuelthousandoaks.org
SUMMARY:Good Friday Service
DESCRIPTION:7pm Sanctuary \nThis year our Good Friday Service will have a “blues” feel to it. Join us for an evening of reflection\, song and verse to help us engage with the enduring message of the cross of Christ and its impact on humanity.
URL:https://emmanuelthousandoaks.org/event/good-friday-service/
LOCATION:Sanctuary\, 538 Camino Manzanas\, Thousand Oaks\, CA\, 91360
CATEGORIES:Adult
ATTACH;FMTTYPE=image/png:https://emmanuelthousandoaks.org/wp-content/uploads/2025/04/Good-Friday-Service.png
ORGANIZER;CN="David Anderson":MAILTO:david@emmanuelto.org
GEO:34.199062;-118.8898478
X-APPLE-STRUCTURED-LOCATION;VALUE=URI;X-ADDRESS=Sanctuary 538 Camino Manzanas Thousand Oaks CA 91360;X-APPLE-RADIUS=500;X-TITLE=538 Camino Manzanas:geo:-118.8898478,34.199062
END:VEVENT
BEGIN:VEVENT
DTSTART;TZID=America/Los_Angeles:20260405T100000
DTEND;TZID=America/Los_Angeles:20260405T110000
DTSTAMP:20260423T032343
CREATED:20230212T061321Z
LAST-MODIFIED:20250722T204006Z
UID:10003833-1775383200-1775386800@emmanuelthousandoaks.org
SUMMARY:Worship
DESCRIPTION:Worship in the Sanctuary begins at 10am. \nLivestream available here: Emmanuel Live Stream\nNEW! Access the Online Church Bulletin \nLink to our Online Giving Page
URL:https://emmanuelthousandoaks.org/event/worship/2026-04-05/
LOCATION:Sanctuary\, 538 Camino Manzanas\, Thousand Oaks\, CA\, 91360
CATEGORIES:Adult
ATTACH;FMTTYPE=image/jpeg:https://emmanuelthousandoaks.org/wp-content/uploads/2023/02/Emmanuel-line-drawing-1280-x-720.jpg
ORGANIZER;CN="David Anderson":MAILTO:david@emmanuelto.org
GEO:34.199062;-118.8898478
X-APPLE-STRUCTURED-LOCATION;VALUE=URI;X-ADDRESS=Sanctuary 538 Camino Manzanas Thousand Oaks CA 91360;X-APPLE-RADIUS=500;X-TITLE=538 Camino Manzanas:geo:-118.8898478,34.199062
END:VEVENT
BEGIN:VEVENT
DTSTART;TZID=America/Los_Angeles:20260405T100000
DTEND;TZID=America/Los_Angeles:20260405T110000
DTSTAMP:20260423T032343
CREATED:20250115T185900Z
LAST-MODIFIED:20250205T210048Z
UID:10004457-1775383200-1775386800@emmanuelthousandoaks.org
SUMMARY:Sunday Morning Live Stream
DESCRIPTION:« Prev1 / 29Next »Live Worship Service - April 26\, 2026Live Worship Service - April 19\, 2026Live Worship Service - April 12\, 2026Live Worship Service - April 5\, 2026Live Worship Service - March 29\, 2026Live Worship Service - March 22\, 2026Live Worship Service - March 15\, 2026Live Worship Service - March 8\, 2026Live Worship Service - March 1\, 2026Live Worship Service - February 22\, 2026Live Worship Service - February 15\, 2026Live Worship Service - February 8\, 2026Live Worship Service - February 1\, 2026Live Worship Service - January 25\, 2026Live Worship Service - January 18\, 2026« Prev1 / 29Next »
URL:https://emmanuelthousandoaks.org/event/sunday-morning-live-stream/2026-04-05/
LOCATION:California
CATEGORIES:Alternative Church
ATTACH;FMTTYPE=image/png:https://emmanuelthousandoaks.org/wp-content/uploads/2025/01/Sunday-Morning-LiveStream.png
END:VEVENT
BEGIN:VEVENT
DTSTART;TZID=America/Los_Angeles:20260405T100000
DTEND;TZID=America/Los_Angeles:20260405T120000
DTSTAMP:20260423T032343
CREATED:20250325T220046Z
LAST-MODIFIED:20260303T220554Z
UID:10003988-1775383200-1775390400@emmanuelthousandoaks.org
SUMMARY:Easter Service + Carnival
DESCRIPTION:Join us at 10am on Easter morning for a service celebrating the resurrection of Jesus. Immediately after the service we will have a carnival on our front lawn. There will be snacks\, games\, a petting zoo\, and joy. Be on the lookout as Debbie Barber\, our Director of Children and Family Ministry\, looks for help pulling off this wonderful program.
URL:https://emmanuelthousandoaks.org/event/easter-service-carnival/
LOCATION:Sanctuary\, 538 Camino Manzanas\, Thousand Oaks\, CA\, 91360
ORGANIZER;CN="David Anderson":MAILTO:david@emmanuelto.org
GEO:34.199062;-118.8898478
X-APPLE-STRUCTURED-LOCATION;VALUE=URI;X-ADDRESS=Sanctuary 538 Camino Manzanas Thousand Oaks CA 91360;X-APPLE-RADIUS=500;X-TITLE=538 Camino Manzanas:geo:-118.8898478,34.199062
END:VEVENT
BEGIN:VEVENT
DTSTART;TZID=America/Los_Angeles:20260412T153000
DTEND;TZID=America/Los_Angeles:20260412T163000
DTSTAMP:20260423T032343
CREATED:20260219T190033Z
LAST-MODIFIED:20260329T163839Z
UID:10004377-1776007800-1776011400@emmanuelthousandoaks.org
SUMMARY:Harbor House Hot Meals
DESCRIPTION:We prepare 50 hot meals for Harbor House once a month. We also provide 50 meals one Thursday every other month. \nTo sign up for the April 12 meal\, visit the Sign Up Genius \nAll of the details are available here on the Moving Beyond Church page.
URL:https://emmanuelthousandoaks.org/event/harbor-house-hot-meals/
LOCATION:Main Kitchen\, Camino Manzanas 583\, Thousand Oaks\, CA\, 91360\, United States
CATEGORIES:Adult
ATTACH;FMTTYPE=image/png:https://emmanuelthousandoaks.org/wp-content/uploads/2026/02/Harbor-House-Promo-April-2026.png
GEO:34.1992966;-118.8908598
X-APPLE-STRUCTURED-LOCATION;VALUE=URI;X-ADDRESS=Main Kitchen Camino Manzanas 583 Thousand Oaks CA 91360 United States;X-APPLE-RADIUS=500;X-TITLE=Camino Manzanas 583:geo:-118.8908598,34.1992966
END:VEVENT
BEGIN:VEVENT
DTSTART;TZID=America/Los_Angeles:20260428T183000
DTEND;TZID=America/Los_Angeles:20260428T203000
DTSTAMP:20260423T032343
CREATED:20240213T213036Z
LAST-MODIFIED:20251021T193513Z
UID:10004788-1777401000-1777408200@emmanuelthousandoaks.org
SUMMARY:Session Meeting
DESCRIPTION:Session is a body of elected Elders who govern the church. Elders meeting once a month in the Conference Room at Emmanuel.
URL:https://emmanuelthousandoaks.org/event/session-meeting-2/2026-04-28/
LOCATION:Conference Room\, 538 Camino Manzanas\, Thousand Oaks\, CA
CATEGORIES:Adult
ATTACH;FMTTYPE=image/png:https://emmanuelthousandoaks.org/wp-content/uploads/2022/04/Session-Featured-Image.png
ORGANIZER;CN="David Anderson":MAILTO:david@emmanuelto.org
GEO:34.199068;-118.8898509
X-APPLE-STRUCTURED-LOCATION;VALUE=URI;X-ADDRESS=Conference Room 538 Camino Manzanas Thousand Oaks CA;X-APPLE-RADIUS=500;X-TITLE=538 Camino Manzanas:geo:-118.8898509,34.199068
END:VEVENT
BEGIN:VEVENT
DTSTART;TZID=America/Los_Angeles:20260614T111500
DTEND;TZID=America/Los_Angeles:20260614T150000
DTSTAMP:20260423T032343
CREATED:20260421T215326Z
LAST-MODIFIED:20260421T215326Z
UID:10004796-1781435700-1781449200@emmanuelthousandoaks.org
SUMMARY:Church Picnic
DESCRIPTION:Save the date for an all church picnic following the worship service on Sunday\, June 14 from 11:15am to 3pm. \nThe picnic will happen at Conejo Community Park Pavilion (Dover & Hendrix Park) – mark your calendars and be sure not to miss it!
URL:https://emmanuelthousandoaks.org/event/church-picnic/
LOCATION:Dover Hendrix Park\, Dover Avenue\, Thousand Oaks\, CA\, 91360\, United States
ATTACH;FMTTYPE=image/png:https://emmanuelthousandoaks.org/wp-content/uploads/2026/04/Church-Picnic.png
GEO:34.1982584;-118.877345
X-APPLE-STRUCTURED-LOCATION;VALUE=URI;X-ADDRESS=Dover Hendrix Park Dover Avenue Thousand Oaks CA 91360 United States;X-APPLE-RADIUS=500;X-TITLE=Dover Avenue:geo:-118.877345,34.1982584
END:VEVENT
END:VCALENDAR