BEGIN:VCALENDAR
VERSION:2.0
PRODID:-//Emmanuel Presbyterian Church - ECPv6.15.20//NONSGML v1.0//EN
CALSCALE:GREGORIAN
METHOD:PUBLISH
X-ORIGINAL-URL:https://emmanuelthousandoaks.org
X-WR-CALDESC:Events for Emmanuel Presbyterian Church
REFRESH-INTERVAL;VALUE=DURATION:PT1H
X-Robots-Tag:noindex
X-PUBLISHED-TTL:PT1H
BEGIN:VTIMEZONE
TZID:America/Los_Angeles
BEGIN:DAYLIGHT
TZOFFSETFROM:-0800
TZOFFSETTO:-0700
TZNAME:PDT
DTSTART:20220313T100000
END:DAYLIGHT
BEGIN:STANDARD
TZOFFSETFROM:-0700
TZOFFSETTO:-0800
TZNAME:PST
DTSTART:20221106T090000
END:STANDARD
BEGIN:DAYLIGHT
TZOFFSETFROM:-0800
TZOFFSETTO:-0700
TZNAME:PDT
DTSTART:20230312T100000
END:DAYLIGHT
BEGIN:STANDARD
TZOFFSETFROM:-0700
TZOFFSETTO:-0800
TZNAME:PST
DTSTART:20231105T090000
END:STANDARD
BEGIN:DAYLIGHT
TZOFFSETFROM:-0800
TZOFFSETTO:-0700
TZNAME:PDT
DTSTART:20240310T100000
END:DAYLIGHT
BEGIN:STANDARD
TZOFFSETFROM:-0700
TZOFFSETTO:-0800
TZNAME:PST
DTSTART:20241103T090000
END:STANDARD
END:VTIMEZONE
BEGIN:VEVENT
DTSTART;TZID=America/Los_Angeles:20230326T083000
DTEND;TZID=America/Los_Angeles:20230326T123000
DTSTAMP:20260425T152825
CREATED:20230314T060539Z
LAST-MODIFIED:20230314T060539Z
UID:10003249-1679819400-1679833800@emmanuelthousandoaks.org
SUMMARY:Blood Drive
DESCRIPTION:Vitalant will be parking their mobile blood lab at Emmanuel on March 26.  \nThey will be here all morning\, from 8:30am to 12:30pm.  \nTo reserve your donation time go to\nwww.vitalant.org
URL:https://emmanuelthousandoaks.org/event/blood-drive/
LOCATION:Emmanuel Parking Lot\, 538 Camino Manzanas\, Thousand Oaks\, CA\, United States
CATEGORIES:Adult
GEO:34.199068;-118.8898509
X-APPLE-STRUCTURED-LOCATION;VALUE=URI;X-ADDRESS=Emmanuel Parking Lot 538 Camino Manzanas Thousand Oaks CA United States;X-APPLE-RADIUS=500;X-TITLE=538 Camino Manzanas:geo:-118.8898509,34.199068
END:VEVENT
BEGIN:VEVENT
DTSTART;TZID=America/Los_Angeles:20230326T100000
DTEND;TZID=America/Los_Angeles:20230326T110000
DTSTAMP:20260425T152825
CREATED:20220830T184757Z
LAST-MODIFIED:20230830T214544Z
UID:10002116-1679824800-1679828400@emmanuelthousandoaks.org
SUMMARY:Children's Sunday School
DESCRIPTION:Sunday school for children takes place each Sunday from 10 to 11 am during the adult worship service. Children 3 and under go to the nursery\, Preschool and Kindergarten children meet in Room 1/2\, and children in grades 1 to 5 meet on the playground or in Room 5/6. We use age-appropriate curriculum that focuses on play-based learning and encourages children to ask questions as they interact with Bible stories. \n 
URL:https://emmanuelthousandoaks.org/event/childrens-sunday-school/2023-03-26/
LOCATION:Room 5/6 and playground area at Emmanuel\, 588 Camino Manzanas\, Thousand Oaks\, CA\, 91360\, United States
ATTACH;FMTTYPE=image/png:https://emmanuelthousandoaks.org/wp-content/uploads/2022/08/Screen-Shot-2022-08-23-at-10.46.57-AM.png
ORGANIZER;CN="Debbie Barber":MAILTO:debbie@emmanuelto.org
GEO:34.1983825;-118.8910816
X-APPLE-STRUCTURED-LOCATION;VALUE=URI;X-ADDRESS=Room 5/6 and playground area at Emmanuel 588 Camino Manzanas Thousand Oaks CA 91360 United States;X-APPLE-RADIUS=500;X-TITLE=588 Camino Manzanas:geo:-118.8910816,34.1983825
END:VEVENT
BEGIN:VEVENT
DTSTART;TZID=America/Los_Angeles:20230326T100000
DTEND;TZID=America/Los_Angeles:20230326T110000
DTSTAMP:20260425T152825
CREATED:20230212T061321Z
LAST-MODIFIED:20250722T204006Z
UID:10003253-1679824800-1679828400@emmanuelthousandoaks.org
SUMMARY:Worship
DESCRIPTION:Worship in the Sanctuary begins at 10am. \nLivestream available here: Emmanuel Live Stream\nNEW! Access the Online Church Bulletin \nLink to our Online Giving Page
URL:https://emmanuelthousandoaks.org/event/worship/2023-03-26/
LOCATION:Sanctuary\, 538 Camino Manzanas\, Thousand Oaks\, CA\, 91360
CATEGORIES:Adult
ATTACH;FMTTYPE=image/jpeg:https://emmanuelthousandoaks.org/wp-content/uploads/2023/02/Emmanuel-line-drawing-1280-x-720.jpg
ORGANIZER;CN="David Anderson":MAILTO:david@emmanuelto.org
GEO:34.199062;-118.8898478
X-APPLE-STRUCTURED-LOCATION;VALUE=URI;X-ADDRESS=Sanctuary 538 Camino Manzanas Thousand Oaks CA 91360;X-APPLE-RADIUS=500;X-TITLE=538 Camino Manzanas:geo:-118.8898478,34.199062
END:VEVENT
BEGIN:VEVENT
DTSTART;TZID=America/Los_Angeles:20230329T190000
DTEND;TZID=America/Los_Angeles:20230329T200000
DTSTAMP:20260425T152825
CREATED:20230212T054224Z
LAST-MODIFIED:20230224T042916Z
UID:10003174-1680116400-1680120000@emmanuelthousandoaks.org
SUMMARY:Youth Group
DESCRIPTION:Youth Wing \nAN INCH WIDE AND A MILE DEEP\nAs a group we strive for deep and meaningful relationships with each other and with God. When we think about growth\, we think in the terms of rootedness in Jesus. We orient everything we can towards the goal of forming people for the long haul. That being said\, we love when people join our community who want to invest in us and be invested into by us.
URL:https://emmanuelthousandoaks.org/event/youth-group-97/2023-03-29/
LOCATION:Youth Room
CATEGORIES:Youth
ATTACH;FMTTYPE=image/png:https://emmanuelthousandoaks.org/wp-content/uploads/2023/02/Youth-Group-landscape-1280-x-720.png
ORGANIZER;CN="Danny Chulack":MAILTO:danny@emmanuel.org
END:VEVENT
BEGIN:VEVENT
DTSTART;TZID=America/Los_Angeles:20230330T180000
DTEND;TZID=America/Los_Angeles:20230330T200000
DTSTAMP:20260425T152825
CREATED:20230314T055935Z
LAST-MODIFIED:20230314T060202Z
UID:10003247-1680199200-1680206400@emmanuelthousandoaks.org
SUMMARY:Ukrainian Egg Meditative Art
DESCRIPTION:This opportunity takes place on Thursdays starting March 2\, 6-8pm in Room 5/6. \nSee Debbie Barber with any questions.
URL:https://emmanuelthousandoaks.org/event/ukrainian-egg-meditative-art/2023-03-30/
LOCATION:Room 5/6 and playground area at Emmanuel\, 588 Camino Manzanas\, Thousand Oaks\, CA\, 91360\, United States
CATEGORIES:Adult
GEO:34.1983825;-118.8910816
X-APPLE-STRUCTURED-LOCATION;VALUE=URI;X-ADDRESS=Room 5/6 and playground area at Emmanuel 588 Camino Manzanas Thousand Oaks CA 91360 United States;X-APPLE-RADIUS=500;X-TITLE=588 Camino Manzanas:geo:-118.8910816,34.1983825
END:VEVENT
END:VCALENDAR