BEGIN:VCALENDAR
VERSION:2.0
PRODID:-//Emmanuel Presbyterian Church - ECPv6.15.20//NONSGML v1.0//EN
CALSCALE:GREGORIAN
METHOD:PUBLISH
X-WR-CALNAME:Emmanuel Presbyterian Church
X-ORIGINAL-URL:https://emmanuelthousandoaks.org
X-WR-CALDESC:Events for Emmanuel Presbyterian Church
REFRESH-INTERVAL;VALUE=DURATION:PT1H
X-Robots-Tag:noindex
X-PUBLISHED-TTL:PT1H
BEGIN:VTIMEZONE
TZID:America/Los_Angeles
BEGIN:DAYLIGHT
TZOFFSETFROM:-0800
TZOFFSETTO:-0700
TZNAME:PDT
DTSTART:20220313T100000
END:DAYLIGHT
BEGIN:STANDARD
TZOFFSETFROM:-0700
TZOFFSETTO:-0800
TZNAME:PST
DTSTART:20221106T090000
END:STANDARD
BEGIN:DAYLIGHT
TZOFFSETFROM:-0800
TZOFFSETTO:-0700
TZNAME:PDT
DTSTART:20230312T100000
END:DAYLIGHT
BEGIN:STANDARD
TZOFFSETFROM:-0700
TZOFFSETTO:-0800
TZNAME:PST
DTSTART:20231105T090000
END:STANDARD
BEGIN:DAYLIGHT
TZOFFSETFROM:-0800
TZOFFSETTO:-0700
TZNAME:PDT
DTSTART:20240310T100000
END:DAYLIGHT
BEGIN:STANDARD
TZOFFSETFROM:-0700
TZOFFSETTO:-0800
TZNAME:PST
DTSTART:20241103T090000
END:STANDARD
END:VTIMEZONE
BEGIN:VEVENT
DTSTART;TZID=America/Los_Angeles:20230430T100000
DTEND;TZID=America/Los_Angeles:20230430T110000
DTSTAMP:20260425T133954
CREATED:20220830T184757Z
LAST-MODIFIED:20230830T214544Z
UID:10002121-1682848800-1682852400@emmanuelthousandoaks.org
SUMMARY:Children's Sunday School
DESCRIPTION:Sunday school for children takes place each Sunday from 10 to 11 am during the adult worship service. Children 3 and under go to the nursery\, Preschool and Kindergarten children meet in Room 1/2\, and children in grades 1 to 5 meet on the playground or in Room 5/6. We use age-appropriate curriculum that focuses on play-based learning and encourages children to ask questions as they interact with Bible stories. \n 
URL:https://emmanuelthousandoaks.org/event/childrens-sunday-school/2023-04-30/
LOCATION:Room 5/6 and playground area at Emmanuel\, 588 Camino Manzanas\, Thousand Oaks\, CA\, 91360\, United States
ATTACH;FMTTYPE=image/png:https://emmanuelthousandoaks.org/wp-content/uploads/2022/08/Screen-Shot-2022-08-23-at-10.46.57-AM.png
ORGANIZER;CN="Debbie Barber":MAILTO:debbie@emmanuelto.org
GEO:34.1983825;-118.8910816
X-APPLE-STRUCTURED-LOCATION;VALUE=URI;X-ADDRESS=Room 5/6 and playground area at Emmanuel 588 Camino Manzanas Thousand Oaks CA 91360 United States;X-APPLE-RADIUS=500;X-TITLE=588 Camino Manzanas:geo:-118.8910816,34.1983825
END:VEVENT
BEGIN:VEVENT
DTSTART;TZID=America/Los_Angeles:20230430T100000
DTEND;TZID=America/Los_Angeles:20230430T110000
DTSTAMP:20260425T133954
CREATED:20230212T061321Z
LAST-MODIFIED:20250722T204006Z
UID:10003258-1682848800-1682852400@emmanuelthousandoaks.org
SUMMARY:Worship
DESCRIPTION:Worship in the Sanctuary begins at 10am. \nLivestream available here: Emmanuel Live Stream\nNEW! Access the Online Church Bulletin \nLink to our Online Giving Page
URL:https://emmanuelthousandoaks.org/event/worship/2023-04-30/
LOCATION:Sanctuary\, 538 Camino Manzanas\, Thousand Oaks\, CA\, 91360
CATEGORIES:Adult
ATTACH;FMTTYPE=image/jpeg:https://emmanuelthousandoaks.org/wp-content/uploads/2023/02/Emmanuel-line-drawing-1280-x-720.jpg
ORGANIZER;CN="David Anderson":MAILTO:david@emmanuelto.org
GEO:34.199062;-118.8898478
X-APPLE-STRUCTURED-LOCATION;VALUE=URI;X-ADDRESS=Sanctuary 538 Camino Manzanas Thousand Oaks CA 91360;X-APPLE-RADIUS=500;X-TITLE=538 Camino Manzanas:geo:-118.8898478,34.199062
END:VEVENT
BEGIN:VEVENT
DTSTART;TZID=America/Los_Angeles:20230430T170000
DTEND;TZID=America/Los_Angeles:20230430T190000
DTSTAMP:20260425T133954
CREATED:20230426T020515Z
LAST-MODIFIED:20230426T020515Z
UID:10003307-1682874000-1682881200@emmanuelthousandoaks.org
SUMMARY:Installation Service
DESCRIPTION:Join us this Sunday Evening to formally install David Anderson as our Called Pastor. Prior to this David has been our Designated Pastor. In the Presbyterian church there are protocols for pastoral transition. David has been our Designated Pastor for a bit over two years\, the minimum required period after which we can call him as our called\, installed Pastor. This is celebrated with an installation service\, with a taco dinner to follow. Let us know if you are coming so we have enough food by filling out this short form.
URL:https://emmanuelthousandoaks.org/event/installation-service/
LOCATION:Sanctuary\, 538 Camino Manzanas\, Thousand Oaks\, CA\, 91360
GEO:34.199062;-118.8898478
X-APPLE-STRUCTURED-LOCATION;VALUE=URI;X-ADDRESS=Sanctuary 538 Camino Manzanas Thousand Oaks CA 91360;X-APPLE-RADIUS=500;X-TITLE=538 Camino Manzanas:geo:-118.8898478,34.199062
END:VEVENT
BEGIN:VEVENT
DTSTART;TZID=America/Los_Angeles:20230505T184500
DTEND;TZID=America/Los_Angeles:20230505T200000
DTSTAMP:20260425T133954
CREATED:20230426T023458Z
LAST-MODIFIED:20230426T023458Z
UID:10003320-1683312300-1683316800@emmanuelthousandoaks.org
SUMMARY:Men's Softball - Doubleheader
DESCRIPTION:Our Men’s Softball team plays on Friday nights. We play at Borchard Park in Newbury Park\, sometimes we win. \nCome out and watch\, bring the kids\, bring some dinner – yell\, laugh\, taunt – all those things you love about softball.
URL:https://emmanuelthousandoaks.org/event/mens-softball-doubleheader/2023-05-05/1/
LOCATION:Thousand Oaks\, CA\, United States
CATEGORIES:Adult
GEO:36.778261;-119.4179324
END:VEVENT
BEGIN:VEVENT
DTSTART;TZID=America/Los_Angeles:20230505T200000
DTEND;TZID=America/Los_Angeles:20230505T213000
DTSTAMP:20260425T133954
CREATED:20230426T023458Z
LAST-MODIFIED:20230426T023458Z
UID:10003321-1683316800-1683322200@emmanuelthousandoaks.org
SUMMARY:Men's Softball - Doubleheader
DESCRIPTION:Our Men’s Softball team plays on Friday nights. We play at Borchard Park in Newbury Park\, sometimes we win. \nCome out and watch\, bring the kids\, bring some dinner – yell\, laugh\, taunt – all those things you love about softball.
URL:https://emmanuelthousandoaks.org/event/mens-softball-doubleheader/2023-05-05/2/
LOCATION:Thousand Oaks\, CA\, United States
CATEGORIES:Adult
GEO:36.778261;-119.4179324
END:VEVENT
END:VCALENDAR