BEGIN:VCALENDAR
VERSION:2.0
PRODID:-//Emmanuel Presbyterian Church - ECPv6.15.20//NONSGML v1.0//EN
CALSCALE:GREGORIAN
METHOD:PUBLISH
X-ORIGINAL-URL:https://emmanuelthousandoaks.org
X-WR-CALDESC:Events for Emmanuel Presbyterian Church
REFRESH-INTERVAL;VALUE=DURATION:PT1H
X-Robots-Tag:noindex
X-PUBLISHED-TTL:PT1H
BEGIN:VTIMEZONE
TZID:America/Los_Angeles
BEGIN:DAYLIGHT
TZOFFSETFROM:-0800
TZOFFSETTO:-0700
TZNAME:PDT
DTSTART:20220313T100000
END:DAYLIGHT
BEGIN:STANDARD
TZOFFSETFROM:-0700
TZOFFSETTO:-0800
TZNAME:PST
DTSTART:20221106T090000
END:STANDARD
BEGIN:DAYLIGHT
TZOFFSETFROM:-0800
TZOFFSETTO:-0700
TZNAME:PDT
DTSTART:20230312T100000
END:DAYLIGHT
BEGIN:STANDARD
TZOFFSETFROM:-0700
TZOFFSETTO:-0800
TZNAME:PST
DTSTART:20231105T090000
END:STANDARD
BEGIN:DAYLIGHT
TZOFFSETFROM:-0800
TZOFFSETTO:-0700
TZNAME:PDT
DTSTART:20240310T100000
END:DAYLIGHT
BEGIN:STANDARD
TZOFFSETFROM:-0700
TZOFFSETTO:-0800
TZNAME:PST
DTSTART:20241103T090000
END:STANDARD
END:VTIMEZONE
BEGIN:VEVENT
DTSTART;TZID=America/Los_Angeles:20231105T100000
DTEND;TZID=America/Los_Angeles:20231105T110000
DTSTAMP:20260425T051517
CREATED:20220830T184757Z
LAST-MODIFIED:20230830T214544Z
UID:10003703-1699178400-1699182000@emmanuelthousandoaks.org
SUMMARY:Children's Sunday School
DESCRIPTION:Sunday school for children takes place each Sunday from 10 to 11 am during the adult worship service. Children 3 and under go to the nursery\, Preschool and Kindergarten children meet in Room 1/2\, and children in grades 1 to 5 meet on the playground or in Room 5/6. We use age-appropriate curriculum that focuses on play-based learning and encourages children to ask questions as they interact with Bible stories. \n 
URL:https://emmanuelthousandoaks.org/event/childrens-sunday-school/2023-11-05/
LOCATION:Room 5/6 and playground area at Emmanuel\, 588 Camino Manzanas\, Thousand Oaks\, CA\, 91360\, United States
ATTACH;FMTTYPE=image/png:https://emmanuelthousandoaks.org/wp-content/uploads/2022/08/Screen-Shot-2022-08-23-at-10.46.57-AM.png
ORGANIZER;CN="Debbie Barber":MAILTO:debbie@emmanuelto.org
GEO:34.1983825;-118.8910816
X-APPLE-STRUCTURED-LOCATION;VALUE=URI;X-ADDRESS=Room 5/6 and playground area at Emmanuel 588 Camino Manzanas Thousand Oaks CA 91360 United States;X-APPLE-RADIUS=500;X-TITLE=588 Camino Manzanas:geo:-118.8910816,34.1983825
END:VEVENT
BEGIN:VEVENT
DTSTART;TZID=America/Los_Angeles:20231105T100000
DTEND;TZID=America/Los_Angeles:20231105T110000
DTSTAMP:20260425T051517
CREATED:20230212T061321Z
LAST-MODIFIED:20250722T204006Z
UID:10003285-1699178400-1699182000@emmanuelthousandoaks.org
SUMMARY:Worship
DESCRIPTION:Worship in the Sanctuary begins at 10am. \nLivestream available here: Emmanuel Live Stream\nNEW! Access the Online Church Bulletin \nLink to our Online Giving Page
URL:https://emmanuelthousandoaks.org/event/worship/2023-11-05/
LOCATION:Sanctuary\, 538 Camino Manzanas\, Thousand Oaks\, CA\, 91360
CATEGORIES:Adult
ATTACH;FMTTYPE=image/jpeg:https://emmanuelthousandoaks.org/wp-content/uploads/2023/02/Emmanuel-line-drawing-1280-x-720.jpg
ORGANIZER;CN="David Anderson":MAILTO:david@emmanuelto.org
GEO:34.199062;-118.8898478
X-APPLE-STRUCTURED-LOCATION;VALUE=URI;X-ADDRESS=Sanctuary 538 Camino Manzanas Thousand Oaks CA 91360;X-APPLE-RADIUS=500;X-TITLE=538 Camino Manzanas:geo:-118.8898478,34.199062
END:VEVENT
BEGIN:VEVENT
DTSTART;TZID=America/Los_Angeles:20231108T190000
DTEND;TZID=America/Los_Angeles:20231108T203000
DTSTAMP:20260425T051517
CREATED:20230605T014942Z
LAST-MODIFIED:20230830T213806Z
UID:10003625-1699470000-1699475400@emmanuelthousandoaks.org
SUMMARY:Youth Group
DESCRIPTION:
URL:https://emmanuelthousandoaks.org/event/youth-group-98/2023-11-08/
LOCATION:Youth Room
CATEGORIES:Youth
ATTACH;FMTTYPE=image/png:https://emmanuelthousandoaks.org/wp-content/uploads/2023/02/Youth-Group-landscape-1280-x-720.png
ORGANIZER;CN="Danny Chulack":MAILTO:danny@emmanuel.org
END:VEVENT
END:VCALENDAR