BEGIN:VCALENDAR
VERSION:2.0
PRODID:-//Emmanuel Presbyterian Church - ECPv6.15.20//NONSGML v1.0//EN
CALSCALE:GREGORIAN
METHOD:PUBLISH
X-ORIGINAL-URL:https://emmanuelthousandoaks.org
X-WR-CALDESC:Events for Emmanuel Presbyterian Church
REFRESH-INTERVAL;VALUE=DURATION:PT1H
X-Robots-Tag:noindex
X-PUBLISHED-TTL:PT1H
BEGIN:VTIMEZONE
TZID:America/Los_Angeles
BEGIN:DAYLIGHT
TZOFFSETFROM:-0800
TZOFFSETTO:-0700
TZNAME:PDT
DTSTART:20240310T100000
END:DAYLIGHT
BEGIN:STANDARD
TZOFFSETFROM:-0700
TZOFFSETTO:-0800
TZNAME:PST
DTSTART:20241103T090000
END:STANDARD
BEGIN:DAYLIGHT
TZOFFSETFROM:-0800
TZOFFSETTO:-0700
TZNAME:PDT
DTSTART:20250309T100000
END:DAYLIGHT
BEGIN:STANDARD
TZOFFSETFROM:-0700
TZOFFSETTO:-0800
TZNAME:PST
DTSTART:20251102T090000
END:STANDARD
BEGIN:DAYLIGHT
TZOFFSETFROM:-0800
TZOFFSETTO:-0700
TZNAME:PDT
DTSTART:20260308T100000
END:DAYLIGHT
BEGIN:STANDARD
TZOFFSETFROM:-0700
TZOFFSETTO:-0800
TZNAME:PST
DTSTART:20261101T090000
END:STANDARD
END:VTIMEZONE
BEGIN:VEVENT
DTSTART;TZID=America/Los_Angeles:20250803T100000
DTEND;TZID=America/Los_Angeles:20250803T110000
DTSTAMP:20260423T153857
CREATED:20230212T061321Z
LAST-MODIFIED:20250722T204006Z
UID:10003798-1754215200-1754218800@emmanuelthousandoaks.org
SUMMARY:Worship
DESCRIPTION:Worship in the Sanctuary begins at 10am. \nLivestream available here: Emmanuel Live Stream\nNEW! Access the Online Church Bulletin \nLink to our Online Giving Page
URL:https://emmanuelthousandoaks.org/event/worship/2025-08-03/
LOCATION:Sanctuary\, 538 Camino Manzanas\, Thousand Oaks\, CA\, 91360
CATEGORIES:Adult
ATTACH;FMTTYPE=image/jpeg:https://emmanuelthousandoaks.org/wp-content/uploads/2023/02/Emmanuel-line-drawing-1280-x-720.jpg
ORGANIZER;CN="David Anderson":MAILTO:david@emmanuelto.org
GEO:34.199062;-118.8898478
X-APPLE-STRUCTURED-LOCATION;VALUE=URI;X-ADDRESS=Sanctuary 538 Camino Manzanas Thousand Oaks CA 91360;X-APPLE-RADIUS=500;X-TITLE=538 Camino Manzanas:geo:-118.8898478,34.199062
END:VEVENT
BEGIN:VEVENT
DTSTART;TZID=America/Los_Angeles:20250803T100000
DTEND;TZID=America/Los_Angeles:20250803T110000
DTSTAMP:20260423T153857
CREATED:20250115T185900Z
LAST-MODIFIED:20250205T210048Z
UID:10004422-1754215200-1754218800@emmanuelthousandoaks.org
SUMMARY:Sunday Morning Live Stream
DESCRIPTION:« Prev1 / 29Next »Live Worship Service - April 26\, 2026Live Worship Service - April 19\, 2026Live Worship Service - April 12\, 2026Live Worship Service - April 5\, 2026Live Worship Service - March 29\, 2026Live Worship Service - March 22\, 2026Live Worship Service - March 15\, 2026Live Worship Service - March 8\, 2026Live Worship Service - March 1\, 2026Live Worship Service - February 22\, 2026Live Worship Service - February 15\, 2026Live Worship Service - February 8\, 2026Live Worship Service - February 1\, 2026Live Worship Service - January 25\, 2026Live Worship Service - January 18\, 2026« Prev1 / 29Next »
URL:https://emmanuelthousandoaks.org/event/sunday-morning-live-stream/2025-08-03/
LOCATION:California
CATEGORIES:Alternative Church
ATTACH;FMTTYPE=image/png:https://emmanuelthousandoaks.org/wp-content/uploads/2025/01/Sunday-Morning-LiveStream.png
END:VEVENT
BEGIN:VEVENT
DTSTART;TZID=America/Los_Angeles:20250804T190000
DTEND;TZID=America/Los_Angeles:20250804T203000
DTSTAMP:20260423T153857
CREATED:20250711T194751Z
LAST-MODIFIED:20250711T194751Z
UID:10004691-1754334000-1754339400@emmanuelthousandoaks.org
SUMMARY:Among Friends:  Easy Environmental Minimalism
DESCRIPTION:Easy Environmental Minimalism Monday\, August 4\, 7-8:30pm\, Children’s Garden Learn tips and techniques for conserving water and other natural resources. We will also plant a cutting from a  scented geranium or a succulent\, and you will bring home a new plant! Instructor: Sue Byrne—Sign up with Sue at  Sue.byrne6@gmail.com.  \nHere is the class list for the Summer! for the Among Friends classes for women.
URL:https://emmanuelthousandoaks.org/event/among-friends-easy-environmental-minimalism/
LOCATION:Nursery & Playground Area\, 583 Camino Manzanas\, Thousand Oaks\, CA\, 93160\, United States
ATTACH;FMTTYPE=image/png:https://emmanuelthousandoaks.org/wp-content/uploads/2025/07/Among-Friends-Environment.png
GEO:34.1992874;-118.8908597
X-APPLE-STRUCTURED-LOCATION;VALUE=URI;X-ADDRESS=Nursery & Playground Area 583 Camino Manzanas Thousand Oaks CA 93160 United States;X-APPLE-RADIUS=500;X-TITLE=583 Camino Manzanas:geo:-118.8908597,34.1992874
END:VEVENT
BEGIN:VEVENT
DTSTART;TZID=America/Los_Angeles:20250806T083000
DTEND;TZID=America/Los_Angeles:20250806T123000
DTSTAMP:20260423T153857
CREATED:20241229T040413Z
LAST-MODIFIED:20241229T041124Z
UID:10004062-1754469000-1754483400@emmanuelthousandoaks.org
SUMMARY:Play Days!
DESCRIPTION:Play Days!\nGet together with other parents for coffee and conversation while your kids play. \n  \nWednesday Mornings from 8:30am to Noon the Nursery and Play Area are available to hang out. We have a lovely brand new couch and Nespresso machine  for your enjoyment. Best of all are the people! Come and hang out.
URL:https://emmanuelthousandoaks.org/event/play-days-2-2/2025-08-06/
LOCATION:Nursery & Playground Area\, 583 Camino Manzanas\, Thousand Oaks\, CA\, 93160\, United States
CATEGORIES:Adult,Early Childhood
ATTACH;FMTTYPE=image/png:https://emmanuelthousandoaks.org/wp-content/uploads/2024/03/Slide8.png
ORGANIZER;CN="Debbie Barber":MAILTO:debbie@emmanuelto.org
GEO:34.1992874;-118.8908597
X-APPLE-STRUCTURED-LOCATION;VALUE=URI;X-ADDRESS=Nursery & Playground Area 583 Camino Manzanas Thousand Oaks CA 93160 United States;X-APPLE-RADIUS=500;X-TITLE=583 Camino Manzanas:geo:-118.8908597,34.1992874
END:VEVENT
BEGIN:VEVENT
DTSTART;TZID=America/Los_Angeles:20250807T190000
DTEND;TZID=America/Los_Angeles:20250807T203000
DTSTAMP:20260423T153857
CREATED:20250729T222404Z
LAST-MODIFIED:20250729T222404Z
UID:10004771-1754593200-1754598600@emmanuelthousandoaks.org
SUMMARY:Among Friends:  Sweet Decorations - Cupcakes
DESCRIPTION:Sweet Decorations: Cupcakes Thursday\, August 7\, 7-8:30pm\, Kitchen\nLearn and practice techniques\, then decorate your own cupcakes. No experience necessary\, all materials provided.\nInstructor: Valerie Reynolds—Sign up with Valerie on her cell at (805) 750-8456. \nHere is the class list for the Summer! for the Among Friends classes for women.
URL:https://emmanuelthousandoaks.org/event/among-friends-sweet-decorations-cupcakes/
LOCATION:Main Kitchen\, Camino Manzanas 583\, Thousand Oaks\, CA\, 91360\, United States
CATEGORIES:Adult,Women
ATTACH;FMTTYPE=image/png:https://emmanuelthousandoaks.org/wp-content/uploads/2025/07/Harbor-House-Promo-2.png
GEO:34.1992966;-118.8908598
X-APPLE-STRUCTURED-LOCATION;VALUE=URI;X-ADDRESS=Main Kitchen Camino Manzanas 583 Thousand Oaks CA 91360 United States;X-APPLE-RADIUS=500;X-TITLE=Camino Manzanas 583:geo:-118.8908598,34.1992966
END:VEVENT
END:VCALENDAR