BEGIN:VCALENDAR
VERSION:2.0
PRODID:-//Emmanuel Presbyterian Church - ECPv6.15.20//NONSGML v1.0//EN
CALSCALE:GREGORIAN
METHOD:PUBLISH
X-WR-CALNAME:Emmanuel Presbyterian Church
X-ORIGINAL-URL:https://emmanuelthousandoaks.org
X-WR-CALDESC:Events for Emmanuel Presbyterian Church
REFRESH-INTERVAL;VALUE=DURATION:PT1H
X-Robots-Tag:noindex
X-PUBLISHED-TTL:PT1H
BEGIN:VTIMEZONE
TZID:America/Los_Angeles
BEGIN:DAYLIGHT
TZOFFSETFROM:-0800
TZOFFSETTO:-0700
TZNAME:PDT
DTSTART:20240310T100000
END:DAYLIGHT
BEGIN:STANDARD
TZOFFSETFROM:-0700
TZOFFSETTO:-0800
TZNAME:PST
DTSTART:20241103T090000
END:STANDARD
BEGIN:DAYLIGHT
TZOFFSETFROM:-0800
TZOFFSETTO:-0700
TZNAME:PDT
DTSTART:20250309T100000
END:DAYLIGHT
BEGIN:STANDARD
TZOFFSETFROM:-0700
TZOFFSETTO:-0800
TZNAME:PST
DTSTART:20251102T090000
END:STANDARD
BEGIN:DAYLIGHT
TZOFFSETFROM:-0800
TZOFFSETTO:-0700
TZNAME:PDT
DTSTART:20260308T100000
END:DAYLIGHT
BEGIN:STANDARD
TZOFFSETFROM:-0700
TZOFFSETTO:-0800
TZNAME:PST
DTSTART:20261101T090000
END:STANDARD
END:VTIMEZONE
BEGIN:VEVENT
DTSTART;TZID=America/Los_Angeles:20251115T090000
DTEND;TZID=America/Los_Angeles:20251115T120000
DTSTAMP:20260423T031753
CREATED:20250923T213345Z
LAST-MODIFIED:20250923T213345Z
UID:10004780-1763197200-1763208000@emmanuelthousandoaks.org
SUMMARY:Let's Play Golf!
DESCRIPTION:The men’s ministry at Emmanuel is planning a golf outing at Westlake Golf Course on November 15. \nWe want to get a sense of interest so we can determine how to make the reservation for the event so if you have any interest we need to know by November 1 \nPlease contact our golf event coordinator\, Bob Willcox at rlwillcox1@gmail.com. Or 805 660-4186. Or catch him after church.
URL:https://emmanuelthousandoaks.org/event/lets-play-golf/
LOCATION:Westlake Golf Course\, 4812 Lakeview Canyon Rd\, Westlake Village\, CA\, 91361\, United States
CATEGORIES:Adult,Men
ATTACH;FMTTYPE=image/png:https://emmanuelthousandoaks.org/wp-content/uploads/2025/09/Golf.png
ORGANIZER;CN="Bob Willcox":MAILTO:rlwillcox1@gmail.com
GEO:34.1490607;-118.8108821
X-APPLE-STRUCTURED-LOCATION;VALUE=URI;X-ADDRESS=Westlake Golf Course 4812 Lakeview Canyon Rd Westlake Village CA 91361 United States;X-APPLE-RADIUS=500;X-TITLE=4812 Lakeview Canyon Rd:geo:-118.8108821,34.1490607
END:VEVENT
END:VCALENDAR