BEGIN:VCALENDAR
VERSION:2.0
PRODID:-//Emmanuel Presbyterian Church - ECPv6.15.20//NONSGML v1.0//EN
CALSCALE:GREGORIAN
METHOD:PUBLISH
X-ORIGINAL-URL:https://emmanuelthousandoaks.org
X-WR-CALDESC:Events for Emmanuel Presbyterian Church
REFRESH-INTERVAL;VALUE=DURATION:PT1H
X-Robots-Tag:noindex
X-PUBLISHED-TTL:PT1H
BEGIN:VTIMEZONE
TZID:America/Los_Angeles
BEGIN:DAYLIGHT
TZOFFSETFROM:-0800
TZOFFSETTO:-0700
TZNAME:PDT
DTSTART:20220313T100000
END:DAYLIGHT
BEGIN:STANDARD
TZOFFSETFROM:-0700
TZOFFSETTO:-0800
TZNAME:PST
DTSTART:20221106T090000
END:STANDARD
BEGIN:DAYLIGHT
TZOFFSETFROM:-0800
TZOFFSETTO:-0700
TZNAME:PDT
DTSTART:20230312T100000
END:DAYLIGHT
BEGIN:STANDARD
TZOFFSETFROM:-0700
TZOFFSETTO:-0800
TZNAME:PST
DTSTART:20231105T090000
END:STANDARD
BEGIN:DAYLIGHT
TZOFFSETFROM:-0800
TZOFFSETTO:-0700
TZNAME:PDT
DTSTART:20240310T100000
END:DAYLIGHT
BEGIN:STANDARD
TZOFFSETFROM:-0700
TZOFFSETTO:-0800
TZNAME:PST
DTSTART:20241103T090000
END:STANDARD
BEGIN:DAYLIGHT
TZOFFSETFROM:-0800
TZOFFSETTO:-0700
TZNAME:PDT
DTSTART:20250309T100000
END:DAYLIGHT
BEGIN:STANDARD
TZOFFSETFROM:-0700
TZOFFSETTO:-0800
TZNAME:PST
DTSTART:20251102T090000
END:STANDARD
END:VTIMEZONE
BEGIN:VEVENT
DTSTART;TZID=America/Los_Angeles:20240824T090000
DTEND;TZID=America/Los_Angeles:20240824T103000
DTSTAMP:20260423T031956
CREATED:20240731T184602Z
LAST-MODIFIED:20240731T184602Z
UID:10004330-1724490000-1724495400@emmanuelthousandoaks.org
SUMMARY:Art History Seminar
DESCRIPTION:Kelly Bagdanov will be teaching a 4 week seminar focused on works of art currently housed at the Norton Simon Museum in Pasadena culminating with a field trip to the Norton Simon on Sunday August 25. \nThere is no cost for the Seminar but you will incur a cost at the Norton Simon for entrance fees: $20 for adults\, $15 for Seniors (62+)\, Free for 18 and under.  More information will be shared during the seminar. \nSaturdays in August from 9am to 10:30am here at Emmanuel.
URL:https://emmanuelthousandoaks.org/event/art-history-seminar/2024-08-24/
LOCATION:Conference Room\, 538 Camino Manzanas\, Thousand Oaks\, CA
CATEGORIES:Adult
ATTACH;FMTTYPE=image/png:https://emmanuelthousandoaks.org/wp-content/uploads/2024/07/Art-History-Seminar.png
ORGANIZER;CN="Kelly Bagdanov":MAILTO:kbagdanov@gmail.com
GEO:34.199068;-118.8898509
X-APPLE-STRUCTURED-LOCATION;VALUE=URI;X-ADDRESS=Conference Room 538 Camino Manzanas Thousand Oaks CA;X-APPLE-RADIUS=500;X-TITLE=538 Camino Manzanas:geo:-118.8898509,34.199068
END:VEVENT
BEGIN:VEVENT
DTSTART;TZID=America/Los_Angeles:20240807T110000
DTEND;TZID=America/Los_Angeles:20240807T120000
DTSTAMP:20260423T031956
CREATED:20240731T182730Z
LAST-MODIFIED:20240807T203752Z
UID:10004325-1723028400-1723032000@emmanuelthousandoaks.org
SUMMARY:Kids' Book Club
DESCRIPTION:The Kids’ Book Club meets on Wednesdays from 11am to Noon in the Library! \nJune 19- August 14 and the book is The Magician’s Nephew by CS Lewis from the Chronicles of Narnia series. \nThe club meets in the Children’s Library (Room 8) at Emmanuel.
URL:https://emmanuelthousandoaks.org/event/kids-book-club-2/2024-08-07/
LOCATION:Room 8 Children’s Library\, 538 Camino Manzanas\, Thousand Oaks
CATEGORIES:Elementary
ATTACH;FMTTYPE=image/png:https://emmanuelthousandoaks.org/wp-content/uploads/2024/07/Book-Club-revised.png
ORGANIZER;CN="Kelly Bagdanov":MAILTO:kbagdanov@gmail.com
GEO:34.199068;-118.8898509
X-APPLE-STRUCTURED-LOCATION;VALUE=URI;X-ADDRESS=Room 8 Children’s Library 538 Camino Manzanas Thousand Oaks;X-APPLE-RADIUS=500;X-TITLE=538 Camino Manzanas:geo:-118.8898509,34.199068
END:VEVENT
BEGIN:VEVENT
DTSTART;TZID=America/Los_Angeles:20231202T090000
DTEND;TZID=America/Los_Angeles:20231202T120000
DTSTAMP:20260423T031956
CREATED:20231125T054604Z
LAST-MODIFIED:20231125T054604Z
UID:10003720-1701507600-1701518400@emmanuelthousandoaks.org
SUMMARY:Deck the Halls
DESCRIPTION:Join us for the greening of the Sanctuary for Advent and Christmas season.\nSaturday December 2 at 9am.
URL:https://emmanuelthousandoaks.org/event/deck-the-halls/
LOCATION:Sanctuary\, 538 Camino Manzanas\, Thousand Oaks\, CA\, 91360
CATEGORIES:Adult,Youth
ORGANIZER;CN="Kelly Bagdanov":MAILTO:kbagdanov@gmail.com
GEO:34.199062;-118.8898478
X-APPLE-STRUCTURED-LOCATION;VALUE=URI;X-ADDRESS=Sanctuary 538 Camino Manzanas Thousand Oaks CA 91360;X-APPLE-RADIUS=500;X-TITLE=538 Camino Manzanas:geo:-118.8898478,34.199062
END:VEVENT
BEGIN:VEVENT
DTSTART;TZID=America/Los_Angeles:20230715T090000
DTEND;TZID=America/Los_Angeles:20230715T110000
DTSTAMP:20260423T031956
CREATED:20230712T213230Z
LAST-MODIFIED:20230712T213230Z
UID:10003331-1689411600-1689418800@emmanuelthousandoaks.org
SUMMARY:Prop Painting for Camp Joy
DESCRIPTION:Over the next few weeks we will be gearing up for Camp Joy!  If you are available to help paint some props for the sanctuary or cut out some items for classrooms we will be gathering on the following two Saturdays –   We’ll meet from 9 to 11. \nSat. July 15\nSat. July 29
URL:https://emmanuelthousandoaks.org/event/prop-painting-for-camp-joy/
LOCATION:Thousand Oaks\, CA\, United States
ORGANIZER;CN="Kelly Bagdanov":MAILTO:kbagdanov@gmail.com
GEO:36.778261;-119.4179324
END:VEVENT
END:VCALENDAR