BEGIN:VCALENDAR
VERSION:2.0
PRODID:-//Emmanuel Presbyterian Church - ECPv6.15.20//NONSGML v1.0//EN
CALSCALE:GREGORIAN
METHOD:PUBLISH
X-ORIGINAL-URL:https://emmanuelthousandoaks.org
X-WR-CALDESC:Events for Emmanuel Presbyterian Church
REFRESH-INTERVAL;VALUE=DURATION:PT1H
X-Robots-Tag:noindex
X-PUBLISHED-TTL:PT1H
BEGIN:VTIMEZONE
TZID:America/Los_Angeles
BEGIN:DAYLIGHT
TZOFFSETFROM:-0800
TZOFFSETTO:-0700
TZNAME:PDT
DTSTART:20230312T100000
END:DAYLIGHT
BEGIN:STANDARD
TZOFFSETFROM:-0700
TZOFFSETTO:-0800
TZNAME:PST
DTSTART:20231105T090000
END:STANDARD
BEGIN:DAYLIGHT
TZOFFSETFROM:-0800
TZOFFSETTO:-0700
TZNAME:PDT
DTSTART:20240310T100000
END:DAYLIGHT
BEGIN:STANDARD
TZOFFSETFROM:-0700
TZOFFSETTO:-0800
TZNAME:PST
DTSTART:20241103T090000
END:STANDARD
BEGIN:DAYLIGHT
TZOFFSETFROM:-0800
TZOFFSETTO:-0700
TZNAME:PDT
DTSTART:20250309T100000
END:DAYLIGHT
BEGIN:STANDARD
TZOFFSETFROM:-0700
TZOFFSETTO:-0800
TZNAME:PST
DTSTART:20251102T090000
END:STANDARD
END:VTIMEZONE
BEGIN:VEVENT
DTSTART;TZID=America/Los_Angeles:20241013T120000
DTEND;TZID=America/Los_Angeles:20241013T140000
DTSTAMP:20260423T042102
CREATED:20241008T185126Z
LAST-MODIFIED:20241008T185153Z
UID:10004346-1728820800-1728828000@emmanuelthousandoaks.org
SUMMARY:Life Group Meet Up
DESCRIPTION:We’re gonna have a young families life group picnic on October 13th\, 12pm after church at the Conejo Community Park (the one right by church on Dover and Hendrix). The purpose of this is to have the two young families life groups get together and hang and share the experience with any other young families who aren’t already in one of those groups!
URL:https://emmanuelthousandoaks.org/event/life-group-meet-up/
LOCATION:Dover Hendrix Park\, Dover Avenue\, Thousand Oaks\, CA\, 91360\, United States
ATTACH;FMTTYPE=image/png:https://emmanuelthousandoaks.org/wp-content/uploads/2024/10/Picnic.png
GEO:34.1982584;-118.877345
X-APPLE-STRUCTURED-LOCATION;VALUE=URI;X-ADDRESS=Dover Hendrix Park Dover Avenue Thousand Oaks CA 91360 United States;X-APPLE-RADIUS=500;X-TITLE=Dover Avenue:geo:-118.877345,34.1982584
END:VEVENT
BEGIN:VEVENT
DTSTART;TZID=America/Los_Angeles:20240623T180000
DTEND;TZID=America/Los_Angeles:20240623T200000
DTSTAMP:20260423T042102
CREATED:20240529T220238Z
LAST-MODIFIED:20240529T222347Z
UID:10004261-1719165600-1719172800@emmanuelthousandoaks.org
SUMMARY:Summer Volleyball
DESCRIPTION:On June 9 & 23 we will be meeting at the Sand Courts in Conejo Creek North Park next to the Library at 6pm. \nEverybody is welcome\, participants\, viewers (both fanatics and passive viewers)\, kids\, seniors! Bring your own refreshments/food/seating/blankets etc.
URL:https://emmanuelthousandoaks.org/event/summer-volleyball/2024-06-23/
LOCATION:Conejo Creek North Park\, East Janss Road\, Thousand Oaks\, CA\, 91362\, United States
ATTACH;FMTTYPE=image/png:https://emmanuelthousandoaks.org/wp-content/uploads/2024/05/June-9th-June-23rd-6p.m.-Sand-Courts-in-North-Janss-Park-next-to-the-library-Presentation-1.png
GEO:34.2025981;-118.8536417
X-APPLE-STRUCTURED-LOCATION;VALUE=URI;X-ADDRESS=Conejo Creek North Park East Janss Road Thousand Oaks CA 91362 United States;X-APPLE-RADIUS=500;X-TITLE=East Janss Road:geo:-118.8536417,34.2025981
END:VEVENT
END:VCALENDAR