BEGIN:VCALENDAR
VERSION:2.0
PRODID:-//Emmanuel Presbyterian Church - ECPv6.15.20//NONSGML v1.0//EN
CALSCALE:GREGORIAN
METHOD:PUBLISH
X-ORIGINAL-URL:https://emmanuelthousandoaks.org
X-WR-CALDESC:Events for Emmanuel Presbyterian Church
REFRESH-INTERVAL;VALUE=DURATION:PT1H
X-Robots-Tag:noindex
X-PUBLISHED-TTL:PT1H
BEGIN:VTIMEZONE
TZID:America/Los_Angeles
BEGIN:DAYLIGHT
TZOFFSETFROM:-0800
TZOFFSETTO:-0700
TZNAME:PDT
DTSTART:20250309T100000
END:DAYLIGHT
BEGIN:STANDARD
TZOFFSETFROM:-0700
TZOFFSETTO:-0800
TZNAME:PST
DTSTART:20251102T090000
END:STANDARD
BEGIN:DAYLIGHT
TZOFFSETFROM:-0800
TZOFFSETTO:-0700
TZNAME:PDT
DTSTART:20260308T100000
END:DAYLIGHT
BEGIN:STANDARD
TZOFFSETFROM:-0700
TZOFFSETTO:-0800
TZNAME:PST
DTSTART:20261101T090000
END:STANDARD
BEGIN:DAYLIGHT
TZOFFSETFROM:-0800
TZOFFSETTO:-0700
TZNAME:PDT
DTSTART:20270314T100000
END:DAYLIGHT
BEGIN:STANDARD
TZOFFSETFROM:-0700
TZOFFSETTO:-0800
TZNAME:PST
DTSTART:20271107T090000
END:STANDARD
END:VTIMEZONE
BEGIN:VEVENT
DTSTART;TZID=America/Los_Angeles:20260226T190000
DTEND;TZID=America/Los_Angeles:20260226T210000
DTSTAMP:20260423T031911
CREATED:20250622T162849Z
LAST-MODIFIED:20260208T052531Z
UID:10004686-1772132400-1772139600@emmanuelthousandoaks.org
SUMMARY:Men's Night Out
DESCRIPTION:Join us for our first Men’s Night Out on Thursday at Pedals and Pints in Thousand Oaks. \nThis is a casual get together\, just come and hang out. See you at 7! \nBoard and Brew\n30734 Russell Ranch Rd\, Ste D\,\nWestlake Village\, CA 91362 \nThis is a casual meet up\, come find the group and hang out.
URL:https://emmanuelthousandoaks.org/event/mens-night-out/
LOCATION:Board and Brew
CATEGORIES:Adult,Men
ATTACH;FMTTYPE=image/png:https://emmanuelthousandoaks.org/wp-content/uploads/2025/06/Mens-Night-Out.png
END:VEVENT
END:VCALENDAR