BEGIN:VCALENDAR
VERSION:2.0
PRODID:-//Emmanuel Presbyterian Church - ECPv6.15.20//NONSGML v1.0//EN
CALSCALE:GREGORIAN
METHOD:PUBLISH
X-WR-CALNAME:Emmanuel Presbyterian Church
X-ORIGINAL-URL:https://emmanuelthousandoaks.org
X-WR-CALDESC:Events for Emmanuel Presbyterian Church
REFRESH-INTERVAL;VALUE=DURATION:PT1H
X-Robots-Tag:noindex
X-PUBLISHED-TTL:PT1H
BEGIN:VTIMEZONE
TZID:America/Los_Angeles
BEGIN:DAYLIGHT
TZOFFSETFROM:-0800
TZOFFSETTO:-0700
TZNAME:PDT
DTSTART:20250309T100000
END:DAYLIGHT
BEGIN:STANDARD
TZOFFSETFROM:-0700
TZOFFSETTO:-0800
TZNAME:PST
DTSTART:20251102T090000
END:STANDARD
BEGIN:DAYLIGHT
TZOFFSETFROM:-0800
TZOFFSETTO:-0700
TZNAME:PDT
DTSTART:20260308T100000
END:DAYLIGHT
BEGIN:STANDARD
TZOFFSETFROM:-0700
TZOFFSETTO:-0800
TZNAME:PST
DTSTART:20261101T090000
END:STANDARD
BEGIN:DAYLIGHT
TZOFFSETFROM:-0800
TZOFFSETTO:-0700
TZNAME:PDT
DTSTART:20270314T100000
END:DAYLIGHT
BEGIN:STANDARD
TZOFFSETFROM:-0700
TZOFFSETTO:-0800
TZNAME:PST
DTSTART:20271107T090000
END:STANDARD
END:VTIMEZONE
BEGIN:VEVENT
DTSTART;TZID=America/Los_Angeles:20260614T111500
DTEND;TZID=America/Los_Angeles:20260614T150000
DTSTAMP:20260422T195452
CREATED:20260421T215326Z
LAST-MODIFIED:20260421T215326Z
UID:10004796-1781435700-1781449200@emmanuelthousandoaks.org
SUMMARY:Church Picnic
DESCRIPTION:Save the date for an all church picnic following the worship service on Sunday\, June 14 from 11:15am to 3pm. \nThe picnic will happen at Conejo Community Park Pavilion (Dover & Hendrix Park) – mark your calendars and be sure not to miss it!
URL:https://emmanuelthousandoaks.org/event/church-picnic/
LOCATION:Dover Hendrix Park\, Dover Avenue\, Thousand Oaks\, CA\, 91360\, United States
ATTACH;FMTTYPE=image/png:https://emmanuelthousandoaks.org/wp-content/uploads/2026/04/Church-Picnic.png
GEO:34.1982584;-118.877345
X-APPLE-STRUCTURED-LOCATION;VALUE=URI;X-ADDRESS=Dover Hendrix Park Dover Avenue Thousand Oaks CA 91360 United States;X-APPLE-RADIUS=500;X-TITLE=Dover Avenue:geo:-118.877345,34.1982584
END:VEVENT
END:VCALENDAR