BEGIN:VCALENDAR
VERSION:2.0
PRODID:-//Emmanuel Presbyterian Church - ECPv6.15.20//NONSGML v1.0//EN
CALSCALE:GREGORIAN
METHOD:PUBLISH
X-WR-CALNAME:Emmanuel Presbyterian Church
X-ORIGINAL-URL:https://emmanuelthousandoaks.org
X-WR-CALDESC:Events for Emmanuel Presbyterian Church
REFRESH-INTERVAL;VALUE=DURATION:PT1H
X-Robots-Tag:noindex
X-PUBLISHED-TTL:PT1H
BEGIN:VTIMEZONE
TZID:America/Los_Angeles
BEGIN:DAYLIGHT
TZOFFSETFROM:-0800
TZOFFSETTO:-0700
TZNAME:PDT
DTSTART:20220313T100000
END:DAYLIGHT
BEGIN:STANDARD
TZOFFSETFROM:-0700
TZOFFSETTO:-0800
TZNAME:PST
DTSTART:20221106T090000
END:STANDARD
BEGIN:DAYLIGHT
TZOFFSETFROM:-0800
TZOFFSETTO:-0700
TZNAME:PDT
DTSTART:20230312T100000
END:DAYLIGHT
BEGIN:STANDARD
TZOFFSETFROM:-0700
TZOFFSETTO:-0800
TZNAME:PST
DTSTART:20231105T090000
END:STANDARD
BEGIN:DAYLIGHT
TZOFFSETFROM:-0800
TZOFFSETTO:-0700
TZNAME:PDT
DTSTART:20240310T100000
END:DAYLIGHT
BEGIN:STANDARD
TZOFFSETFROM:-0700
TZOFFSETTO:-0800
TZNAME:PST
DTSTART:20241103T090000
END:STANDARD
END:VTIMEZONE
BEGIN:VEVENT
DTSTART;TZID=America/Los_Angeles:20230914T190000
DTEND;TZID=America/Los_Angeles:20230914T210000
DTSTAMP:20260423T064128
CREATED:20230910T042932Z
LAST-MODIFIED:20230910T042932Z
UID:10003711-1694718000-1694725200@emmanuelthousandoaks.org
SUMMARY:Women's Night Out
DESCRIPTION:This month Women’s Night Out is at Enegren Brewing Company in Moorpark at 7pm. \nThis is a casual evening out with no agenda or plan – just hang out\, talk\, get to know someone new or refresh with an old friend. \nEnegren Brewing Company \n444 Zachary St # 120\, Moorpark\, CA 93021
URL:https://emmanuelthousandoaks.org/event/womens-night-out-3/
LOCATION:Enegren Brewing Company\, 444 Zachary St # 120\, Moorpark\, 93021\, United States
CATEGORIES:Adult
GEO:34.2831043;-118.8708156
X-APPLE-STRUCTURED-LOCATION;VALUE=URI;X-ADDRESS=Enegren Brewing Company 444 Zachary St # 120 Moorpark 93021 United States;X-APPLE-RADIUS=500;X-TITLE=444 Zachary St # 120:geo:-118.8708156,34.2831043
END:VEVENT
END:VCALENDAR