BEGIN:VCALENDAR
VERSION:2.0
PRODID:-//Emmanuel Presbyterian Church - ECPv6.15.20//NONSGML v1.0//EN
CALSCALE:GREGORIAN
METHOD:PUBLISH
X-ORIGINAL-URL:https://emmanuelthousandoaks.org
X-WR-CALDESC:Events for Emmanuel Presbyterian Church
REFRESH-INTERVAL;VALUE=DURATION:PT1H
X-Robots-Tag:noindex
X-PUBLISHED-TTL:PT1H
BEGIN:VTIMEZONE
TZID:America/Los_Angeles
BEGIN:DAYLIGHT
TZOFFSETFROM:-0800
TZOFFSETTO:-0700
TZNAME:PDT
DTSTART:20220313T100000
END:DAYLIGHT
BEGIN:STANDARD
TZOFFSETFROM:-0700
TZOFFSETTO:-0800
TZNAME:PST
DTSTART:20221106T090000
END:STANDARD
BEGIN:DAYLIGHT
TZOFFSETFROM:-0800
TZOFFSETTO:-0700
TZNAME:PDT
DTSTART:20230312T100000
END:DAYLIGHT
BEGIN:STANDARD
TZOFFSETFROM:-0700
TZOFFSETTO:-0800
TZNAME:PST
DTSTART:20231105T090000
END:STANDARD
BEGIN:DAYLIGHT
TZOFFSETFROM:-0800
TZOFFSETTO:-0700
TZNAME:PDT
DTSTART:20240310T100000
END:DAYLIGHT
BEGIN:STANDARD
TZOFFSETFROM:-0700
TZOFFSETTO:-0800
TZNAME:PST
DTSTART:20241103T090000
END:STANDARD
BEGIN:DAYLIGHT
TZOFFSETFROM:-0800
TZOFFSETTO:-0700
TZNAME:PDT
DTSTART:20250309T100000
END:DAYLIGHT
BEGIN:STANDARD
TZOFFSETFROM:-0700
TZOFFSETTO:-0800
TZNAME:PST
DTSTART:20251102T090000
END:STANDARD
BEGIN:DAYLIGHT
TZOFFSETFROM:-0800
TZOFFSETTO:-0700
TZNAME:PDT
DTSTART:20260308T100000
END:DAYLIGHT
BEGIN:STANDARD
TZOFFSETFROM:-0700
TZOFFSETTO:-0800
TZNAME:PST
DTSTART:20261101T090000
END:STANDARD
END:VTIMEZONE
BEGIN:VEVENT
DTSTART;TZID=America/Los_Angeles:20251206T090000
DTEND;TZID=America/Los_Angeles:20251206T130000
DTSTAMP:20260423T033413
CREATED:20240123T013012Z
LAST-MODIFIED:20250205T215809Z
UID:10004667-1765011600-1765026000@emmanuelthousandoaks.org
SUMMARY:Buddy Break
DESCRIPTION:Buddy Break is a FREE Parents’ Day Out/respite program where kids with all types of special needs (VIP kids) have FUN while their parents get a BREAK. At Buddy Break\, VIP kids and their siblings make new friends\, play games\, do crafts\, hear children’s stories\, enjoy music\, and more!\nMeanwhile\, parents get a break from their ongoing care-giving responsibilities\, usually for three hours on a Saturday morning. \nIf you are interested in helping out\, contact Robert Luce
URL:https://emmanuelthousandoaks.org/event/buddy-break/2025-12-06/
LOCATION:Room 5/6 and playground area at Emmanuel\, 588 Camino Manzanas\, Thousand Oaks\, CA\, 91360\, United States
ATTACH;FMTTYPE=image/png:https://emmanuelthousandoaks.org/wp-content/uploads/2024/01/Buddy-Break-Event-Featured-Images.png
ORGANIZER;CN="Robert Luce":MAILTO:robert.luce.rl@gmail.com
GEO:34.1983825;-118.8910816
X-APPLE-STRUCTURED-LOCATION;VALUE=URI;X-ADDRESS=Room 5/6 and playground area at Emmanuel 588 Camino Manzanas Thousand Oaks CA 91360 United States;X-APPLE-RADIUS=500;X-TITLE=588 Camino Manzanas:geo:-118.8910816,34.1983825
END:VEVENT
BEGIN:VEVENT
DTSTART;TZID=America/Los_Angeles:20231217T100000
DTEND;TZID=America/Los_Angeles:20231217T110000
DTSTAMP:20260423T033413
CREATED:20220830T184757Z
LAST-MODIFIED:20230830T214544Z
UID:10003709-1702807200-1702810800@emmanuelthousandoaks.org
SUMMARY:Children's Sunday School
DESCRIPTION:Sunday school for children takes place each Sunday from 10 to 11 am during the adult worship service. Children 3 and under go to the nursery\, Preschool and Kindergarten children meet in Room 1/2\, and children in grades 1 to 5 meet on the playground or in Room 5/6. We use age-appropriate curriculum that focuses on play-based learning and encourages children to ask questions as they interact with Bible stories. \n 
URL:https://emmanuelthousandoaks.org/event/childrens-sunday-school/2023-12-17/
LOCATION:Room 5/6 and playground area at Emmanuel\, 588 Camino Manzanas\, Thousand Oaks\, CA\, 91360\, United States
ATTACH;FMTTYPE=image/png:https://emmanuelthousandoaks.org/wp-content/uploads/2022/08/Screen-Shot-2022-08-23-at-10.46.57-AM.png
ORGANIZER;CN="Debbie Barber":MAILTO:debbie@emmanuelto.org
GEO:34.1983825;-118.8910816
X-APPLE-STRUCTURED-LOCATION;VALUE=URI;X-ADDRESS=Room 5/6 and playground area at Emmanuel 588 Camino Manzanas Thousand Oaks CA 91360 United States;X-APPLE-RADIUS=500;X-TITLE=588 Camino Manzanas:geo:-118.8910816,34.1983825
END:VEVENT
BEGIN:VEVENT
DTSTART;TZID=America/Los_Angeles:20230406T180000
DTEND;TZID=America/Los_Angeles:20230406T200000
DTSTAMP:20260423T033413
CREATED:20230314T055935Z
LAST-MODIFIED:20230314T060202Z
UID:10003248-1680804000-1680811200@emmanuelthousandoaks.org
SUMMARY:Ukrainian Egg Meditative Art
DESCRIPTION:This opportunity takes place on Thursdays starting March 2\, 6-8pm in Room 5/6. \nSee Debbie Barber with any questions.
URL:https://emmanuelthousandoaks.org/event/ukrainian-egg-meditative-art/2023-04-06/
LOCATION:Room 5/6 and playground area at Emmanuel\, 588 Camino Manzanas\, Thousand Oaks\, CA\, 91360\, United States
CATEGORIES:Adult
GEO:34.1983825;-118.8910816
X-APPLE-STRUCTURED-LOCATION;VALUE=URI;X-ADDRESS=Room 5/6 and playground area at Emmanuel 588 Camino Manzanas Thousand Oaks CA 91360 United States;X-APPLE-RADIUS=500;X-TITLE=588 Camino Manzanas:geo:-118.8910816,34.1983825
END:VEVENT
END:VCALENDAR