BEGIN:VCALENDAR
VERSION:2.0
PRODID:-//Emmanuel Presbyterian Church - ECPv6.15.20//NONSGML v1.0//EN
CALSCALE:GREGORIAN
METHOD:PUBLISH
X-ORIGINAL-URL:https://emmanuelthousandoaks.org
X-WR-CALDESC:Events for Emmanuel Presbyterian Church
REFRESH-INTERVAL;VALUE=DURATION:PT1H
X-Robots-Tag:noindex
X-PUBLISHED-TTL:PT1H
BEGIN:VTIMEZONE
TZID:America/Los_Angeles
BEGIN:DAYLIGHT
TZOFFSETFROM:-0800
TZOFFSETTO:-0700
TZNAME:PDT
DTSTART:20220313T100000
END:DAYLIGHT
BEGIN:STANDARD
TZOFFSETFROM:-0700
TZOFFSETTO:-0800
TZNAME:PST
DTSTART:20221106T090000
END:STANDARD
BEGIN:DAYLIGHT
TZOFFSETFROM:-0800
TZOFFSETTO:-0700
TZNAME:PDT
DTSTART:20230312T100000
END:DAYLIGHT
BEGIN:STANDARD
TZOFFSETFROM:-0700
TZOFFSETTO:-0800
TZNAME:PST
DTSTART:20231105T090000
END:STANDARD
BEGIN:DAYLIGHT
TZOFFSETFROM:-0800
TZOFFSETTO:-0700
TZNAME:PDT
DTSTART:20240310T100000
END:DAYLIGHT
BEGIN:STANDARD
TZOFFSETFROM:-0700
TZOFFSETTO:-0800
TZNAME:PST
DTSTART:20241103T090000
END:STANDARD
BEGIN:DAYLIGHT
TZOFFSETFROM:-0800
TZOFFSETTO:-0700
TZNAME:PDT
DTSTART:20250309T100000
END:DAYLIGHT
BEGIN:STANDARD
TZOFFSETFROM:-0700
TZOFFSETTO:-0800
TZNAME:PST
DTSTART:20251102T090000
END:STANDARD
END:VTIMEZONE
BEGIN:VEVENT
DTSTART;TZID=America/Los_Angeles:20240807T110000
DTEND;TZID=America/Los_Angeles:20240807T120000
DTSTAMP:20260423T032043
CREATED:20240731T182730Z
LAST-MODIFIED:20240807T203752Z
UID:10004325-1723028400-1723032000@emmanuelthousandoaks.org
SUMMARY:Kids' Book Club
DESCRIPTION:The Kids’ Book Club meets on Wednesdays from 11am to Noon in the Library! \nJune 19- August 14 and the book is The Magician’s Nephew by CS Lewis from the Chronicles of Narnia series. \nThe club meets in the Children’s Library (Room 8) at Emmanuel.
URL:https://emmanuelthousandoaks.org/event/kids-book-club-2/2024-08-07/
LOCATION:Room 8 Children’s Library\, 538 Camino Manzanas\, Thousand Oaks
CATEGORIES:Elementary
ATTACH;FMTTYPE=image/png:https://emmanuelthousandoaks.org/wp-content/uploads/2024/07/Book-Club-revised.png
ORGANIZER;CN="Kelly Bagdanov":MAILTO:kbagdanov@gmail.com
GEO:34.199068;-118.8898509
X-APPLE-STRUCTURED-LOCATION;VALUE=URI;X-ADDRESS=Room 8 Children’s Library 538 Camino Manzanas Thousand Oaks;X-APPLE-RADIUS=500;X-TITLE=538 Camino Manzanas:geo:-118.8898509,34.199068
END:VEVENT
BEGIN:VEVENT
DTSTART;TZID=America/Los_Angeles:20230720T100000
DTEND;TZID=America/Los_Angeles:20230720T110000
DTSTAMP:20260423T032043
CREATED:20230716T050710Z
LAST-MODIFIED:20230716T050710Z
UID:10003332-1689847200-1689850800@emmanuelthousandoaks.org
SUMMARY:Story and Craft Day
DESCRIPTION:Bring your kids to a story and craft time in our Church Library\, room 8. Thursday\, 10am\,
URL:https://emmanuelthousandoaks.org/event/story-and-craft-day/
LOCATION:Room 8 Children’s Library\, 538 Camino Manzanas\, Thousand Oaks
CATEGORIES:Early Childhood,Elementary
ORGANIZER;CN="Debbie Barber":MAILTO:debbie@emmanuelto.org
GEO:34.199068;-118.8898509
X-APPLE-STRUCTURED-LOCATION;VALUE=URI;X-ADDRESS=Room 8 Children’s Library 538 Camino Manzanas Thousand Oaks;X-APPLE-RADIUS=500;X-TITLE=538 Camino Manzanas:geo:-118.8898509,34.199068
END:VEVENT
BEGIN:VEVENT
DTSTART;TZID=America/Los_Angeles:20230629T100000
DTEND;TZID=America/Los_Angeles:20230629T110000
DTSTAMP:20260423T032043
CREATED:20230626T221529Z
LAST-MODIFIED:20230626T221529Z
UID:10003326-1688032800-1688036400@emmanuelthousandoaks.org
SUMMARY:Story Time
DESCRIPTION:Storytime 6/29 @10am Children’s Library
URL:https://emmanuelthousandoaks.org/event/story-time/
LOCATION:Room 8 Children’s Library\, 538 Camino Manzanas\, Thousand Oaks
CATEGORIES:Early Childhood,Elementary
ORGANIZER;CN="Debbie Barber":MAILTO:debbie@emmanuelto.org
GEO:34.199068;-118.8898509
X-APPLE-STRUCTURED-LOCATION;VALUE=URI;X-ADDRESS=Room 8 Children’s Library 538 Camino Manzanas Thousand Oaks;X-APPLE-RADIUS=500;X-TITLE=538 Camino Manzanas:geo:-118.8898509,34.199068
END:VEVENT
END:VCALENDAR