BEGIN:VCALENDAR
VERSION:2.0
PRODID:-//Emmanuel Presbyterian Church - ECPv6.15.20//NONSGML v1.0//EN
CALSCALE:GREGORIAN
METHOD:PUBLISH
X-WR-CALNAME:Emmanuel Presbyterian Church
X-ORIGINAL-URL:https://emmanuelthousandoaks.org
X-WR-CALDESC:Events for Emmanuel Presbyterian Church
REFRESH-INTERVAL;VALUE=DURATION:PT1H
X-Robots-Tag:noindex
X-PUBLISHED-TTL:PT1H
BEGIN:VTIMEZONE
TZID:America/Los_Angeles
BEGIN:DAYLIGHT
TZOFFSETFROM:-0800
TZOFFSETTO:-0700
TZNAME:PDT
DTSTART:20250309T100000
END:DAYLIGHT
BEGIN:STANDARD
TZOFFSETFROM:-0700
TZOFFSETTO:-0800
TZNAME:PST
DTSTART:20251102T090000
END:STANDARD
BEGIN:DAYLIGHT
TZOFFSETFROM:-0800
TZOFFSETTO:-0700
TZNAME:PDT
DTSTART:20260308T100000
END:DAYLIGHT
BEGIN:STANDARD
TZOFFSETFROM:-0700
TZOFFSETTO:-0800
TZNAME:PST
DTSTART:20261101T090000
END:STANDARD
BEGIN:DAYLIGHT
TZOFFSETFROM:-0800
TZOFFSETTO:-0700
TZNAME:PDT
DTSTART:20270314T100000
END:DAYLIGHT
BEGIN:STANDARD
TZOFFSETFROM:-0700
TZOFFSETTO:-0800
TZNAME:PST
DTSTART:20271107T090000
END:STANDARD
END:VTIMEZONE
BEGIN:VEVENT
DTSTART;TZID=America/Los_Angeles:20260426T100000
DTEND;TZID=America/Los_Angeles:20260426T110000
DTSTAMP:20260422T200955
CREATED:20230212T061321Z
LAST-MODIFIED:20250722T204006Z
UID:10003836-1777197600-1777201200@emmanuelthousandoaks.org
SUMMARY:Worship
DESCRIPTION:Worship in the Sanctuary begins at 10am. \nLivestream available here: Emmanuel Live Stream\nNEW! Access the Online Church Bulletin \nLink to our Online Giving Page
URL:https://emmanuelthousandoaks.org/event/worship/2026-04-26/
LOCATION:Sanctuary\, 538 Camino Manzanas\, Thousand Oaks\, CA\, 91360
CATEGORIES:Adult
ATTACH;FMTTYPE=image/jpeg:https://emmanuelthousandoaks.org/wp-content/uploads/2023/02/Emmanuel-line-drawing-1280-x-720.jpg
ORGANIZER;CN="David Anderson":MAILTO:david@emmanuelto.org
GEO:34.199062;-118.8898478
X-APPLE-STRUCTURED-LOCATION;VALUE=URI;X-ADDRESS=Sanctuary 538 Camino Manzanas Thousand Oaks CA 91360;X-APPLE-RADIUS=500;X-TITLE=538 Camino Manzanas:geo:-118.8898478,34.199062
END:VEVENT
END:VCALENDAR