BEGIN:VCALENDAR
VERSION:2.0
PRODID:-//Emmanuel Presbyterian Church - ECPv6.15.20//NONSGML v1.0//EN
CALSCALE:GREGORIAN
METHOD:PUBLISH
X-WR-CALNAME:Emmanuel Presbyterian Church
X-ORIGINAL-URL:https://emmanuelthousandoaks.org
X-WR-CALDESC:Events for Emmanuel Presbyterian Church
REFRESH-INTERVAL;VALUE=DURATION:PT1H
X-Robots-Tag:noindex
X-PUBLISHED-TTL:PT1H
BEGIN:VTIMEZONE
TZID:America/Los_Angeles
BEGIN:DAYLIGHT
TZOFFSETFROM:-0800
TZOFFSETTO:-0700
TZNAME:PDT
DTSTART:20220313T100000
END:DAYLIGHT
BEGIN:STANDARD
TZOFFSETFROM:-0700
TZOFFSETTO:-0800
TZNAME:PST
DTSTART:20221106T090000
END:STANDARD
BEGIN:DAYLIGHT
TZOFFSETFROM:-0800
TZOFFSETTO:-0700
TZNAME:PDT
DTSTART:20230312T100000
END:DAYLIGHT
BEGIN:STANDARD
TZOFFSETFROM:-0700
TZOFFSETTO:-0800
TZNAME:PST
DTSTART:20231105T090000
END:STANDARD
BEGIN:DAYLIGHT
TZOFFSETFROM:-0800
TZOFFSETTO:-0700
TZNAME:PDT
DTSTART:20240310T100000
END:DAYLIGHT
BEGIN:STANDARD
TZOFFSETFROM:-0700
TZOFFSETTO:-0800
TZNAME:PST
DTSTART:20241103T090000
END:STANDARD
END:VTIMEZONE
BEGIN:VEVENT
DTSTART;TZID=America/Los_Angeles:20230608T190000
DTEND;TZID=America/Los_Angeles:20230608T210000
DTSTAMP:20260423T065354
CREATED:20230605T011837Z
LAST-MODIFIED:20230605T014628Z
UID:10003323-1686250800-1686258000@emmanuelthousandoaks.org
SUMMARY:Women's Night Out
DESCRIPTION:Meet at the Wine Closet in Camarillo on June 8 (this Thursday) at 7pm. \n(2423 Ventura Blvd\, Camarillo\, CA 93010) \nNO need to RSVP – no obligations or asks – this is not a recruiting effort\, just a quiet night out with other women. See you at the Wine Closet!
URL:https://emmanuelthousandoaks.org/event/womens-night-out/
LOCATION:The Wine Closet\, 2423 Ventura Blvd\, Camarillo\, CA\, 93010\, United States
GEO:34.2165681;-119.037503
X-APPLE-STRUCTURED-LOCATION;VALUE=URI;X-ADDRESS=The Wine Closet 2423 Ventura Blvd Camarillo CA 93010 United States;X-APPLE-RADIUS=500;X-TITLE=2423 Ventura Blvd:geo:-119.037503,34.2165681
END:VEVENT
END:VCALENDAR