BEGIN:VCALENDAR
VERSION:2.0
PRODID:-//Emmanuel Presbyterian Church - ECPv6.15.20//NONSGML v1.0//EN
CALSCALE:GREGORIAN
METHOD:PUBLISH
X-ORIGINAL-URL:https://emmanuelthousandoaks.org
X-WR-CALDESC:Events for Emmanuel Presbyterian Church
REFRESH-INTERVAL;VALUE=DURATION:PT1H
X-Robots-Tag:noindex
X-PUBLISHED-TTL:PT1H
BEGIN:VTIMEZONE
TZID:America/Los_Angeles
BEGIN:DAYLIGHT
TZOFFSETFROM:-0800
TZOFFSETTO:-0700
TZNAME:PDT
DTSTART:20220313T100000
END:DAYLIGHT
BEGIN:STANDARD
TZOFFSETFROM:-0700
TZOFFSETTO:-0800
TZNAME:PST
DTSTART:20221106T090000
END:STANDARD
BEGIN:DAYLIGHT
TZOFFSETFROM:-0800
TZOFFSETTO:-0700
TZNAME:PDT
DTSTART:20230312T100000
END:DAYLIGHT
BEGIN:STANDARD
TZOFFSETFROM:-0700
TZOFFSETTO:-0800
TZNAME:PST
DTSTART:20231105T090000
END:STANDARD
BEGIN:DAYLIGHT
TZOFFSETFROM:-0800
TZOFFSETTO:-0700
TZNAME:PDT
DTSTART:20240310T100000
END:DAYLIGHT
BEGIN:STANDARD
TZOFFSETFROM:-0700
TZOFFSETTO:-0800
TZNAME:PST
DTSTART:20241103T090000
END:STANDARD
END:VTIMEZONE
BEGIN:VEVENT
DTSTART;TZID=America/Los_Angeles:20230722T100000
DTEND;TZID=America/Los_Angeles:20230722T170000
DTSTAMP:20260423T050522
CREATED:20230716T050829Z
LAST-MODIFIED:20230716T050829Z
UID:10003333-1690020000-1690045200@emmanuelthousandoaks.org
SUMMARY:Beach Day
DESCRIPTION:It’s heating up! \nFind us at the beach on Saturday! 10am to whenever. \nVentura Harbor Cove Beach
URL:https://emmanuelthousandoaks.org/event/beach-day-2/
LOCATION:Ventura Harbor Cove Beach\, 1878-1998 Spinnaker Dr\,\, Ventura\, CA\, 93001\, United States
GEO:34.2478625;-119.2668097
X-APPLE-STRUCTURED-LOCATION;VALUE=URI;X-ADDRESS=Ventura Harbor Cove Beach 1878-1998 Spinnaker Dr Ventura CA 93001 United States;X-APPLE-RADIUS=500;X-TITLE=1878-1998 Spinnaker Dr\,:geo:-119.2668097,34.2478625
END:VEVENT
BEGIN:VEVENT
DTSTART;TZID=America/Los_Angeles:20230701T100000
DTEND;TZID=America/Los_Angeles:20230701T170000
DTSTAMP:20260423T050522
CREATED:20230626T222030Z
LAST-MODIFIED:20230626T222758Z
UID:10003327-1688205600-1688230800@emmanuelthousandoaks.org
SUMMARY:Beach Day
DESCRIPTION:Meet at Ventura Harbor Cove Beach for a fun beach day. Just like the picnics\, the beauty of these get togethers is the casual nature – come with your own stuff: food\, snacks\, drinks\, towels\, kids\, sunscreen etc. Stay as long or as little as you like. 
URL:https://emmanuelthousandoaks.org/event/beach-day/
LOCATION:Ventura Harbor Cove Beach\, 1878-1998 Spinnaker Dr\,\, Ventura\, CA\, 93001\, United States
GEO:34.2478625;-119.2668097
X-APPLE-STRUCTURED-LOCATION;VALUE=URI;X-ADDRESS=Ventura Harbor Cove Beach 1878-1998 Spinnaker Dr Ventura CA 93001 United States;X-APPLE-RADIUS=500;X-TITLE=1878-1998 Spinnaker Dr\,:geo:-119.2668097,34.2478625
END:VEVENT
END:VCALENDAR